BEGIN:VCALENDAR
VERSION:2.0
PRODID:-//Arizona Senior Guide - ECPv6.15.20//NONSGML v1.0//EN
CALSCALE:GREGORIAN
METHOD:PUBLISH
X-WR-CALNAME:Arizona Senior Guide
X-ORIGINAL-URL:https://arizonaseniorguide.com
X-WR-CALDESC:Events for Arizona Senior Guide
REFRESH-INTERVAL;VALUE=DURATION:PT1H
X-Robots-Tag:noindex
X-PUBLISHED-TTL:PT1H
BEGIN:VTIMEZONE
TZID:America/Phoenix
BEGIN:STANDARD
TZOFFSETFROM:-0700
TZOFFSETTO:-0700
TZNAME:MST
DTSTART:20240101T000000
END:STANDARD
END:VTIMEZONE
BEGIN:VEVENT
DTSTART;TZID=America/Phoenix:20251202T153000
DTEND;TZID=America/Phoenix:20251202T163000
DTSTAMP:20260423T020802
CREATED:20250411T193543Z
LAST-MODIFIED:20250908T191858Z
UID:10010901-1764689400-1764693000@arizonaseniorguide.com
SUMMARY:Mindfulness Meditation and More (Green Valley)
DESCRIPTION:Learn to be present during meditation and all other aspects of your life to enhance your health and well being. \nMindfulness is paying attention on purpose to the present moment. It is a learnable set of skills that can be cultivated over time. \nFind out how practicing mindfulness can benefit your mind\, your body and your relationships. \nLed by community volunteers. \nTuesdays 3:30-4:30pm\nat Joyner-Green Valley Library
URL:https://arizonaseniorguide.com/event/mindfulness-meditation-and-more-green-valley/2025-12-02/
LOCATION:Joyner-Green Valley Library\, 601 N. La Canada Dr.\, Green Valley\, AZ\, 85614
CATEGORIES:Classes,Fitness,Free Event,Green Valley,Tucson
ATTACH;FMTTYPE=image/png:https://arizonaseniorguide.com/wp-content/uploads/2025/04/Mindfulness-Meditation-and-More.png
END:VEVENT
BEGIN:VEVENT
DTSTART;TZID=America/Phoenix:20251206T100000
DTEND;TZID=America/Phoenix:20251206T150000
DTSTAMP:20260423T020802
CREATED:20250908T203104Z
LAST-MODIFIED:20250908T203104Z
UID:10011800-1765015200-1765033200@arizonaseniorguide.com
SUMMARY:St Philip's Plaza Weekend Market
DESCRIPTION:Tucson’s most iconic weekly open air market. We focus on uniquely Tucson local artists\, makers\, creators\, and food businesses. Come wander under the towering Sycamores along winding cobblestone and enjoy scenic landscaping and beautiful fountains. \nThis is a fun market especially for finding unique gifts (jewelry\, clothing\, pottery and more). At least two coffee shops (with pastries/breakfast) and other foods and produce available for purchasing. The plaza is especially pretty with a fountain and shady trees around. \nSaturdays & Sundays\nOctober – April: 10 am – 3 pm  \nSummer hours:\nSaturdays & Sundays\nMay – September: 8 am – 12 pm
URL:https://arizonaseniorguide.com/event/st-philips-plaza-weekend-market/2025-12-06/
LOCATION:St Philips Plaza\, 4280 N Campbell Blvd\, Tucson\, AZ\, 85718
CATEGORIES:Tucson
ATTACH;FMTTYPE=image/png:https://arizonaseniorguide.com/wp-content/uploads/2025/09/St-Philips-Plaza-market.png
END:VEVENT
BEGIN:VEVENT
DTSTART;TZID=America/Phoenix:20251206T180000
DTEND;TZID=America/Phoenix:20251206T200000
DTSTAMP:20260423T020802
CREATED:20250819T000242Z
LAST-MODIFIED:20250819T000242Z
UID:10011506-1765044000-1765051200@arizonaseniorguide.com
SUMMARY:Movies on the Lawn: Elf
DESCRIPTION:Join the Oro Valley Community & Recreation Center for a fun night out with family and friends for a movie under the stars. The movies will begin shortly after sundown and will be hosted on the backside of the facility near the golf driving range. This is a free community event. \nDecember 6\, 6:00 pm – Elf \nFree
URL:https://arizonaseniorguide.com/event/movies-on-the-lawn-elf/
LOCATION:Oro Valley Community & Recreation Center\, 10555 N La Canada Dr\, Oro Valley\, AZ\, 85737
CATEGORIES:Free Event,Holiday,Oro Valley,Tucson
ATTACH;FMTTYPE=image/jpeg:https://arizonaseniorguide.com/wp-content/uploads/2025/08/movie-on-the-lawn.jpg
END:VEVENT
BEGIN:VEVENT
DTSTART;TZID=America/Phoenix:20251207T090000
DTEND;TZID=America/Phoenix:20251207T130000
DTSTAMP:20260423T020802
CREATED:20250908T190541Z
LAST-MODIFIED:20250908T191002Z
UID:10011609-1765098000-1765112400@arizonaseniorguide.com
SUMMARY:Rillito Park Farmers Market (Heirloom Farmers Market)
DESCRIPTION:Tucson’s largest year-round farmers market is located in the Southeast corner of Rillito Park\, along the bike trail known as The Loop. The weekly Sunday Rillito Park Farmers Market hosts farmers\, ranchers and artisan food purveyors featuring local produce and fresh cuisine. Four pavilions provide shade for a 5\,000 square foot shopping area\, and along with the center entertainment circle\, host a variety of small businesses. This market offers quarterly chef demonstrations\, seasonal food festivals\, bicycle-friendly events\, and local live music. \nOPEN EVERY SUNDAY\n8AM – 12PM (APR – SEP)\n9AM – 1PM (OCT– MAR) \nRillito Park Farmers Market Food Pavilion is located off of 1st Ave. and River Rd.\, on the southeast side of the Rillito Park Racetrack’s parking lot. The pavilion is accessible and has restrooms on site. \nPlease note that no dogs or pets of any kind (even those in arms) are allowed at this farmer’s market.
URL:https://arizonaseniorguide.com/event/rillito-park-farmers-market-heirloom-farmers-market-2-3/2025-12-07/
LOCATION:Rillito Park Racetrack\, 4502 N 1st Avenue\, Tucson\, 85719
CATEGORIES:Free Event,Tucson
ATTACH;FMTTYPE=image/webp:https://arizonaseniorguide.com/wp-content/uploads/2023/08/Heirloom-Farmers-Market.webp
END:VEVENT
BEGIN:VEVENT
DTSTART;TZID=America/Phoenix:20251207T100000
DTEND;TZID=America/Phoenix:20251207T150000
DTSTAMP:20260423T020802
CREATED:20250908T203104Z
LAST-MODIFIED:20250908T203104Z
UID:10011801-1765101600-1765119600@arizonaseniorguide.com
SUMMARY:St Philip's Plaza Weekend Market
DESCRIPTION:Tucson’s most iconic weekly open air market. We focus on uniquely Tucson local artists\, makers\, creators\, and food businesses. Come wander under the towering Sycamores along winding cobblestone and enjoy scenic landscaping and beautiful fountains. \nThis is a fun market especially for finding unique gifts (jewelry\, clothing\, pottery and more). At least two coffee shops (with pastries/breakfast) and other foods and produce available for purchasing. The plaza is especially pretty with a fountain and shady trees around. \nSaturdays & Sundays\nOctober – April: 10 am – 3 pm  \nSummer hours:\nSaturdays & Sundays\nMay – September: 8 am – 12 pm
URL:https://arizonaseniorguide.com/event/st-philips-plaza-weekend-market/2025-12-07/
LOCATION:St Philips Plaza\, 4280 N Campbell Blvd\, Tucson\, AZ\, 85718
CATEGORIES:Tucson
ATTACH;FMTTYPE=image/png:https://arizonaseniorguide.com/wp-content/uploads/2025/09/St-Philips-Plaza-market.png
END:VEVENT
BEGIN:VEVENT
DTSTART;TZID=America/Phoenix:20251209T070000
DTEND;TZID=America/Phoenix:20251209T200000
DTSTAMP:20260423T020802
CREATED:20250906T011309Z
LAST-MODIFIED:20250906T011309Z
UID:10011592-1765263600-1765310400@arizonaseniorguide.com
SUMMARY:Community Day at Desert Botanical Garden (free 2nd Tuesdays)
DESCRIPTION:Enjoy free admission to the Phoenix Desert Botanical Garden on the second Tuesday of each month\, known as “Community Day.” \n*General Admission does not include special ticketed events or exhibitions.
URL:https://arizonaseniorguide.com/event/community-day-at-desert-botanical-garden-free-2nd-tuesdays/2025-12-09/
LOCATION:Desert Botanical Garden\, 1201 N. Galvin Parkway\, Phoenix\, AZ\, 85008
CATEGORIES:Free Event,Phoenix
ATTACH;FMTTYPE=image/png:https://arizonaseniorguide.com/wp-content/uploads/2025/09/Desert-Botanical-Gardens-Community-Day.png
GEO:33.4620645;-111.9451229
X-APPLE-STRUCTURED-LOCATION;VALUE=URI;X-ADDRESS=Desert Botanical Garden 1201 N. Galvin Parkway Phoenix AZ 85008;X-APPLE-RADIUS=500;X-TITLE=1201 N. Galvin Parkway:geo:-111.9451229,33.4620645
END:VEVENT
BEGIN:VEVENT
DTSTART;TZID=America/Phoenix:20251209T153000
DTEND;TZID=America/Phoenix:20251209T163000
DTSTAMP:20260423T020802
CREATED:20250411T193543Z
LAST-MODIFIED:20250908T191858Z
UID:10010902-1765294200-1765297800@arizonaseniorguide.com
SUMMARY:Mindfulness Meditation and More (Green Valley)
DESCRIPTION:Learn to be present during meditation and all other aspects of your life to enhance your health and well being. \nMindfulness is paying attention on purpose to the present moment. It is a learnable set of skills that can be cultivated over time. \nFind out how practicing mindfulness can benefit your mind\, your body and your relationships. \nLed by community volunteers. \nTuesdays 3:30-4:30pm\nat Joyner-Green Valley Library
URL:https://arizonaseniorguide.com/event/mindfulness-meditation-and-more-green-valley/2025-12-09/
LOCATION:Joyner-Green Valley Library\, 601 N. La Canada Dr.\, Green Valley\, AZ\, 85614
CATEGORIES:Classes,Fitness,Free Event,Green Valley,Tucson
ATTACH;FMTTYPE=image/png:https://arizonaseniorguide.com/wp-content/uploads/2025/04/Mindfulness-Meditation-and-More.png
END:VEVENT
BEGIN:VEVENT
DTSTART;TZID=America/Phoenix:20251213T100000
DTEND;TZID=America/Phoenix:20251213T150000
DTSTAMP:20260423T020802
CREATED:20250908T203104Z
LAST-MODIFIED:20250908T203104Z
UID:10011802-1765620000-1765638000@arizonaseniorguide.com
SUMMARY:St Philip's Plaza Weekend Market
DESCRIPTION:Tucson’s most iconic weekly open air market. We focus on uniquely Tucson local artists\, makers\, creators\, and food businesses. Come wander under the towering Sycamores along winding cobblestone and enjoy scenic landscaping and beautiful fountains. \nThis is a fun market especially for finding unique gifts (jewelry\, clothing\, pottery and more). At least two coffee shops (with pastries/breakfast) and other foods and produce available for purchasing. The plaza is especially pretty with a fountain and shady trees around. \nSaturdays & Sundays\nOctober – April: 10 am – 3 pm  \nSummer hours:\nSaturdays & Sundays\nMay – September: 8 am – 12 pm
URL:https://arizonaseniorguide.com/event/st-philips-plaza-weekend-market/2025-12-13/
LOCATION:St Philips Plaza\, 4280 N Campbell Blvd\, Tucson\, AZ\, 85718
CATEGORIES:Tucson
ATTACH;FMTTYPE=image/png:https://arizonaseniorguide.com/wp-content/uploads/2025/09/St-Philips-Plaza-market.png
END:VEVENT
BEGIN:VEVENT
DTSTART;TZID=America/Phoenix:20251214T090000
DTEND;TZID=America/Phoenix:20251214T130000
DTSTAMP:20260423T020802
CREATED:20250908T190541Z
LAST-MODIFIED:20250908T191002Z
UID:10011610-1765702800-1765717200@arizonaseniorguide.com
SUMMARY:Rillito Park Farmers Market (Heirloom Farmers Market)
DESCRIPTION:Tucson’s largest year-round farmers market is located in the Southeast corner of Rillito Park\, along the bike trail known as The Loop. The weekly Sunday Rillito Park Farmers Market hosts farmers\, ranchers and artisan food purveyors featuring local produce and fresh cuisine. Four pavilions provide shade for a 5\,000 square foot shopping area\, and along with the center entertainment circle\, host a variety of small businesses. This market offers quarterly chef demonstrations\, seasonal food festivals\, bicycle-friendly events\, and local live music. \nOPEN EVERY SUNDAY\n8AM – 12PM (APR – SEP)\n9AM – 1PM (OCT– MAR) \nRillito Park Farmers Market Food Pavilion is located off of 1st Ave. and River Rd.\, on the southeast side of the Rillito Park Racetrack’s parking lot. The pavilion is accessible and has restrooms on site. \nPlease note that no dogs or pets of any kind (even those in arms) are allowed at this farmer’s market.
URL:https://arizonaseniorguide.com/event/rillito-park-farmers-market-heirloom-farmers-market-2-3/2025-12-14/
LOCATION:Rillito Park Racetrack\, 4502 N 1st Avenue\, Tucson\, 85719
CATEGORIES:Free Event,Tucson
ATTACH;FMTTYPE=image/webp:https://arizonaseniorguide.com/wp-content/uploads/2023/08/Heirloom-Farmers-Market.webp
END:VEVENT
BEGIN:VEVENT
DTSTART;TZID=America/Phoenix:20251214T100000
DTEND;TZID=America/Phoenix:20251214T150000
DTSTAMP:20260423T020802
CREATED:20250908T203104Z
LAST-MODIFIED:20250908T203104Z
UID:10011803-1765706400-1765724400@arizonaseniorguide.com
SUMMARY:St Philip's Plaza Weekend Market
DESCRIPTION:Tucson’s most iconic weekly open air market. We focus on uniquely Tucson local artists\, makers\, creators\, and food businesses. Come wander under the towering Sycamores along winding cobblestone and enjoy scenic landscaping and beautiful fountains. \nThis is a fun market especially for finding unique gifts (jewelry\, clothing\, pottery and more). At least two coffee shops (with pastries/breakfast) and other foods and produce available for purchasing. The plaza is especially pretty with a fountain and shady trees around. \nSaturdays & Sundays\nOctober – April: 10 am – 3 pm  \nSummer hours:\nSaturdays & Sundays\nMay – September: 8 am – 12 pm
URL:https://arizonaseniorguide.com/event/st-philips-plaza-weekend-market/2025-12-14/
LOCATION:St Philips Plaza\, 4280 N Campbell Blvd\, Tucson\, AZ\, 85718
CATEGORIES:Tucson
ATTACH;FMTTYPE=image/png:https://arizonaseniorguide.com/wp-content/uploads/2025/09/St-Philips-Plaza-market.png
END:VEVENT
BEGIN:VEVENT
DTSTART;TZID=America/Phoenix:20251216T153000
DTEND;TZID=America/Phoenix:20251216T163000
DTSTAMP:20260423T020802
CREATED:20250411T193543Z
LAST-MODIFIED:20250908T191858Z
UID:10010903-1765899000-1765902600@arizonaseniorguide.com
SUMMARY:Mindfulness Meditation and More (Green Valley)
DESCRIPTION:Learn to be present during meditation and all other aspects of your life to enhance your health and well being. \nMindfulness is paying attention on purpose to the present moment. It is a learnable set of skills that can be cultivated over time. \nFind out how practicing mindfulness can benefit your mind\, your body and your relationships. \nLed by community volunteers. \nTuesdays 3:30-4:30pm\nat Joyner-Green Valley Library
URL:https://arizonaseniorguide.com/event/mindfulness-meditation-and-more-green-valley/2025-12-16/
LOCATION:Joyner-Green Valley Library\, 601 N. La Canada Dr.\, Green Valley\, AZ\, 85614
CATEGORIES:Classes,Fitness,Free Event,Green Valley,Tucson
ATTACH;FMTTYPE=image/png:https://arizonaseniorguide.com/wp-content/uploads/2025/04/Mindfulness-Meditation-and-More.png
END:VEVENT
BEGIN:VEVENT
DTSTART;TZID=America/Phoenix:20251220T100000
DTEND;TZID=America/Phoenix:20251220T150000
DTSTAMP:20260423T020802
CREATED:20250908T203104Z
LAST-MODIFIED:20250908T203104Z
UID:10011804-1766224800-1766242800@arizonaseniorguide.com
SUMMARY:St Philip's Plaza Weekend Market
DESCRIPTION:Tucson’s most iconic weekly open air market. We focus on uniquely Tucson local artists\, makers\, creators\, and food businesses. Come wander under the towering Sycamores along winding cobblestone and enjoy scenic landscaping and beautiful fountains. \nThis is a fun market especially for finding unique gifts (jewelry\, clothing\, pottery and more). At least two coffee shops (with pastries/breakfast) and other foods and produce available for purchasing. The plaza is especially pretty with a fountain and shady trees around. \nSaturdays & Sundays\nOctober – April: 10 am – 3 pm  \nSummer hours:\nSaturdays & Sundays\nMay – September: 8 am – 12 pm
URL:https://arizonaseniorguide.com/event/st-philips-plaza-weekend-market/2025-12-20/
LOCATION:St Philips Plaza\, 4280 N Campbell Blvd\, Tucson\, AZ\, 85718
CATEGORIES:Tucson
ATTACH;FMTTYPE=image/png:https://arizonaseniorguide.com/wp-content/uploads/2025/09/St-Philips-Plaza-market.png
END:VEVENT
BEGIN:VEVENT
DTSTART;TZID=America/Phoenix:20251221T090000
DTEND;TZID=America/Phoenix:20251221T130000
DTSTAMP:20260423T020802
CREATED:20250908T190541Z
LAST-MODIFIED:20250908T191002Z
UID:10011611-1766307600-1766322000@arizonaseniorguide.com
SUMMARY:Rillito Park Farmers Market (Heirloom Farmers Market)
DESCRIPTION:Tucson’s largest year-round farmers market is located in the Southeast corner of Rillito Park\, along the bike trail known as The Loop. The weekly Sunday Rillito Park Farmers Market hosts farmers\, ranchers and artisan food purveyors featuring local produce and fresh cuisine. Four pavilions provide shade for a 5\,000 square foot shopping area\, and along with the center entertainment circle\, host a variety of small businesses. This market offers quarterly chef demonstrations\, seasonal food festivals\, bicycle-friendly events\, and local live music. \nOPEN EVERY SUNDAY\n8AM – 12PM (APR – SEP)\n9AM – 1PM (OCT– MAR) \nRillito Park Farmers Market Food Pavilion is located off of 1st Ave. and River Rd.\, on the southeast side of the Rillito Park Racetrack’s parking lot. The pavilion is accessible and has restrooms on site. \nPlease note that no dogs or pets of any kind (even those in arms) are allowed at this farmer’s market.
URL:https://arizonaseniorguide.com/event/rillito-park-farmers-market-heirloom-farmers-market-2-3/2025-12-21/
LOCATION:Rillito Park Racetrack\, 4502 N 1st Avenue\, Tucson\, 85719
CATEGORIES:Free Event,Tucson
ATTACH;FMTTYPE=image/webp:https://arizonaseniorguide.com/wp-content/uploads/2023/08/Heirloom-Farmers-Market.webp
END:VEVENT
BEGIN:VEVENT
DTSTART;TZID=America/Phoenix:20251221T100000
DTEND;TZID=America/Phoenix:20251221T150000
DTSTAMP:20260423T020802
CREATED:20250908T203104Z
LAST-MODIFIED:20250908T203104Z
UID:10011805-1766311200-1766329200@arizonaseniorguide.com
SUMMARY:St Philip's Plaza Weekend Market
DESCRIPTION:Tucson’s most iconic weekly open air market. We focus on uniquely Tucson local artists\, makers\, creators\, and food businesses. Come wander under the towering Sycamores along winding cobblestone and enjoy scenic landscaping and beautiful fountains. \nThis is a fun market especially for finding unique gifts (jewelry\, clothing\, pottery and more). At least two coffee shops (with pastries/breakfast) and other foods and produce available for purchasing. The plaza is especially pretty with a fountain and shady trees around. \nSaturdays & Sundays\nOctober – April: 10 am – 3 pm  \nSummer hours:\nSaturdays & Sundays\nMay – September: 8 am – 12 pm
URL:https://arizonaseniorguide.com/event/st-philips-plaza-weekend-market/2025-12-21/
LOCATION:St Philips Plaza\, 4280 N Campbell Blvd\, Tucson\, AZ\, 85718
CATEGORIES:Tucson
ATTACH;FMTTYPE=image/png:https://arizonaseniorguide.com/wp-content/uploads/2025/09/St-Philips-Plaza-market.png
END:VEVENT
BEGIN:VEVENT
DTSTART;TZID=America/Phoenix:20251223T153000
DTEND;TZID=America/Phoenix:20251223T163000
DTSTAMP:20260423T020802
CREATED:20250411T193543Z
LAST-MODIFIED:20250908T191858Z
UID:10010904-1766503800-1766507400@arizonaseniorguide.com
SUMMARY:Mindfulness Meditation and More (Green Valley)
DESCRIPTION:Learn to be present during meditation and all other aspects of your life to enhance your health and well being. \nMindfulness is paying attention on purpose to the present moment. It is a learnable set of skills that can be cultivated over time. \nFind out how practicing mindfulness can benefit your mind\, your body and your relationships. \nLed by community volunteers. \nTuesdays 3:30-4:30pm\nat Joyner-Green Valley Library
URL:https://arizonaseniorguide.com/event/mindfulness-meditation-and-more-green-valley/2025-12-23/
LOCATION:Joyner-Green Valley Library\, 601 N. La Canada Dr.\, Green Valley\, AZ\, 85614
CATEGORIES:Classes,Fitness,Free Event,Green Valley,Tucson
ATTACH;FMTTYPE=image/png:https://arizonaseniorguide.com/wp-content/uploads/2025/04/Mindfulness-Meditation-and-More.png
END:VEVENT
BEGIN:VEVENT
DTSTART;TZID=America/Phoenix:20251227T100000
DTEND;TZID=America/Phoenix:20251227T150000
DTSTAMP:20260423T020802
CREATED:20250908T203104Z
LAST-MODIFIED:20250908T203104Z
UID:10011806-1766829600-1766847600@arizonaseniorguide.com
SUMMARY:St Philip's Plaza Weekend Market
DESCRIPTION:Tucson’s most iconic weekly open air market. We focus on uniquely Tucson local artists\, makers\, creators\, and food businesses. Come wander under the towering Sycamores along winding cobblestone and enjoy scenic landscaping and beautiful fountains. \nThis is a fun market especially for finding unique gifts (jewelry\, clothing\, pottery and more). At least two coffee shops (with pastries/breakfast) and other foods and produce available for purchasing. The plaza is especially pretty with a fountain and shady trees around. \nSaturdays & Sundays\nOctober – April: 10 am – 3 pm  \nSummer hours:\nSaturdays & Sundays\nMay – September: 8 am – 12 pm
URL:https://arizonaseniorguide.com/event/st-philips-plaza-weekend-market/2025-12-27/
LOCATION:St Philips Plaza\, 4280 N Campbell Blvd\, Tucson\, AZ\, 85718
CATEGORIES:Tucson
ATTACH;FMTTYPE=image/png:https://arizonaseniorguide.com/wp-content/uploads/2025/09/St-Philips-Plaza-market.png
END:VEVENT
BEGIN:VEVENT
DTSTART;TZID=America/Phoenix:20251228T090000
DTEND;TZID=America/Phoenix:20251228T130000
DTSTAMP:20260423T020802
CREATED:20250908T190541Z
LAST-MODIFIED:20250908T191002Z
UID:10011612-1766912400-1766926800@arizonaseniorguide.com
SUMMARY:Rillito Park Farmers Market (Heirloom Farmers Market)
DESCRIPTION:Tucson’s largest year-round farmers market is located in the Southeast corner of Rillito Park\, along the bike trail known as The Loop. The weekly Sunday Rillito Park Farmers Market hosts farmers\, ranchers and artisan food purveyors featuring local produce and fresh cuisine. Four pavilions provide shade for a 5\,000 square foot shopping area\, and along with the center entertainment circle\, host a variety of small businesses. This market offers quarterly chef demonstrations\, seasonal food festivals\, bicycle-friendly events\, and local live music. \nOPEN EVERY SUNDAY\n8AM – 12PM (APR – SEP)\n9AM – 1PM (OCT– MAR) \nRillito Park Farmers Market Food Pavilion is located off of 1st Ave. and River Rd.\, on the southeast side of the Rillito Park Racetrack’s parking lot. The pavilion is accessible and has restrooms on site. \nPlease note that no dogs or pets of any kind (even those in arms) are allowed at this farmer’s market.
URL:https://arizonaseniorguide.com/event/rillito-park-farmers-market-heirloom-farmers-market-2-3/2025-12-28/
LOCATION:Rillito Park Racetrack\, 4502 N 1st Avenue\, Tucson\, 85719
CATEGORIES:Free Event,Tucson
ATTACH;FMTTYPE=image/webp:https://arizonaseniorguide.com/wp-content/uploads/2023/08/Heirloom-Farmers-Market.webp
END:VEVENT
BEGIN:VEVENT
DTSTART;TZID=America/Phoenix:20251228T100000
DTEND;TZID=America/Phoenix:20251228T150000
DTSTAMP:20260423T020802
CREATED:20250908T203104Z
LAST-MODIFIED:20250908T203104Z
UID:10011807-1766916000-1766934000@arizonaseniorguide.com
SUMMARY:St Philip's Plaza Weekend Market
DESCRIPTION:Tucson’s most iconic weekly open air market. We focus on uniquely Tucson local artists\, makers\, creators\, and food businesses. Come wander under the towering Sycamores along winding cobblestone and enjoy scenic landscaping and beautiful fountains. \nThis is a fun market especially for finding unique gifts (jewelry\, clothing\, pottery and more). At least two coffee shops (with pastries/breakfast) and other foods and produce available for purchasing. The plaza is especially pretty with a fountain and shady trees around. \nSaturdays & Sundays\nOctober – April: 10 am – 3 pm  \nSummer hours:\nSaturdays & Sundays\nMay – September: 8 am – 12 pm
URL:https://arizonaseniorguide.com/event/st-philips-plaza-weekend-market/2025-12-28/
LOCATION:St Philips Plaza\, 4280 N Campbell Blvd\, Tucson\, AZ\, 85718
CATEGORIES:Tucson
ATTACH;FMTTYPE=image/png:https://arizonaseniorguide.com/wp-content/uploads/2025/09/St-Philips-Plaza-market.png
END:VEVENT
BEGIN:VEVENT
DTSTART;TZID=America/Phoenix:20251230T153000
DTEND;TZID=America/Phoenix:20251230T163000
DTSTAMP:20260423T020802
CREATED:20250411T193543Z
LAST-MODIFIED:20250908T191858Z
UID:10010905-1767108600-1767112200@arizonaseniorguide.com
SUMMARY:Mindfulness Meditation and More (Green Valley)
DESCRIPTION:Learn to be present during meditation and all other aspects of your life to enhance your health and well being. \nMindfulness is paying attention on purpose to the present moment. It is a learnable set of skills that can be cultivated over time. \nFind out how practicing mindfulness can benefit your mind\, your body and your relationships. \nLed by community volunteers. \nTuesdays 3:30-4:30pm\nat Joyner-Green Valley Library
URL:https://arizonaseniorguide.com/event/mindfulness-meditation-and-more-green-valley/2025-12-30/
LOCATION:Joyner-Green Valley Library\, 601 N. La Canada Dr.\, Green Valley\, AZ\, 85614
CATEGORIES:Classes,Fitness,Free Event,Green Valley,Tucson
ATTACH;FMTTYPE=image/png:https://arizonaseniorguide.com/wp-content/uploads/2025/04/Mindfulness-Meditation-and-More.png
END:VEVENT
END:VCALENDAR