BEGIN:VCALENDAR
VERSION:2.0
PRODID:-//Arizona Senior Guide - ECPv6.15.20//NONSGML v1.0//EN
CALSCALE:GREGORIAN
METHOD:PUBLISH
X-WR-CALNAME:Arizona Senior Guide
X-ORIGINAL-URL:https://arizonaseniorguide.com
X-WR-CALDESC:Events for Arizona Senior Guide
REFRESH-INTERVAL;VALUE=DURATION:PT1H
X-Robots-Tag:noindex
X-PUBLISHED-TTL:PT1H
BEGIN:VTIMEZONE
TZID:America/Phoenix
BEGIN:STANDARD
TZOFFSETFROM:-0700
TZOFFSETTO:-0700
TZNAME:MST
DTSTART:20240101T000000
END:STANDARD
END:VTIMEZONE
BEGIN:VEVENT
DTSTART;TZID=America/Phoenix:20251101T100000
DTEND;TZID=America/Phoenix:20251101T150000
DTSTAMP:20260423T034727
CREATED:20250908T203104Z
LAST-MODIFIED:20250908T203104Z
UID:10011790-1761991200-1762009200@arizonaseniorguide.com
SUMMARY:St Philip's Plaza Weekend Market
DESCRIPTION:Tucson’s most iconic weekly open air market. We focus on uniquely Tucson local artists\, makers\, creators\, and food businesses. Come wander under the towering Sycamores along winding cobblestone and enjoy scenic landscaping and beautiful fountains. \nThis is a fun market especially for finding unique gifts (jewelry\, clothing\, pottery and more). At least two coffee shops (with pastries/breakfast) and other foods and produce available for purchasing. The plaza is especially pretty with a fountain and shady trees around. \nSaturdays & Sundays\nOctober – April: 10 am – 3 pm  \nSummer hours:\nSaturdays & Sundays\nMay – September: 8 am – 12 pm
URL:https://arizonaseniorguide.com/event/st-philips-plaza-weekend-market/2025-11-01/
LOCATION:St Philips Plaza\, 4280 N Campbell Blvd\, Tucson\, AZ\, 85718
CATEGORIES:Tucson
ATTACH;FMTTYPE=image/png:https://arizonaseniorguide.com/wp-content/uploads/2025/09/St-Philips-Plaza-market.png
END:VEVENT
BEGIN:VEVENT
DTSTART;TZID=America/Phoenix:20251102T090000
DTEND;TZID=America/Phoenix:20251102T130000
DTSTAMP:20260423T034727
CREATED:20250908T190541Z
LAST-MODIFIED:20250908T191002Z
UID:10011604-1762074000-1762088400@arizonaseniorguide.com
SUMMARY:Rillito Park Farmers Market (Heirloom Farmers Market)
DESCRIPTION:Tucson’s largest year-round farmers market is located in the Southeast corner of Rillito Park\, along the bike trail known as The Loop. The weekly Sunday Rillito Park Farmers Market hosts farmers\, ranchers and artisan food purveyors featuring local produce and fresh cuisine. Four pavilions provide shade for a 5\,000 square foot shopping area\, and along with the center entertainment circle\, host a variety of small businesses. This market offers quarterly chef demonstrations\, seasonal food festivals\, bicycle-friendly events\, and local live music. \nOPEN EVERY SUNDAY\n8AM – 12PM (APR – SEP)\n9AM – 1PM (OCT– MAR) \nRillito Park Farmers Market Food Pavilion is located off of 1st Ave. and River Rd.\, on the southeast side of the Rillito Park Racetrack’s parking lot. The pavilion is accessible and has restrooms on site. \nPlease note that no dogs or pets of any kind (even those in arms) are allowed at this farmer’s market.
URL:https://arizonaseniorguide.com/event/rillito-park-farmers-market-heirloom-farmers-market-2-3/2025-11-02/
LOCATION:Rillito Park Racetrack\, 4502 N 1st Avenue\, Tucson\, 85719
CATEGORIES:Free Event,Tucson
ATTACH;FMTTYPE=image/webp:https://arizonaseniorguide.com/wp-content/uploads/2023/08/Heirloom-Farmers-Market.webp
END:VEVENT
BEGIN:VEVENT
DTSTART;TZID=America/Phoenix:20251102T100000
DTEND;TZID=America/Phoenix:20251102T150000
DTSTAMP:20260423T034727
CREATED:20250908T203104Z
LAST-MODIFIED:20250908T203104Z
UID:10011791-1762077600-1762095600@arizonaseniorguide.com
SUMMARY:St Philip's Plaza Weekend Market
DESCRIPTION:Tucson’s most iconic weekly open air market. We focus on uniquely Tucson local artists\, makers\, creators\, and food businesses. Come wander under the towering Sycamores along winding cobblestone and enjoy scenic landscaping and beautiful fountains. \nThis is a fun market especially for finding unique gifts (jewelry\, clothing\, pottery and more). At least two coffee shops (with pastries/breakfast) and other foods and produce available for purchasing. The plaza is especially pretty with a fountain and shady trees around. \nSaturdays & Sundays\nOctober – April: 10 am – 3 pm  \nSummer hours:\nSaturdays & Sundays\nMay – September: 8 am – 12 pm
URL:https://arizonaseniorguide.com/event/st-philips-plaza-weekend-market/2025-11-02/
LOCATION:St Philips Plaza\, 4280 N Campbell Blvd\, Tucson\, AZ\, 85718
CATEGORIES:Tucson
ATTACH;FMTTYPE=image/png:https://arizonaseniorguide.com/wp-content/uploads/2025/09/St-Philips-Plaza-market.png
END:VEVENT
BEGIN:VEVENT
DTSTART;TZID=America/Phoenix:20251104T153000
DTEND;TZID=America/Phoenix:20251104T163000
DTSTAMP:20260423T034727
CREATED:20250411T193543Z
LAST-MODIFIED:20250908T191858Z
UID:10010897-1762270200-1762273800@arizonaseniorguide.com
SUMMARY:Mindfulness Meditation and More (Green Valley)
DESCRIPTION:Learn to be present during meditation and all other aspects of your life to enhance your health and well being. \nMindfulness is paying attention on purpose to the present moment. It is a learnable set of skills that can be cultivated over time. \nFind out how practicing mindfulness can benefit your mind\, your body and your relationships. \nLed by community volunteers. \nTuesdays 3:30-4:30pm\nat Joyner-Green Valley Library
URL:https://arizonaseniorguide.com/event/mindfulness-meditation-and-more-green-valley/2025-11-04/
LOCATION:Joyner-Green Valley Library\, 601 N. La Canada Dr.\, Green Valley\, AZ\, 85614
CATEGORIES:Classes,Fitness,Free Event,Green Valley,Tucson
ATTACH;FMTTYPE=image/png:https://arizonaseniorguide.com/wp-content/uploads/2025/04/Mindfulness-Meditation-and-More.png
END:VEVENT
BEGIN:VEVENT
DTSTART;TZID=America/Phoenix:20251108T100000
DTEND;TZID=America/Phoenix:20251108T150000
DTSTAMP:20260423T034727
CREATED:20250908T203104Z
LAST-MODIFIED:20250908T203104Z
UID:10011792-1762596000-1762614000@arizonaseniorguide.com
SUMMARY:St Philip's Plaza Weekend Market
DESCRIPTION:Tucson’s most iconic weekly open air market. We focus on uniquely Tucson local artists\, makers\, creators\, and food businesses. Come wander under the towering Sycamores along winding cobblestone and enjoy scenic landscaping and beautiful fountains. \nThis is a fun market especially for finding unique gifts (jewelry\, clothing\, pottery and more). At least two coffee shops (with pastries/breakfast) and other foods and produce available for purchasing. The plaza is especially pretty with a fountain and shady trees around. \nSaturdays & Sundays\nOctober – April: 10 am – 3 pm  \nSummer hours:\nSaturdays & Sundays\nMay – September: 8 am – 12 pm
URL:https://arizonaseniorguide.com/event/st-philips-plaza-weekend-market/2025-11-08/
LOCATION:St Philips Plaza\, 4280 N Campbell Blvd\, Tucson\, AZ\, 85718
CATEGORIES:Tucson
ATTACH;FMTTYPE=image/png:https://arizonaseniorguide.com/wp-content/uploads/2025/09/St-Philips-Plaza-market.png
END:VEVENT
BEGIN:VEVENT
DTSTART;TZID=America/Phoenix:20251109T090000
DTEND;TZID=America/Phoenix:20251109T130000
DTSTAMP:20260423T034727
CREATED:20250908T190541Z
LAST-MODIFIED:20250908T191002Z
UID:10011605-1762678800-1762693200@arizonaseniorguide.com
SUMMARY:Rillito Park Farmers Market (Heirloom Farmers Market)
DESCRIPTION:Tucson’s largest year-round farmers market is located in the Southeast corner of Rillito Park\, along the bike trail known as The Loop. The weekly Sunday Rillito Park Farmers Market hosts farmers\, ranchers and artisan food purveyors featuring local produce and fresh cuisine. Four pavilions provide shade for a 5\,000 square foot shopping area\, and along with the center entertainment circle\, host a variety of small businesses. This market offers quarterly chef demonstrations\, seasonal food festivals\, bicycle-friendly events\, and local live music. \nOPEN EVERY SUNDAY\n8AM – 12PM (APR – SEP)\n9AM – 1PM (OCT– MAR) \nRillito Park Farmers Market Food Pavilion is located off of 1st Ave. and River Rd.\, on the southeast side of the Rillito Park Racetrack’s parking lot. The pavilion is accessible and has restrooms on site. \nPlease note that no dogs or pets of any kind (even those in arms) are allowed at this farmer’s market.
URL:https://arizonaseniorguide.com/event/rillito-park-farmers-market-heirloom-farmers-market-2-3/2025-11-09/
LOCATION:Rillito Park Racetrack\, 4502 N 1st Avenue\, Tucson\, 85719
CATEGORIES:Free Event,Tucson
ATTACH;FMTTYPE=image/webp:https://arizonaseniorguide.com/wp-content/uploads/2023/08/Heirloom-Farmers-Market.webp
END:VEVENT
BEGIN:VEVENT
DTSTART;TZID=America/Phoenix:20251109T100000
DTEND;TZID=America/Phoenix:20251109T150000
DTSTAMP:20260423T034727
CREATED:20250908T203104Z
LAST-MODIFIED:20250908T203104Z
UID:10011793-1762682400-1762700400@arizonaseniorguide.com
SUMMARY:St Philip's Plaza Weekend Market
DESCRIPTION:Tucson’s most iconic weekly open air market. We focus on uniquely Tucson local artists\, makers\, creators\, and food businesses. Come wander under the towering Sycamores along winding cobblestone and enjoy scenic landscaping and beautiful fountains. \nThis is a fun market especially for finding unique gifts (jewelry\, clothing\, pottery and more). At least two coffee shops (with pastries/breakfast) and other foods and produce available for purchasing. The plaza is especially pretty with a fountain and shady trees around. \nSaturdays & Sundays\nOctober – April: 10 am – 3 pm  \nSummer hours:\nSaturdays & Sundays\nMay – September: 8 am – 12 pm
URL:https://arizonaseniorguide.com/event/st-philips-plaza-weekend-market/2025-11-09/
LOCATION:St Philips Plaza\, 4280 N Campbell Blvd\, Tucson\, AZ\, 85718
CATEGORIES:Tucson
ATTACH;FMTTYPE=image/png:https://arizonaseniorguide.com/wp-content/uploads/2025/09/St-Philips-Plaza-market.png
END:VEVENT
BEGIN:VEVENT
DTSTART;TZID=America/Phoenix:20251111T070000
DTEND;TZID=America/Phoenix:20251111T200000
DTSTAMP:20260423T034727
CREATED:20250906T011309Z
LAST-MODIFIED:20250906T011309Z
UID:10011591-1762844400-1762891200@arizonaseniorguide.com
SUMMARY:Community Day at Desert Botanical Garden (free 2nd Tuesdays)
DESCRIPTION:Enjoy free admission to the Phoenix Desert Botanical Garden on the second Tuesday of each month\, known as “Community Day.” \n*General Admission does not include special ticketed events or exhibitions.
URL:https://arizonaseniorguide.com/event/community-day-at-desert-botanical-garden-free-2nd-tuesdays/2025-11-11/
LOCATION:Desert Botanical Garden\, 1201 N. Galvin Parkway\, Phoenix\, AZ\, 85008
CATEGORIES:Free Event,Phoenix
ATTACH;FMTTYPE=image/png:https://arizonaseniorguide.com/wp-content/uploads/2025/09/Desert-Botanical-Gardens-Community-Day.png
GEO:33.4620645;-111.9451229
X-APPLE-STRUCTURED-LOCATION;VALUE=URI;X-ADDRESS=Desert Botanical Garden 1201 N. Galvin Parkway Phoenix AZ 85008;X-APPLE-RADIUS=500;X-TITLE=1201 N. Galvin Parkway:geo:-111.9451229,33.4620645
END:VEVENT
BEGIN:VEVENT
DTSTART;TZID=America/Phoenix:20251111T153000
DTEND;TZID=America/Phoenix:20251111T163000
DTSTAMP:20260423T034727
CREATED:20250411T193543Z
LAST-MODIFIED:20250908T191858Z
UID:10010898-1762875000-1762878600@arizonaseniorguide.com
SUMMARY:Mindfulness Meditation and More (Green Valley)
DESCRIPTION:Learn to be present during meditation and all other aspects of your life to enhance your health and well being. \nMindfulness is paying attention on purpose to the present moment. It is a learnable set of skills that can be cultivated over time. \nFind out how practicing mindfulness can benefit your mind\, your body and your relationships. \nLed by community volunteers. \nTuesdays 3:30-4:30pm\nat Joyner-Green Valley Library
URL:https://arizonaseniorguide.com/event/mindfulness-meditation-and-more-green-valley/2025-11-11/
LOCATION:Joyner-Green Valley Library\, 601 N. La Canada Dr.\, Green Valley\, AZ\, 85614
CATEGORIES:Classes,Fitness,Free Event,Green Valley,Tucson
ATTACH;FMTTYPE=image/png:https://arizonaseniorguide.com/wp-content/uploads/2025/04/Mindfulness-Meditation-and-More.png
END:VEVENT
BEGIN:VEVENT
DTSTART;TZID=America/Phoenix:20251115T100000
DTEND;TZID=America/Phoenix:20251115T150000
DTSTAMP:20260423T034727
CREATED:20250908T203104Z
LAST-MODIFIED:20250908T203104Z
UID:10011794-1763200800-1763218800@arizonaseniorguide.com
SUMMARY:St Philip's Plaza Weekend Market
DESCRIPTION:Tucson’s most iconic weekly open air market. We focus on uniquely Tucson local artists\, makers\, creators\, and food businesses. Come wander under the towering Sycamores along winding cobblestone and enjoy scenic landscaping and beautiful fountains. \nThis is a fun market especially for finding unique gifts (jewelry\, clothing\, pottery and more). At least two coffee shops (with pastries/breakfast) and other foods and produce available for purchasing. The plaza is especially pretty with a fountain and shady trees around. \nSaturdays & Sundays\nOctober – April: 10 am – 3 pm  \nSummer hours:\nSaturdays & Sundays\nMay – September: 8 am – 12 pm
URL:https://arizonaseniorguide.com/event/st-philips-plaza-weekend-market/2025-11-15/
LOCATION:St Philips Plaza\, 4280 N Campbell Blvd\, Tucson\, AZ\, 85718
CATEGORIES:Tucson
ATTACH;FMTTYPE=image/png:https://arizonaseniorguide.com/wp-content/uploads/2025/09/St-Philips-Plaza-market.png
END:VEVENT
BEGIN:VEVENT
DTSTART;TZID=America/Phoenix:20251116T090000
DTEND;TZID=America/Phoenix:20251116T130000
DTSTAMP:20260423T034727
CREATED:20250908T190541Z
LAST-MODIFIED:20250908T191002Z
UID:10011606-1763283600-1763298000@arizonaseniorguide.com
SUMMARY:Rillito Park Farmers Market (Heirloom Farmers Market)
DESCRIPTION:Tucson’s largest year-round farmers market is located in the Southeast corner of Rillito Park\, along the bike trail known as The Loop. The weekly Sunday Rillito Park Farmers Market hosts farmers\, ranchers and artisan food purveyors featuring local produce and fresh cuisine. Four pavilions provide shade for a 5\,000 square foot shopping area\, and along with the center entertainment circle\, host a variety of small businesses. This market offers quarterly chef demonstrations\, seasonal food festivals\, bicycle-friendly events\, and local live music. \nOPEN EVERY SUNDAY\n8AM – 12PM (APR – SEP)\n9AM – 1PM (OCT– MAR) \nRillito Park Farmers Market Food Pavilion is located off of 1st Ave. and River Rd.\, on the southeast side of the Rillito Park Racetrack’s parking lot. The pavilion is accessible and has restrooms on site. \nPlease note that no dogs or pets of any kind (even those in arms) are allowed at this farmer’s market.
URL:https://arizonaseniorguide.com/event/rillito-park-farmers-market-heirloom-farmers-market-2-3/2025-11-16/
LOCATION:Rillito Park Racetrack\, 4502 N 1st Avenue\, Tucson\, 85719
CATEGORIES:Free Event,Tucson
ATTACH;FMTTYPE=image/webp:https://arizonaseniorguide.com/wp-content/uploads/2023/08/Heirloom-Farmers-Market.webp
END:VEVENT
BEGIN:VEVENT
DTSTART;TZID=America/Phoenix:20251116T100000
DTEND;TZID=America/Phoenix:20251116T150000
DTSTAMP:20260423T034727
CREATED:20250908T203104Z
LAST-MODIFIED:20250908T203104Z
UID:10011795-1763287200-1763305200@arizonaseniorguide.com
SUMMARY:St Philip's Plaza Weekend Market
DESCRIPTION:Tucson’s most iconic weekly open air market. We focus on uniquely Tucson local artists\, makers\, creators\, and food businesses. Come wander under the towering Sycamores along winding cobblestone and enjoy scenic landscaping and beautiful fountains. \nThis is a fun market especially for finding unique gifts (jewelry\, clothing\, pottery and more). At least two coffee shops (with pastries/breakfast) and other foods and produce available for purchasing. The plaza is especially pretty with a fountain and shady trees around. \nSaturdays & Sundays\nOctober – April: 10 am – 3 pm  \nSummer hours:\nSaturdays & Sundays\nMay – September: 8 am – 12 pm
URL:https://arizonaseniorguide.com/event/st-philips-plaza-weekend-market/2025-11-16/
LOCATION:St Philips Plaza\, 4280 N Campbell Blvd\, Tucson\, AZ\, 85718
CATEGORIES:Tucson
ATTACH;FMTTYPE=image/png:https://arizonaseniorguide.com/wp-content/uploads/2025/09/St-Philips-Plaza-market.png
END:VEVENT
BEGIN:VEVENT
DTSTART;TZID=America/Phoenix:20251118T153000
DTEND;TZID=America/Phoenix:20251118T163000
DTSTAMP:20260423T034727
CREATED:20250411T193543Z
LAST-MODIFIED:20250908T191858Z
UID:10010899-1763479800-1763483400@arizonaseniorguide.com
SUMMARY:Mindfulness Meditation and More (Green Valley)
DESCRIPTION:Learn to be present during meditation and all other aspects of your life to enhance your health and well being. \nMindfulness is paying attention on purpose to the present moment. It is a learnable set of skills that can be cultivated over time. \nFind out how practicing mindfulness can benefit your mind\, your body and your relationships. \nLed by community volunteers. \nTuesdays 3:30-4:30pm\nat Joyner-Green Valley Library
URL:https://arizonaseniorguide.com/event/mindfulness-meditation-and-more-green-valley/2025-11-18/
LOCATION:Joyner-Green Valley Library\, 601 N. La Canada Dr.\, Green Valley\, AZ\, 85614
CATEGORIES:Classes,Fitness,Free Event,Green Valley,Tucson
ATTACH;FMTTYPE=image/png:https://arizonaseniorguide.com/wp-content/uploads/2025/04/Mindfulness-Meditation-and-More.png
END:VEVENT
BEGIN:VEVENT
DTSTART;TZID=America/Phoenix:20251122T100000
DTEND;TZID=America/Phoenix:20251122T150000
DTSTAMP:20260423T034727
CREATED:20250908T203104Z
LAST-MODIFIED:20250908T203104Z
UID:10011796-1763805600-1763823600@arizonaseniorguide.com
SUMMARY:St Philip's Plaza Weekend Market
DESCRIPTION:Tucson’s most iconic weekly open air market. We focus on uniquely Tucson local artists\, makers\, creators\, and food businesses. Come wander under the towering Sycamores along winding cobblestone and enjoy scenic landscaping and beautiful fountains. \nThis is a fun market especially for finding unique gifts (jewelry\, clothing\, pottery and more). At least two coffee shops (with pastries/breakfast) and other foods and produce available for purchasing. The plaza is especially pretty with a fountain and shady trees around. \nSaturdays & Sundays\nOctober – April: 10 am – 3 pm  \nSummer hours:\nSaturdays & Sundays\nMay – September: 8 am – 12 pm
URL:https://arizonaseniorguide.com/event/st-philips-plaza-weekend-market/2025-11-22/
LOCATION:St Philips Plaza\, 4280 N Campbell Blvd\, Tucson\, AZ\, 85718
CATEGORIES:Tucson
ATTACH;FMTTYPE=image/png:https://arizonaseniorguide.com/wp-content/uploads/2025/09/St-Philips-Plaza-market.png
END:VEVENT
BEGIN:VEVENT
DTSTART;TZID=America/Phoenix:20251123T090000
DTEND;TZID=America/Phoenix:20251123T130000
DTSTAMP:20260423T034727
CREATED:20250908T190541Z
LAST-MODIFIED:20250908T191002Z
UID:10011607-1763888400-1763902800@arizonaseniorguide.com
SUMMARY:Rillito Park Farmers Market (Heirloom Farmers Market)
DESCRIPTION:Tucson’s largest year-round farmers market is located in the Southeast corner of Rillito Park\, along the bike trail known as The Loop. The weekly Sunday Rillito Park Farmers Market hosts farmers\, ranchers and artisan food purveyors featuring local produce and fresh cuisine. Four pavilions provide shade for a 5\,000 square foot shopping area\, and along with the center entertainment circle\, host a variety of small businesses. This market offers quarterly chef demonstrations\, seasonal food festivals\, bicycle-friendly events\, and local live music. \nOPEN EVERY SUNDAY\n8AM – 12PM (APR – SEP)\n9AM – 1PM (OCT– MAR) \nRillito Park Farmers Market Food Pavilion is located off of 1st Ave. and River Rd.\, on the southeast side of the Rillito Park Racetrack’s parking lot. The pavilion is accessible and has restrooms on site. \nPlease note that no dogs or pets of any kind (even those in arms) are allowed at this farmer’s market.
URL:https://arizonaseniorguide.com/event/rillito-park-farmers-market-heirloom-farmers-market-2-3/2025-11-23/
LOCATION:Rillito Park Racetrack\, 4502 N 1st Avenue\, Tucson\, 85719
CATEGORIES:Free Event,Tucson
ATTACH;FMTTYPE=image/webp:https://arizonaseniorguide.com/wp-content/uploads/2023/08/Heirloom-Farmers-Market.webp
END:VEVENT
BEGIN:VEVENT
DTSTART;TZID=America/Phoenix:20251123T100000
DTEND;TZID=America/Phoenix:20251123T150000
DTSTAMP:20260423T034727
CREATED:20250908T203104Z
LAST-MODIFIED:20250908T203104Z
UID:10011797-1763892000-1763910000@arizonaseniorguide.com
SUMMARY:St Philip's Plaza Weekend Market
DESCRIPTION:Tucson’s most iconic weekly open air market. We focus on uniquely Tucson local artists\, makers\, creators\, and food businesses. Come wander under the towering Sycamores along winding cobblestone and enjoy scenic landscaping and beautiful fountains. \nThis is a fun market especially for finding unique gifts (jewelry\, clothing\, pottery and more). At least two coffee shops (with pastries/breakfast) and other foods and produce available for purchasing. The plaza is especially pretty with a fountain and shady trees around. \nSaturdays & Sundays\nOctober – April: 10 am – 3 pm  \nSummer hours:\nSaturdays & Sundays\nMay – September: 8 am – 12 pm
URL:https://arizonaseniorguide.com/event/st-philips-plaza-weekend-market/2025-11-23/
LOCATION:St Philips Plaza\, 4280 N Campbell Blvd\, Tucson\, AZ\, 85718
CATEGORIES:Tucson
ATTACH;FMTTYPE=image/png:https://arizonaseniorguide.com/wp-content/uploads/2025/09/St-Philips-Plaza-market.png
END:VEVENT
BEGIN:VEVENT
DTSTART;TZID=America/Phoenix:20251125T153000
DTEND;TZID=America/Phoenix:20251125T163000
DTSTAMP:20260423T034727
CREATED:20250411T193543Z
LAST-MODIFIED:20250908T191858Z
UID:10010900-1764084600-1764088200@arizonaseniorguide.com
SUMMARY:Mindfulness Meditation and More (Green Valley)
DESCRIPTION:Learn to be present during meditation and all other aspects of your life to enhance your health and well being. \nMindfulness is paying attention on purpose to the present moment. It is a learnable set of skills that can be cultivated over time. \nFind out how practicing mindfulness can benefit your mind\, your body and your relationships. \nLed by community volunteers. \nTuesdays 3:30-4:30pm\nat Joyner-Green Valley Library
URL:https://arizonaseniorguide.com/event/mindfulness-meditation-and-more-green-valley/2025-11-25/
LOCATION:Joyner-Green Valley Library\, 601 N. La Canada Dr.\, Green Valley\, AZ\, 85614
CATEGORIES:Classes,Fitness,Free Event,Green Valley,Tucson
ATTACH;FMTTYPE=image/png:https://arizonaseniorguide.com/wp-content/uploads/2025/04/Mindfulness-Meditation-and-More.png
END:VEVENT
BEGIN:VEVENT
DTSTART;TZID=America/Phoenix:20251129T100000
DTEND;TZID=America/Phoenix:20251129T150000
DTSTAMP:20260423T034727
CREATED:20250908T203104Z
LAST-MODIFIED:20250908T203104Z
UID:10011798-1764410400-1764428400@arizonaseniorguide.com
SUMMARY:St Philip's Plaza Weekend Market
DESCRIPTION:Tucson’s most iconic weekly open air market. We focus on uniquely Tucson local artists\, makers\, creators\, and food businesses. Come wander under the towering Sycamores along winding cobblestone and enjoy scenic landscaping and beautiful fountains. \nThis is a fun market especially for finding unique gifts (jewelry\, clothing\, pottery and more). At least two coffee shops (with pastries/breakfast) and other foods and produce available for purchasing. The plaza is especially pretty with a fountain and shady trees around. \nSaturdays & Sundays\nOctober – April: 10 am – 3 pm  \nSummer hours:\nSaturdays & Sundays\nMay – September: 8 am – 12 pm
URL:https://arizonaseniorguide.com/event/st-philips-plaza-weekend-market/2025-11-29/
LOCATION:St Philips Plaza\, 4280 N Campbell Blvd\, Tucson\, AZ\, 85718
CATEGORIES:Tucson
ATTACH;FMTTYPE=image/png:https://arizonaseniorguide.com/wp-content/uploads/2025/09/St-Philips-Plaza-market.png
END:VEVENT
BEGIN:VEVENT
DTSTART;TZID=America/Phoenix:20251130T090000
DTEND;TZID=America/Phoenix:20251130T130000
DTSTAMP:20260423T034727
CREATED:20250908T190541Z
LAST-MODIFIED:20250908T191002Z
UID:10011608-1764493200-1764507600@arizonaseniorguide.com
SUMMARY:Rillito Park Farmers Market (Heirloom Farmers Market)
DESCRIPTION:Tucson’s largest year-round farmers market is located in the Southeast corner of Rillito Park\, along the bike trail known as The Loop. The weekly Sunday Rillito Park Farmers Market hosts farmers\, ranchers and artisan food purveyors featuring local produce and fresh cuisine. Four pavilions provide shade for a 5\,000 square foot shopping area\, and along with the center entertainment circle\, host a variety of small businesses. This market offers quarterly chef demonstrations\, seasonal food festivals\, bicycle-friendly events\, and local live music. \nOPEN EVERY SUNDAY\n8AM – 12PM (APR – SEP)\n9AM – 1PM (OCT– MAR) \nRillito Park Farmers Market Food Pavilion is located off of 1st Ave. and River Rd.\, on the southeast side of the Rillito Park Racetrack’s parking lot. The pavilion is accessible and has restrooms on site. \nPlease note that no dogs or pets of any kind (even those in arms) are allowed at this farmer’s market.
URL:https://arizonaseniorguide.com/event/rillito-park-farmers-market-heirloom-farmers-market-2-3/2025-11-30/
LOCATION:Rillito Park Racetrack\, 4502 N 1st Avenue\, Tucson\, 85719
CATEGORIES:Free Event,Tucson
ATTACH;FMTTYPE=image/webp:https://arizonaseniorguide.com/wp-content/uploads/2023/08/Heirloom-Farmers-Market.webp
END:VEVENT
BEGIN:VEVENT
DTSTART;TZID=America/Phoenix:20251130T100000
DTEND;TZID=America/Phoenix:20251130T150000
DTSTAMP:20260423T034727
CREATED:20250908T203104Z
LAST-MODIFIED:20250908T203104Z
UID:10011799-1764496800-1764514800@arizonaseniorguide.com
SUMMARY:St Philip's Plaza Weekend Market
DESCRIPTION:Tucson’s most iconic weekly open air market. We focus on uniquely Tucson local artists\, makers\, creators\, and food businesses. Come wander under the towering Sycamores along winding cobblestone and enjoy scenic landscaping and beautiful fountains. \nThis is a fun market especially for finding unique gifts (jewelry\, clothing\, pottery and more). At least two coffee shops (with pastries/breakfast) and other foods and produce available for purchasing. The plaza is especially pretty with a fountain and shady trees around. \nSaturdays & Sundays\nOctober – April: 10 am – 3 pm  \nSummer hours:\nSaturdays & Sundays\nMay – September: 8 am – 12 pm
URL:https://arizonaseniorguide.com/event/st-philips-plaza-weekend-market/2025-11-30/
LOCATION:St Philips Plaza\, 4280 N Campbell Blvd\, Tucson\, AZ\, 85718
CATEGORIES:Tucson
ATTACH;FMTTYPE=image/png:https://arizonaseniorguide.com/wp-content/uploads/2025/09/St-Philips-Plaza-market.png
END:VEVENT
END:VCALENDAR