BEGIN:VCALENDAR
VERSION:2.0
PRODID:-//Arizona Senior Guide - ECPv6.15.20//NONSGML v1.0//EN
CALSCALE:GREGORIAN
METHOD:PUBLISH
X-WR-CALNAME:Arizona Senior Guide
X-ORIGINAL-URL:https://arizonaseniorguide.com
X-WR-CALDESC:Events for Arizona Senior Guide
REFRESH-INTERVAL;VALUE=DURATION:PT1H
X-Robots-Tag:noindex
X-PUBLISHED-TTL:PT1H
BEGIN:VTIMEZONE
TZID:America/Phoenix
BEGIN:STANDARD
TZOFFSETFROM:-0700
TZOFFSETTO:-0700
TZNAME:MST
DTSTART:20240101T000000
END:STANDARD
END:VTIMEZONE
BEGIN:VEVENT
DTSTART;TZID=America/Phoenix:20250902T153000
DTEND;TZID=America/Phoenix:20250902T163000
DTSTAMP:20260423T065653
CREATED:20250411T193543Z
LAST-MODIFIED:20250908T191858Z
UID:10010888-1756827000-1756830600@arizonaseniorguide.com
SUMMARY:Mindfulness Meditation and More (Green Valley)
DESCRIPTION:Learn to be present during meditation and all other aspects of your life to enhance your health and well being. \nMindfulness is paying attention on purpose to the present moment. It is a learnable set of skills that can be cultivated over time. \nFind out how practicing mindfulness can benefit your mind\, your body and your relationships. \nLed by community volunteers. \nTuesdays 3:30-4:30pm\nat Joyner-Green Valley Library
URL:https://arizonaseniorguide.com/event/mindfulness-meditation-and-more-green-valley/2025-09-02/
LOCATION:Joyner-Green Valley Library\, 601 N. La Canada Dr.\, Green Valley\, AZ\, 85614
CATEGORIES:Classes,Fitness,Free Event,Green Valley,Tucson
ATTACH;FMTTYPE=image/png:https://arizonaseniorguide.com/wp-content/uploads/2025/04/Mindfulness-Meditation-and-More.png
END:VEVENT
BEGIN:VEVENT
DTSTART;TZID=America/Phoenix:20250905T170000
DTEND;TZID=America/Phoenix:20250905T210000
DTSTAMP:20260423T065653
CREATED:20250906T004903Z
LAST-MODIFIED:20250906T004903Z
UID:10011587-1757091600-1757106000@arizonaseniorguide.com
SUMMARY:Free First Friday Night at the Children's Museum of Phoenix
DESCRIPTION:Bring the grandkids and join us on the first Friday of each month from 5pm to 9pm\, when the Children’s Museum of Phoenix opens to the public free of charge. \nFree First Friday Nights are part of the Museum’s Every Child Program\, which seeks to ensure that all children in our community\, along with their families\, will be able to play and learn at the Museum regardless of their ability to pay. \nOur upcoming Free First Friday Nights for 2025 are scheduled for: \nJune 6th\nJuly 4th\nAugust 1st\nSeptember 5th\nOctober 3rd \nFree First Friday Nights at the Children’s Museum of Phoenix would not be possible without the generous support of the Gila River Indian Community.
URL:https://arizonaseniorguide.com/event/free-first-friday-night-at-the-childrens-museum-of-phoenix/2025-09-05/
LOCATION:Children’s Museum of Phoenix\, 215 N. 7th Street\, Phoenix\, AZ\, 85034
CATEGORIES:Free Event,Phoenix
ATTACH;FMTTYPE=image/webp:https://arizonaseniorguide.com/wp-content/uploads/2025/09/Free-First-Friday-PHX-Childrens-Museum.webp
END:VEVENT
BEGIN:VEVENT
DTSTART;TZID=America/Phoenix:20250909T070000
DTEND;TZID=America/Phoenix:20250909T200000
DTSTAMP:20260423T065653
CREATED:20250906T011309Z
LAST-MODIFIED:20250906T011309Z
UID:10011589-1757401200-1757448000@arizonaseniorguide.com
SUMMARY:Community Day at Desert Botanical Garden (free 2nd Tuesdays)
DESCRIPTION:Enjoy free admission to the Phoenix Desert Botanical Garden on the second Tuesday of each month\, known as “Community Day.” \n*General Admission does not include special ticketed events or exhibitions.
URL:https://arizonaseniorguide.com/event/community-day-at-desert-botanical-garden-free-2nd-tuesdays/2025-09-09/
LOCATION:Desert Botanical Garden\, 1201 N. Galvin Parkway\, Phoenix\, AZ\, 85008
CATEGORIES:Free Event,Phoenix
ATTACH;FMTTYPE=image/png:https://arizonaseniorguide.com/wp-content/uploads/2025/09/Desert-Botanical-Gardens-Community-Day.png
GEO:33.4620645;-111.9451229
X-APPLE-STRUCTURED-LOCATION;VALUE=URI;X-ADDRESS=Desert Botanical Garden 1201 N. Galvin Parkway Phoenix AZ 85008;X-APPLE-RADIUS=500;X-TITLE=1201 N. Galvin Parkway:geo:-111.9451229,33.4620645
END:VEVENT
BEGIN:VEVENT
DTSTART;TZID=America/Phoenix:20250909T153000
DTEND;TZID=America/Phoenix:20250909T163000
DTSTAMP:20260423T065653
CREATED:20250411T193543Z
LAST-MODIFIED:20250908T191858Z
UID:10010889-1757431800-1757435400@arizonaseniorguide.com
SUMMARY:Mindfulness Meditation and More (Green Valley)
DESCRIPTION:Learn to be present during meditation and all other aspects of your life to enhance your health and well being. \nMindfulness is paying attention on purpose to the present moment. It is a learnable set of skills that can be cultivated over time. \nFind out how practicing mindfulness can benefit your mind\, your body and your relationships. \nLed by community volunteers. \nTuesdays 3:30-4:30pm\nat Joyner-Green Valley Library
URL:https://arizonaseniorguide.com/event/mindfulness-meditation-and-more-green-valley/2025-09-09/
LOCATION:Joyner-Green Valley Library\, 601 N. La Canada Dr.\, Green Valley\, AZ\, 85614
CATEGORIES:Classes,Fitness,Free Event,Green Valley,Tucson
ATTACH;FMTTYPE=image/png:https://arizonaseniorguide.com/wp-content/uploads/2025/04/Mindfulness-Meditation-and-More.png
END:VEVENT
BEGIN:VEVENT
DTSTART;TZID=America/Phoenix:20250913T080000
DTEND;TZID=America/Phoenix:20250913T120000
DTSTAMP:20260423T065653
CREATED:20250908T203356Z
LAST-MODIFIED:20250908T203356Z
UID:10011902-1757750400-1757764800@arizonaseniorguide.com
SUMMARY:St Philip's Plaza Weekend Market (Summer hours)
DESCRIPTION:Tucson’s most iconic weekly open air market. We focus on uniquely Tucson local artists\, makers\, creators\, and food businesses. Come wander under the towering Sycamores along winding cobblestone and enjoy scenic landscaping and beautiful fountains. \nThis is a fun market especially for finding unique gifts (jewelry\, clothing\, pottery and more). At least two coffee shops (with pastries/breakfast) and other foods and produce available for purchasing. The plaza is especially pretty with a fountain and shady trees around. \nSummer hours:\nSaturdays & Sundays\nMay – September: 8 am – 12 pm \nRegular season hours:\nSaturdays & Sundays\nOctober – April: 10 am – 3 pm
URL:https://arizonaseniorguide.com/event/st-philips-plaza-weekend-market-summer-hours/2025-09-13/
LOCATION:St Philips Plaza\, 4280 N Campbell Blvd\, Tucson\, AZ\, 85718
CATEGORIES:Tucson
ATTACH;FMTTYPE=image/png:https://arizonaseniorguide.com/wp-content/uploads/2025/09/St-Philips-Plaza-market.png
END:VEVENT
BEGIN:VEVENT
DTSTART;TZID=America/Phoenix:20250914T080000
DTEND;TZID=America/Phoenix:20250914T120000
DTSTAMP:20260423T065653
CREATED:20250908T203356Z
LAST-MODIFIED:20250908T203356Z
UID:10011903-1757836800-1757851200@arizonaseniorguide.com
SUMMARY:St Philip's Plaza Weekend Market (Summer hours)
DESCRIPTION:Tucson’s most iconic weekly open air market. We focus on uniquely Tucson local artists\, makers\, creators\, and food businesses. Come wander under the towering Sycamores along winding cobblestone and enjoy scenic landscaping and beautiful fountains. \nThis is a fun market especially for finding unique gifts (jewelry\, clothing\, pottery and more). At least two coffee shops (with pastries/breakfast) and other foods and produce available for purchasing. The plaza is especially pretty with a fountain and shady trees around. \nSummer hours:\nSaturdays & Sundays\nMay – September: 8 am – 12 pm \nRegular season hours:\nSaturdays & Sundays\nOctober – April: 10 am – 3 pm
URL:https://arizonaseniorguide.com/event/st-philips-plaza-weekend-market-summer-hours/2025-09-14/
LOCATION:St Philips Plaza\, 4280 N Campbell Blvd\, Tucson\, AZ\, 85718
CATEGORIES:Tucson
ATTACH;FMTTYPE=image/png:https://arizonaseniorguide.com/wp-content/uploads/2025/09/St-Philips-Plaza-market.png
END:VEVENT
BEGIN:VEVENT
DTSTART;TZID=America/Phoenix:20250916T153000
DTEND;TZID=America/Phoenix:20250916T163000
DTSTAMP:20260423T065653
CREATED:20250411T193543Z
LAST-MODIFIED:20250908T191858Z
UID:10010890-1758036600-1758040200@arizonaseniorguide.com
SUMMARY:Mindfulness Meditation and More (Green Valley)
DESCRIPTION:Learn to be present during meditation and all other aspects of your life to enhance your health and well being. \nMindfulness is paying attention on purpose to the present moment. It is a learnable set of skills that can be cultivated over time. \nFind out how practicing mindfulness can benefit your mind\, your body and your relationships. \nLed by community volunteers. \nTuesdays 3:30-4:30pm\nat Joyner-Green Valley Library
URL:https://arizonaseniorguide.com/event/mindfulness-meditation-and-more-green-valley/2025-09-16/
LOCATION:Joyner-Green Valley Library\, 601 N. La Canada Dr.\, Green Valley\, AZ\, 85614
CATEGORIES:Classes,Fitness,Free Event,Green Valley,Tucson
ATTACH;FMTTYPE=image/png:https://arizonaseniorguide.com/wp-content/uploads/2025/04/Mindfulness-Meditation-and-More.png
END:VEVENT
BEGIN:VEVENT
DTSTART;TZID=America/Phoenix:20250920T080000
DTEND;TZID=America/Phoenix:20250920T120000
DTSTAMP:20260423T065653
CREATED:20250908T203356Z
LAST-MODIFIED:20250908T203356Z
UID:10011904-1758355200-1758369600@arizonaseniorguide.com
SUMMARY:St Philip's Plaza Weekend Market (Summer hours)
DESCRIPTION:Tucson’s most iconic weekly open air market. We focus on uniquely Tucson local artists\, makers\, creators\, and food businesses. Come wander under the towering Sycamores along winding cobblestone and enjoy scenic landscaping and beautiful fountains. \nThis is a fun market especially for finding unique gifts (jewelry\, clothing\, pottery and more). At least two coffee shops (with pastries/breakfast) and other foods and produce available for purchasing. The plaza is especially pretty with a fountain and shady trees around. \nSummer hours:\nSaturdays & Sundays\nMay – September: 8 am – 12 pm \nRegular season hours:\nSaturdays & Sundays\nOctober – April: 10 am – 3 pm
URL:https://arizonaseniorguide.com/event/st-philips-plaza-weekend-market-summer-hours/2025-09-20/
LOCATION:St Philips Plaza\, 4280 N Campbell Blvd\, Tucson\, AZ\, 85718
CATEGORIES:Tucson
ATTACH;FMTTYPE=image/png:https://arizonaseniorguide.com/wp-content/uploads/2025/09/St-Philips-Plaza-market.png
END:VEVENT
BEGIN:VEVENT
DTSTART;TZID=America/Phoenix:20250921T080000
DTEND;TZID=America/Phoenix:20250921T120000
DTSTAMP:20260423T065653
CREATED:20250908T203356Z
LAST-MODIFIED:20250908T203356Z
UID:10011905-1758441600-1758456000@arizonaseniorguide.com
SUMMARY:St Philip's Plaza Weekend Market (Summer hours)
DESCRIPTION:Tucson’s most iconic weekly open air market. We focus on uniquely Tucson local artists\, makers\, creators\, and food businesses. Come wander under the towering Sycamores along winding cobblestone and enjoy scenic landscaping and beautiful fountains. \nThis is a fun market especially for finding unique gifts (jewelry\, clothing\, pottery and more). At least two coffee shops (with pastries/breakfast) and other foods and produce available for purchasing. The plaza is especially pretty with a fountain and shady trees around. \nSummer hours:\nSaturdays & Sundays\nMay – September: 8 am – 12 pm \nRegular season hours:\nSaturdays & Sundays\nOctober – April: 10 am – 3 pm
URL:https://arizonaseniorguide.com/event/st-philips-plaza-weekend-market-summer-hours/2025-09-21/
LOCATION:St Philips Plaza\, 4280 N Campbell Blvd\, Tucson\, AZ\, 85718
CATEGORIES:Tucson
ATTACH;FMTTYPE=image/png:https://arizonaseniorguide.com/wp-content/uploads/2025/09/St-Philips-Plaza-market.png
END:VEVENT
BEGIN:VEVENT
DTSTART;TZID=America/Phoenix:20250923T153000
DTEND;TZID=America/Phoenix:20250923T163000
DTSTAMP:20260423T065653
CREATED:20250411T193543Z
LAST-MODIFIED:20250908T191858Z
UID:10010891-1758641400-1758645000@arizonaseniorguide.com
SUMMARY:Mindfulness Meditation and More (Green Valley)
DESCRIPTION:Learn to be present during meditation and all other aspects of your life to enhance your health and well being. \nMindfulness is paying attention on purpose to the present moment. It is a learnable set of skills that can be cultivated over time. \nFind out how practicing mindfulness can benefit your mind\, your body and your relationships. \nLed by community volunteers. \nTuesdays 3:30-4:30pm\nat Joyner-Green Valley Library
URL:https://arizonaseniorguide.com/event/mindfulness-meditation-and-more-green-valley/2025-09-23/
LOCATION:Joyner-Green Valley Library\, 601 N. La Canada Dr.\, Green Valley\, AZ\, 85614
CATEGORIES:Classes,Fitness,Free Event,Green Valley,Tucson
ATTACH;FMTTYPE=image/png:https://arizonaseniorguide.com/wp-content/uploads/2025/04/Mindfulness-Meditation-and-More.png
END:VEVENT
BEGIN:VEVENT
DTSTART;TZID=America/Phoenix:20250927T080000
DTEND;TZID=America/Phoenix:20250927T120000
DTSTAMP:20260423T065653
CREATED:20250908T203356Z
LAST-MODIFIED:20250908T203356Z
UID:10011906-1758960000-1758974400@arizonaseniorguide.com
SUMMARY:St Philip's Plaza Weekend Market (Summer hours)
DESCRIPTION:Tucson’s most iconic weekly open air market. We focus on uniquely Tucson local artists\, makers\, creators\, and food businesses. Come wander under the towering Sycamores along winding cobblestone and enjoy scenic landscaping and beautiful fountains. \nThis is a fun market especially for finding unique gifts (jewelry\, clothing\, pottery and more). At least two coffee shops (with pastries/breakfast) and other foods and produce available for purchasing. The plaza is especially pretty with a fountain and shady trees around. \nSummer hours:\nSaturdays & Sundays\nMay – September: 8 am – 12 pm \nRegular season hours:\nSaturdays & Sundays\nOctober – April: 10 am – 3 pm
URL:https://arizonaseniorguide.com/event/st-philips-plaza-weekend-market-summer-hours/2025-09-27/
LOCATION:St Philips Plaza\, 4280 N Campbell Blvd\, Tucson\, AZ\, 85718
CATEGORIES:Tucson
ATTACH;FMTTYPE=image/png:https://arizonaseniorguide.com/wp-content/uploads/2025/09/St-Philips-Plaza-market.png
END:VEVENT
BEGIN:VEVENT
DTSTART;TZID=America/Phoenix:20250928T080000
DTEND;TZID=America/Phoenix:20250928T120000
DTSTAMP:20260423T065653
CREATED:20250908T203356Z
LAST-MODIFIED:20250908T203356Z
UID:10011907-1759046400-1759060800@arizonaseniorguide.com
SUMMARY:St Philip's Plaza Weekend Market (Summer hours)
DESCRIPTION:Tucson’s most iconic weekly open air market. We focus on uniquely Tucson local artists\, makers\, creators\, and food businesses. Come wander under the towering Sycamores along winding cobblestone and enjoy scenic landscaping and beautiful fountains. \nThis is a fun market especially for finding unique gifts (jewelry\, clothing\, pottery and more). At least two coffee shops (with pastries/breakfast) and other foods and produce available for purchasing. The plaza is especially pretty with a fountain and shady trees around. \nSummer hours:\nSaturdays & Sundays\nMay – September: 8 am – 12 pm \nRegular season hours:\nSaturdays & Sundays\nOctober – April: 10 am – 3 pm
URL:https://arizonaseniorguide.com/event/st-philips-plaza-weekend-market-summer-hours/2025-09-28/
LOCATION:St Philips Plaza\, 4280 N Campbell Blvd\, Tucson\, AZ\, 85718
CATEGORIES:Tucson
ATTACH;FMTTYPE=image/png:https://arizonaseniorguide.com/wp-content/uploads/2025/09/St-Philips-Plaza-market.png
END:VEVENT
BEGIN:VEVENT
DTSTART;TZID=America/Phoenix:20250930T153000
DTEND;TZID=America/Phoenix:20250930T163000
DTSTAMP:20260423T065653
CREATED:20250411T193543Z
LAST-MODIFIED:20250908T191858Z
UID:10010892-1759246200-1759249800@arizonaseniorguide.com
SUMMARY:Mindfulness Meditation and More (Green Valley)
DESCRIPTION:Learn to be present during meditation and all other aspects of your life to enhance your health and well being. \nMindfulness is paying attention on purpose to the present moment. It is a learnable set of skills that can be cultivated over time. \nFind out how practicing mindfulness can benefit your mind\, your body and your relationships. \nLed by community volunteers. \nTuesdays 3:30-4:30pm\nat Joyner-Green Valley Library
URL:https://arizonaseniorguide.com/event/mindfulness-meditation-and-more-green-valley/2025-09-30/
LOCATION:Joyner-Green Valley Library\, 601 N. La Canada Dr.\, Green Valley\, AZ\, 85614
CATEGORIES:Classes,Fitness,Free Event,Green Valley,Tucson
ATTACH;FMTTYPE=image/png:https://arizonaseniorguide.com/wp-content/uploads/2025/04/Mindfulness-Meditation-and-More.png
END:VEVENT
END:VCALENDAR