BEGIN:VCALENDAR
VERSION:2.0
PRODID:-//Arizona Senior Guide - ECPv6.15.20//NONSGML v1.0//EN
CALSCALE:GREGORIAN
METHOD:PUBLISH
X-WR-CALNAME:Arizona Senior Guide
X-ORIGINAL-URL:https://arizonaseniorguide.com
X-WR-CALDESC:Events for Arizona Senior Guide
REFRESH-INTERVAL;VALUE=DURATION:PT1H
X-Robots-Tag:noindex
X-PUBLISHED-TTL:PT1H
BEGIN:VTIMEZONE
TZID:America/Phoenix
BEGIN:STANDARD
TZOFFSETFROM:-0700
TZOFFSETTO:-0700
TZNAME:MST
DTSTART:20240101T000000
END:STANDARD
END:VTIMEZONE
BEGIN:VEVENT
DTSTART;TZID=America/Phoenix:20250502T110000
DTEND;TZID=America/Phoenix:20250502T120000
DTSTAMP:20260423T132231
CREATED:20250411T185919Z
LAST-MODIFIED:20250411T185919Z
UID:10010859-1746183600-1746187200@arizonaseniorguide.com
SUMMARY:Crafting\, Coloring\, Cookies\, and Conversation
DESCRIPTION:We are providing time and space to craft and socialize! \n\nBring your projects.\nKnit\, crochet\, collage\, draw\, do origami — whatever!\nColoring sheets\, pencils/pens\, origami paper will be provided.\nHave a cookie (on us!).\nMeet other craftsy folks.\nHave a chat!\n\nWe look forward to seeing you! \nFridays 11:00am – 12:00pm\nat Sahuarita Library
URL:https://arizonaseniorguide.com/event/crafting-coloring-cookies-and-conversation/2025-05-02/
LOCATION:Sahuarita Library\, 670 Sahuarita Rd W\, Sahuarita\, AZ\, 85629
CATEGORIES:Free Event,Tucson
ATTACH;FMTTYPE=image/png:https://arizonaseniorguide.com/wp-content/uploads/2025/04/Crafting-Coloring-Cookies-Conversation.png
END:VEVENT
BEGIN:VEVENT
DTSTART;TZID=America/Phoenix:20250503T140000
DTEND;TZID=America/Phoenix:20250503T153000
DTSTAMP:20260423T132231
CREATED:20250411T184720Z
LAST-MODIFIED:20250411T184720Z
UID:10010852-1746280800-1746286200@arizonaseniorguide.com
SUMMARY:The Cozy Crafters Collective
DESCRIPTION:Get crafty with us at this free knitting & crocheting workshop at Kirk-Bear Canyon Library! \nWhether you’re a beginner or a pro\, this is the perfect place to share your love of yarn and creativity. \nBring your needles or hooks! If you don’t have your own\, no worries—we’ll provide supplies while they last. \nLed by the talented Ann Hunt\, this workshop is a wonderful opportunity to learn new techniques\, work on projects\, and meet fellow yarn enthusiasts. Please bring your own supplies or start with some of our materials! \nDon’t miss out on the fun—come stitch with us! \nSaturdays 2:30-3:30pm \nat the Kirk-Bear Canyon Library
URL:https://arizonaseniorguide.com/event/the-cozy-crafters-collective/2025-05-03/
LOCATION:Kirk-Bear Canyon Library\, 8959 E. Tanque Verde Rd.\, Tucson\, AZ\, 85749
CATEGORIES:Classes,Free Event,Tucson
ATTACH;FMTTYPE=image/png:https://arizonaseniorguide.com/wp-content/uploads/2025/04/cozy-crafters-collective.png
END:VEVENT
BEGIN:VEVENT
DTSTART;TZID=America/Phoenix:20250506T153000
DTEND;TZID=America/Phoenix:20250506T163000
DTSTAMP:20260423T132231
CREATED:20250411T193543Z
LAST-MODIFIED:20250908T191858Z
UID:10010871-1746545400-1746549000@arizonaseniorguide.com
SUMMARY:Mindfulness Meditation and More (Green Valley)
DESCRIPTION:Learn to be present during meditation and all other aspects of your life to enhance your health and well being. \nMindfulness is paying attention on purpose to the present moment. It is a learnable set of skills that can be cultivated over time. \nFind out how practicing mindfulness can benefit your mind\, your body and your relationships. \nLed by community volunteers. \nTuesdays 3:30-4:30pm\nat Joyner-Green Valley Library
URL:https://arizonaseniorguide.com/event/mindfulness-meditation-and-more-green-valley/2025-05-06/
LOCATION:Joyner-Green Valley Library\, 601 N. La Canada Dr.\, Green Valley\, AZ\, 85614
CATEGORIES:Classes,Fitness,Free Event,Green Valley,Tucson
ATTACH;FMTTYPE=image/png:https://arizonaseniorguide.com/wp-content/uploads/2025/04/Mindfulness-Meditation-and-More.png
END:VEVENT
BEGIN:VEVENT
DTSTART;TZID=America/Phoenix:20250509T110000
DTEND;TZID=America/Phoenix:20250509T120000
DTSTAMP:20260423T132231
CREATED:20250410T234938Z
LAST-MODIFIED:20250410T234938Z
UID:10010843-1746788400-1746792000@arizonaseniorguide.com
SUMMARY:Free Yoga Class at Eckstrom-Columbus Library
DESCRIPTION:Join us for a Yoga Class taught by Vivianne Uyeda! These mindful yoga classes focus on the basics and fundamentals of yoga poses by cultivating good posture\, alignment\, and breath. Designed for adults (Seniors are welcome) and varied mobility levels. \nFriday 11am-12pm on:\n– April 11\n– May 9\n– June 13 \nRegister here to reserve your spot.
URL:https://arizonaseniorguide.com/event/free-yoga-class-at-eckstrom-columbus-library/2025-05-09/
LOCATION:Eckstrom-Columbus Library\, 4350 E 22nd St\, Tucson\, AZ\, 85711
CATEGORIES:Classes,Fitness,Free Event,Tucson
ATTACH;FMTTYPE=image/png:https://arizonaseniorguide.com/wp-content/uploads/2025/04/yoga-library.png
END:VEVENT
BEGIN:VEVENT
DTSTART;TZID=America/Phoenix:20250509T110000
DTEND;TZID=America/Phoenix:20250509T120000
DTSTAMP:20260423T132231
CREATED:20250411T185919Z
LAST-MODIFIED:20250411T185919Z
UID:10010860-1746788400-1746792000@arizonaseniorguide.com
SUMMARY:Crafting\, Coloring\, Cookies\, and Conversation
DESCRIPTION:We are providing time and space to craft and socialize! \n\nBring your projects.\nKnit\, crochet\, collage\, draw\, do origami — whatever!\nColoring sheets\, pencils/pens\, origami paper will be provided.\nHave a cookie (on us!).\nMeet other craftsy folks.\nHave a chat!\n\nWe look forward to seeing you! \nFridays 11:00am – 12:00pm\nat Sahuarita Library
URL:https://arizonaseniorguide.com/event/crafting-coloring-cookies-and-conversation/2025-05-09/
LOCATION:Sahuarita Library\, 670 Sahuarita Rd W\, Sahuarita\, AZ\, 85629
CATEGORIES:Free Event,Tucson
ATTACH;FMTTYPE=image/png:https://arizonaseniorguide.com/wp-content/uploads/2025/04/Crafting-Coloring-Cookies-Conversation.png
END:VEVENT
BEGIN:VEVENT
DTSTART;TZID=America/Phoenix:20250510T103000
DTEND;TZID=America/Phoenix:20250510T113000
DTSTAMP:20260423T132231
CREATED:20250411T000858Z
LAST-MODIFIED:20250411T000858Z
UID:10010847-1746873000-1746876600@arizonaseniorguide.com
SUMMARY:Senior Tea & Puzzle Time
DESCRIPTION:Join us at the Flowing Wells Library for an hour with seasonal hot tea\, conversation\, and an assortment of puzzles available to foster collaboration. \nThis is a relaxed gathering designed for seniors and older adults\, but all are welcome. Bring your favorite mug if you like\, and feel free to drop in any time during the hour. \nSaturday 10:30am – 11:30am on:\n– April 12\n– April 26\n– May 10\n– May 24
URL:https://arizonaseniorguide.com/event/senior-tea-puzzle-time/2025-05-10/
LOCATION:Flowing Wells Library\, 1730 W. Wetmore Rd.\, Tucson\, AZ\, 85705
CATEGORIES:Free Event,Tucson
ATTACH;FMTTYPE=image/webp:https://arizonaseniorguide.com/wp-content/uploads/2025/04/tea-and-puzzle-time.webp
END:VEVENT
BEGIN:VEVENT
DTSTART;TZID=America/Phoenix:20250510T140000
DTEND;TZID=America/Phoenix:20250510T153000
DTSTAMP:20260423T132231
CREATED:20250411T184720Z
LAST-MODIFIED:20250411T184720Z
UID:10010853-1746885600-1746891000@arizonaseniorguide.com
SUMMARY:The Cozy Crafters Collective
DESCRIPTION:Get crafty with us at this free knitting & crocheting workshop at Kirk-Bear Canyon Library! \nWhether you’re a beginner or a pro\, this is the perfect place to share your love of yarn and creativity. \nBring your needles or hooks! If you don’t have your own\, no worries—we’ll provide supplies while they last. \nLed by the talented Ann Hunt\, this workshop is a wonderful opportunity to learn new techniques\, work on projects\, and meet fellow yarn enthusiasts. Please bring your own supplies or start with some of our materials! \nDon’t miss out on the fun—come stitch with us! \nSaturdays 2:30-3:30pm \nat the Kirk-Bear Canyon Library
URL:https://arizonaseniorguide.com/event/the-cozy-crafters-collective/2025-05-10/
LOCATION:Kirk-Bear Canyon Library\, 8959 E. Tanque Verde Rd.\, Tucson\, AZ\, 85749
CATEGORIES:Classes,Free Event,Tucson
ATTACH;FMTTYPE=image/png:https://arizonaseniorguide.com/wp-content/uploads/2025/04/cozy-crafters-collective.png
END:VEVENT
BEGIN:VEVENT
DTSTART;TZID=America/Phoenix:20250511T090000
DTEND;TZID=America/Phoenix:20250511T160000
DTSTAMP:20260423T132231
CREATED:20250410T232431Z
LAST-MODIFIED:20250410T232431Z
UID:10010841-1746954000-1746979200@arizonaseniorguide.com
SUMMARY:Mother’s Day at the Reid Park Zoo - BOGO admission
DESCRIPTION:Moms Come Out to Unwind at the Zoo\nReid Park Zoo is wishing all Moms a very Happy Mother’s Day with free admission to the Zoo. Mothers receive free daytime admission with a paying child or adult admission. \nSpend some quality time while enjoying a relaxing day at the Zoo. Stop in for lunch at the Flamingo Grill\, then meet up for Keeper Chats about the resident animal moms and learn how they care for their little ones. Top your day off with a visit to Discover the Wild gift shop for an array of jewelry\, apparel and earth-friendly gift items.
URL:https://arizonaseniorguide.com/event/mothers-day-at-the-reid-park-zoo-bogo-admission/
LOCATION:Reid Park Zoo\, 3400 E. Zoo Court\, Tucson\, AZ\, 85716\, United States
CATEGORIES:Free Event,Tucson
ATTACH;FMTTYPE=image/webp:https://arizonaseniorguide.com/wp-content/uploads/2025/04/Mothers-Day-Zoo.webp
GEO:32.2087926;-110.9213774
X-APPLE-STRUCTURED-LOCATION;VALUE=URI;X-ADDRESS=Reid Park Zoo 3400 E. Zoo Court Tucson AZ 85716 United States;X-APPLE-RADIUS=500;X-TITLE=3400 E. Zoo Court:geo:-110.9213774,32.2087926
END:VEVENT
BEGIN:VEVENT
DTSTART;TZID=America/Phoenix:20250513T153000
DTEND;TZID=America/Phoenix:20250513T163000
DTSTAMP:20260423T132231
CREATED:20250411T193543Z
LAST-MODIFIED:20250908T191858Z
UID:10010872-1747150200-1747153800@arizonaseniorguide.com
SUMMARY:Mindfulness Meditation and More (Green Valley)
DESCRIPTION:Learn to be present during meditation and all other aspects of your life to enhance your health and well being. \nMindfulness is paying attention on purpose to the present moment. It is a learnable set of skills that can be cultivated over time. \nFind out how practicing mindfulness can benefit your mind\, your body and your relationships. \nLed by community volunteers. \nTuesdays 3:30-4:30pm\nat Joyner-Green Valley Library
URL:https://arizonaseniorguide.com/event/mindfulness-meditation-and-more-green-valley/2025-05-13/
LOCATION:Joyner-Green Valley Library\, 601 N. La Canada Dr.\, Green Valley\, AZ\, 85614
CATEGORIES:Classes,Fitness,Free Event,Green Valley,Tucson
ATTACH;FMTTYPE=image/png:https://arizonaseniorguide.com/wp-content/uploads/2025/04/Mindfulness-Meditation-and-More.png
END:VEVENT
BEGIN:VEVENT
DTSTART;TZID=America/Phoenix:20250516T110000
DTEND;TZID=America/Phoenix:20250516T120000
DTSTAMP:20260423T132231
CREATED:20250411T185919Z
LAST-MODIFIED:20250411T185919Z
UID:10010861-1747393200-1747396800@arizonaseniorguide.com
SUMMARY:Crafting\, Coloring\, Cookies\, and Conversation
DESCRIPTION:We are providing time and space to craft and socialize! \n\nBring your projects.\nKnit\, crochet\, collage\, draw\, do origami — whatever!\nColoring sheets\, pencils/pens\, origami paper will be provided.\nHave a cookie (on us!).\nMeet other craftsy folks.\nHave a chat!\n\nWe look forward to seeing you! \nFridays 11:00am – 12:00pm\nat Sahuarita Library
URL:https://arizonaseniorguide.com/event/crafting-coloring-cookies-and-conversation/2025-05-16/
LOCATION:Sahuarita Library\, 670 Sahuarita Rd W\, Sahuarita\, AZ\, 85629
CATEGORIES:Free Event,Tucson
ATTACH;FMTTYPE=image/png:https://arizonaseniorguide.com/wp-content/uploads/2025/04/Crafting-Coloring-Cookies-Conversation.png
END:VEVENT
BEGIN:VEVENT
DTSTART;TZID=America/Phoenix:20250517T140000
DTEND;TZID=America/Phoenix:20250517T153000
DTSTAMP:20260423T132231
CREATED:20250411T184720Z
LAST-MODIFIED:20250411T184720Z
UID:10010854-1747490400-1747495800@arizonaseniorguide.com
SUMMARY:The Cozy Crafters Collective
DESCRIPTION:Get crafty with us at this free knitting & crocheting workshop at Kirk-Bear Canyon Library! \nWhether you’re a beginner or a pro\, this is the perfect place to share your love of yarn and creativity. \nBring your needles or hooks! If you don’t have your own\, no worries—we’ll provide supplies while they last. \nLed by the talented Ann Hunt\, this workshop is a wonderful opportunity to learn new techniques\, work on projects\, and meet fellow yarn enthusiasts. Please bring your own supplies or start with some of our materials! \nDon’t miss out on the fun—come stitch with us! \nSaturdays 2:30-3:30pm \nat the Kirk-Bear Canyon Library
URL:https://arizonaseniorguide.com/event/the-cozy-crafters-collective/2025-05-17/
LOCATION:Kirk-Bear Canyon Library\, 8959 E. Tanque Verde Rd.\, Tucson\, AZ\, 85749
CATEGORIES:Classes,Free Event,Tucson
ATTACH;FMTTYPE=image/png:https://arizonaseniorguide.com/wp-content/uploads/2025/04/cozy-crafters-collective.png
END:VEVENT
BEGIN:VEVENT
DTSTART;TZID=America/Phoenix:20250520T153000
DTEND;TZID=America/Phoenix:20250520T163000
DTSTAMP:20260423T132231
CREATED:20250411T193543Z
LAST-MODIFIED:20250908T191858Z
UID:10010873-1747755000-1747758600@arizonaseniorguide.com
SUMMARY:Mindfulness Meditation and More (Green Valley)
DESCRIPTION:Learn to be present during meditation and all other aspects of your life to enhance your health and well being. \nMindfulness is paying attention on purpose to the present moment. It is a learnable set of skills that can be cultivated over time. \nFind out how practicing mindfulness can benefit your mind\, your body and your relationships. \nLed by community volunteers. \nTuesdays 3:30-4:30pm\nat Joyner-Green Valley Library
URL:https://arizonaseniorguide.com/event/mindfulness-meditation-and-more-green-valley/2025-05-20/
LOCATION:Joyner-Green Valley Library\, 601 N. La Canada Dr.\, Green Valley\, AZ\, 85614
CATEGORIES:Classes,Fitness,Free Event,Green Valley,Tucson
ATTACH;FMTTYPE=image/png:https://arizonaseniorguide.com/wp-content/uploads/2025/04/Mindfulness-Meditation-and-More.png
END:VEVENT
BEGIN:VEVENT
DTSTART;TZID=America/Phoenix:20250523T110000
DTEND;TZID=America/Phoenix:20250523T120000
DTSTAMP:20260423T132231
CREATED:20250411T185919Z
LAST-MODIFIED:20250411T185919Z
UID:10010862-1747998000-1748001600@arizonaseniorguide.com
SUMMARY:Crafting\, Coloring\, Cookies\, and Conversation
DESCRIPTION:We are providing time and space to craft and socialize! \n\nBring your projects.\nKnit\, crochet\, collage\, draw\, do origami — whatever!\nColoring sheets\, pencils/pens\, origami paper will be provided.\nHave a cookie (on us!).\nMeet other craftsy folks.\nHave a chat!\n\nWe look forward to seeing you! \nFridays 11:00am – 12:00pm\nat Sahuarita Library
URL:https://arizonaseniorguide.com/event/crafting-coloring-cookies-and-conversation/2025-05-23/
LOCATION:Sahuarita Library\, 670 Sahuarita Rd W\, Sahuarita\, AZ\, 85629
CATEGORIES:Free Event,Tucson
ATTACH;FMTTYPE=image/png:https://arizonaseniorguide.com/wp-content/uploads/2025/04/Crafting-Coloring-Cookies-Conversation.png
END:VEVENT
BEGIN:VEVENT
DTSTART;TZID=America/Phoenix:20250524T103000
DTEND;TZID=America/Phoenix:20250524T113000
DTSTAMP:20260423T132231
CREATED:20250411T000858Z
LAST-MODIFIED:20250411T000858Z
UID:10010848-1748082600-1748086200@arizonaseniorguide.com
SUMMARY:Senior Tea & Puzzle Time
DESCRIPTION:Join us at the Flowing Wells Library for an hour with seasonal hot tea\, conversation\, and an assortment of puzzles available to foster collaboration. \nThis is a relaxed gathering designed for seniors and older adults\, but all are welcome. Bring your favorite mug if you like\, and feel free to drop in any time during the hour. \nSaturday 10:30am – 11:30am on:\n– April 12\n– April 26\n– May 10\n– May 24
URL:https://arizonaseniorguide.com/event/senior-tea-puzzle-time/2025-05-24/
LOCATION:Flowing Wells Library\, 1730 W. Wetmore Rd.\, Tucson\, AZ\, 85705
CATEGORIES:Free Event,Tucson
ATTACH;FMTTYPE=image/webp:https://arizonaseniorguide.com/wp-content/uploads/2025/04/tea-and-puzzle-time.webp
END:VEVENT
BEGIN:VEVENT
DTSTART;TZID=America/Phoenix:20250524T140000
DTEND;TZID=America/Phoenix:20250524T153000
DTSTAMP:20260423T132231
CREATED:20250411T184720Z
LAST-MODIFIED:20250411T184720Z
UID:10010855-1748095200-1748100600@arizonaseniorguide.com
SUMMARY:The Cozy Crafters Collective
DESCRIPTION:Get crafty with us at this free knitting & crocheting workshop at Kirk-Bear Canyon Library! \nWhether you’re a beginner or a pro\, this is the perfect place to share your love of yarn and creativity. \nBring your needles or hooks! If you don’t have your own\, no worries—we’ll provide supplies while they last. \nLed by the talented Ann Hunt\, this workshop is a wonderful opportunity to learn new techniques\, work on projects\, and meet fellow yarn enthusiasts. Please bring your own supplies or start with some of our materials! \nDon’t miss out on the fun—come stitch with us! \nSaturdays 2:30-3:30pm \nat the Kirk-Bear Canyon Library
URL:https://arizonaseniorguide.com/event/the-cozy-crafters-collective/2025-05-24/
LOCATION:Kirk-Bear Canyon Library\, 8959 E. Tanque Verde Rd.\, Tucson\, AZ\, 85749
CATEGORIES:Classes,Free Event,Tucson
ATTACH;FMTTYPE=image/png:https://arizonaseniorguide.com/wp-content/uploads/2025/04/cozy-crafters-collective.png
END:VEVENT
BEGIN:VEVENT
DTSTART;TZID=America/Phoenix:20250527T153000
DTEND;TZID=America/Phoenix:20250527T163000
DTSTAMP:20260423T132231
CREATED:20250411T193543Z
LAST-MODIFIED:20250908T191858Z
UID:10010874-1748359800-1748363400@arizonaseniorguide.com
SUMMARY:Mindfulness Meditation and More (Green Valley)
DESCRIPTION:Learn to be present during meditation and all other aspects of your life to enhance your health and well being. \nMindfulness is paying attention on purpose to the present moment. It is a learnable set of skills that can be cultivated over time. \nFind out how practicing mindfulness can benefit your mind\, your body and your relationships. \nLed by community volunteers. \nTuesdays 3:30-4:30pm\nat Joyner-Green Valley Library
URL:https://arizonaseniorguide.com/event/mindfulness-meditation-and-more-green-valley/2025-05-27/
LOCATION:Joyner-Green Valley Library\, 601 N. La Canada Dr.\, Green Valley\, AZ\, 85614
CATEGORIES:Classes,Fitness,Free Event,Green Valley,Tucson
ATTACH;FMTTYPE=image/png:https://arizonaseniorguide.com/wp-content/uploads/2025/04/Mindfulness-Meditation-and-More.png
END:VEVENT
BEGIN:VEVENT
DTSTART;TZID=America/Phoenix:20250530T110000
DTEND;TZID=America/Phoenix:20250530T120000
DTSTAMP:20260423T132231
CREATED:20250411T185919Z
LAST-MODIFIED:20250411T185919Z
UID:10010863-1748602800-1748606400@arizonaseniorguide.com
SUMMARY:Crafting\, Coloring\, Cookies\, and Conversation
DESCRIPTION:We are providing time and space to craft and socialize! \n\nBring your projects.\nKnit\, crochet\, collage\, draw\, do origami — whatever!\nColoring sheets\, pencils/pens\, origami paper will be provided.\nHave a cookie (on us!).\nMeet other craftsy folks.\nHave a chat!\n\nWe look forward to seeing you! \nFridays 11:00am – 12:00pm\nat Sahuarita Library
URL:https://arizonaseniorguide.com/event/crafting-coloring-cookies-and-conversation/2025-05-30/
LOCATION:Sahuarita Library\, 670 Sahuarita Rd W\, Sahuarita\, AZ\, 85629
CATEGORIES:Free Event,Tucson
ATTACH;FMTTYPE=image/png:https://arizonaseniorguide.com/wp-content/uploads/2025/04/Crafting-Coloring-Cookies-Conversation.png
END:VEVENT
BEGIN:VEVENT
DTSTART;TZID=America/Phoenix:20250531T140000
DTEND;TZID=America/Phoenix:20250531T153000
DTSTAMP:20260423T132231
CREATED:20250411T184720Z
LAST-MODIFIED:20250411T184720Z
UID:10010856-1748700000-1748705400@arizonaseniorguide.com
SUMMARY:The Cozy Crafters Collective
DESCRIPTION:Get crafty with us at this free knitting & crocheting workshop at Kirk-Bear Canyon Library! \nWhether you’re a beginner or a pro\, this is the perfect place to share your love of yarn and creativity. \nBring your needles or hooks! If you don’t have your own\, no worries—we’ll provide supplies while they last. \nLed by the talented Ann Hunt\, this workshop is a wonderful opportunity to learn new techniques\, work on projects\, and meet fellow yarn enthusiasts. Please bring your own supplies or start with some of our materials! \nDon’t miss out on the fun—come stitch with us! \nSaturdays 2:30-3:30pm \nat the Kirk-Bear Canyon Library
URL:https://arizonaseniorguide.com/event/the-cozy-crafters-collective/2025-05-31/
LOCATION:Kirk-Bear Canyon Library\, 8959 E. Tanque Verde Rd.\, Tucson\, AZ\, 85749
CATEGORIES:Classes,Free Event,Tucson
ATTACH;FMTTYPE=image/png:https://arizonaseniorguide.com/wp-content/uploads/2025/04/cozy-crafters-collective.png
END:VEVENT
END:VCALENDAR