BEGIN:VCALENDAR
VERSION:2.0
PRODID:-//Arizona Senior Guide - ECPv6.15.20//NONSGML v1.0//EN
CALSCALE:GREGORIAN
METHOD:PUBLISH
X-ORIGINAL-URL:https://arizonaseniorguide.com
X-WR-CALDESC:Events for Arizona Senior Guide
REFRESH-INTERVAL;VALUE=DURATION:PT1H
X-Robots-Tag:noindex
X-PUBLISHED-TTL:PT1H
BEGIN:VTIMEZONE
TZID:America/Phoenix
BEGIN:STANDARD
TZOFFSETFROM:-0700
TZOFFSETTO:-0700
TZNAME:MST
DTSTART:20250101T000000
END:STANDARD
END:VTIMEZONE
BEGIN:VEVENT
DTSTART;TZID=America/Phoenix:20260301T090000
DTEND;TZID=America/Phoenix:20260301T130000
DTSTAMP:20260422T222513
CREATED:20250917T181731Z
LAST-MODIFIED:20250917T181731Z
UID:10011975-1772355600-1772370000@arizonaseniorguide.com
SUMMARY:Ahwatukee Farmers Market (Winter hours)
DESCRIPTION:Established in 2002\, the Ahwatukee Farmers Market features fresh\, local\, seasonal produce\, herbs\, flowers\, value added foods\, fresh baked goods\, natural meats and seafood as well as a selection of local arts & crafts. (This market is enrolled in the AZFMNP/WIC program. Visit www.azfmnp.org for additional details.) \nSundays\nSummer Hours: June-Sept: 8am-11am\nWinter Hours: Oct-May: 9am-1pm \nLocation\n4700 E. Warner Rd. Phoenix\, AZ 85044 (In the parking lot of the Ahwatukee Swim & Tennis Center)
URL:https://arizonaseniorguide.com/event/ahwatukee-farmers-market-winter-hours/2026-03-01/
LOCATION:Ahwatukee Swim & Tennis Center\, 4700 E. Warner Rd.\, Phoenix\, AZ\, 85044
CATEGORIES:Free Event,Phoenix
ATTACH;FMTTYPE=image/webp:https://arizonaseniorguide.com/wp-content/uploads/2025/09/Ahwatukee-Farmers-Market.webp
END:VEVENT
BEGIN:VEVENT
DTSTART;TZID=America/Phoenix:20260307T080000
DTEND;TZID=America/Phoenix:20260307T120000
DTSTAMP:20260422T222513
CREATED:20250916T214709Z
LAST-MODIFIED:20250916T214709Z
UID:10011942-1772870400-1772884800@arizonaseniorguide.com
SUMMARY:Gilbert Farmers Market (Winter hours)
DESCRIPTION:Gilbert Farmers Market (GFM) is located in Downtown Gilbert just west of the iconic Water Tower and is open every Saturday. With over 100 vendors year-round\, the market features local\, chemical-free\, organic produce from many local farmers\, farm-fresh eggs\, meat\, cheese\, bread\, sweets\, coffee and tea\, sauces\, seasonings\, and many other locally made artisan products. \nNew Location:\nThe GFM is now located at the Chandler-Gilbert Community College\, which is only five miles south on Gilbert Rd. \nWinter Hours (October through April): Saturdays 8 AM to 12 PM\nSummer Hours (May through September): Saturdays 7 AM to 11 AM
URL:https://arizonaseniorguide.com/event/gilbert-farmers-market-winter-hours/2026-03-07/
LOCATION:Chandler-Gilbert Community College\, 2626 E Pecos Rd\,\, Chandler\, AZ\, 85225
CATEGORIES:Free Event,Phoenix
ATTACH;FMTTYPE=image/webp:https://arizonaseniorguide.com/wp-content/uploads/2025/09/Gilbert-Farmers-Market.webp
END:VEVENT
BEGIN:VEVENT
DTSTART;TZID=America/Phoenix:20260307T080000
DTEND;TZID=America/Phoenix:20260307T120000
DTSTAMP:20260422T222513
CREATED:20250917T183012Z
LAST-MODIFIED:20250917T183012Z
UID:10012012-1772870400-1772884800@arizonaseniorguide.com
SUMMARY:Roadrunner Park Farmers Market
DESCRIPTION:Established in 1990\, the Roadrunner Park Farmers Market features local farm produce\, including fresh vegetables & fruit\, baked goods\, honey\, nursery stock\, natural pork\, beef and fish\, hand crafted items. Roadrunner Park has a children’s playground with play equipment\, a fishing pond\, ducks and geese on premises\, swimming pool\, soccer fields\, and all kinds of special events. Well-behaved dogs always welcome! \n(This market accepts EBT\, DUFB and is enrolled in the AZFMNP/WIC program. Visit www.pinnacleprevention.org and www.azfmnp.org for additional details.) \nSaturdays\nSummer Hours: Jun – Sep 7am-10am\nWinter Hours: Oct-May 8am-12pm \nLocation\n3502 E. Cactus Rd.\, Phoenix\, AZ 85032\n(NE Phoenix near Paradise Valley between the 51 Freeway and 36th St.)\n \nMore info (including a list of vendors)
URL:https://arizonaseniorguide.com/event/roadrunner-park-farmers-market/2026-03-07/
LOCATION:Roadrunner Park\, 3502 E Cactus Rd\, Phoenix\, AZ\, 85032
CATEGORIES:Free Event,Phoenix
ATTACH;FMTTYPE=image/webp:https://arizonaseniorguide.com/wp-content/uploads/2025/09/Roadrunner-Park-Farmers-Market.webp
END:VEVENT
BEGIN:VEVENT
DTSTART;TZID=America/Phoenix:20260308T090000
DTEND;TZID=America/Phoenix:20260308T130000
DTSTAMP:20260422T222513
CREATED:20250917T181731Z
LAST-MODIFIED:20250917T181731Z
UID:10011976-1772960400-1772974800@arizonaseniorguide.com
SUMMARY:Ahwatukee Farmers Market (Winter hours)
DESCRIPTION:Established in 2002\, the Ahwatukee Farmers Market features fresh\, local\, seasonal produce\, herbs\, flowers\, value added foods\, fresh baked goods\, natural meats and seafood as well as a selection of local arts & crafts. (This market is enrolled in the AZFMNP/WIC program. Visit www.azfmnp.org for additional details.) \nSundays\nSummer Hours: June-Sept: 8am-11am\nWinter Hours: Oct-May: 9am-1pm \nLocation\n4700 E. Warner Rd. Phoenix\, AZ 85044 (In the parking lot of the Ahwatukee Swim & Tennis Center)
URL:https://arizonaseniorguide.com/event/ahwatukee-farmers-market-winter-hours/2026-03-08/
LOCATION:Ahwatukee Swim & Tennis Center\, 4700 E. Warner Rd.\, Phoenix\, AZ\, 85044
CATEGORIES:Free Event,Phoenix
ATTACH;FMTTYPE=image/webp:https://arizonaseniorguide.com/wp-content/uploads/2025/09/Ahwatukee-Farmers-Market.webp
END:VEVENT
BEGIN:VEVENT
DTSTART;TZID=America/Phoenix:20260314T080000
DTEND;TZID=America/Phoenix:20260314T120000
DTSTAMP:20260422T222513
CREATED:20250916T214709Z
LAST-MODIFIED:20250916T214709Z
UID:10011943-1773475200-1773489600@arizonaseniorguide.com
SUMMARY:Gilbert Farmers Market (Winter hours)
DESCRIPTION:Gilbert Farmers Market (GFM) is located in Downtown Gilbert just west of the iconic Water Tower and is open every Saturday. With over 100 vendors year-round\, the market features local\, chemical-free\, organic produce from many local farmers\, farm-fresh eggs\, meat\, cheese\, bread\, sweets\, coffee and tea\, sauces\, seasonings\, and many other locally made artisan products. \nNew Location:\nThe GFM is now located at the Chandler-Gilbert Community College\, which is only five miles south on Gilbert Rd. \nWinter Hours (October through April): Saturdays 8 AM to 12 PM\nSummer Hours (May through September): Saturdays 7 AM to 11 AM
URL:https://arizonaseniorguide.com/event/gilbert-farmers-market-winter-hours/2026-03-14/
LOCATION:Chandler-Gilbert Community College\, 2626 E Pecos Rd\,\, Chandler\, AZ\, 85225
CATEGORIES:Free Event,Phoenix
ATTACH;FMTTYPE=image/webp:https://arizonaseniorguide.com/wp-content/uploads/2025/09/Gilbert-Farmers-Market.webp
END:VEVENT
BEGIN:VEVENT
DTSTART;TZID=America/Phoenix:20260314T080000
DTEND;TZID=America/Phoenix:20260314T120000
DTSTAMP:20260422T222513
CREATED:20250917T183012Z
LAST-MODIFIED:20250917T183012Z
UID:10012013-1773475200-1773489600@arizonaseniorguide.com
SUMMARY:Roadrunner Park Farmers Market
DESCRIPTION:Established in 1990\, the Roadrunner Park Farmers Market features local farm produce\, including fresh vegetables & fruit\, baked goods\, honey\, nursery stock\, natural pork\, beef and fish\, hand crafted items. Roadrunner Park has a children’s playground with play equipment\, a fishing pond\, ducks and geese on premises\, swimming pool\, soccer fields\, and all kinds of special events. Well-behaved dogs always welcome! \n(This market accepts EBT\, DUFB and is enrolled in the AZFMNP/WIC program. Visit www.pinnacleprevention.org and www.azfmnp.org for additional details.) \nSaturdays\nSummer Hours: Jun – Sep 7am-10am\nWinter Hours: Oct-May 8am-12pm \nLocation\n3502 E. Cactus Rd.\, Phoenix\, AZ 85032\n(NE Phoenix near Paradise Valley between the 51 Freeway and 36th St.)\n \nMore info (including a list of vendors)
URL:https://arizonaseniorguide.com/event/roadrunner-park-farmers-market/2026-03-14/
LOCATION:Roadrunner Park\, 3502 E Cactus Rd\, Phoenix\, AZ\, 85032
CATEGORIES:Free Event,Phoenix
ATTACH;FMTTYPE=image/webp:https://arizonaseniorguide.com/wp-content/uploads/2025/09/Roadrunner-Park-Farmers-Market.webp
END:VEVENT
BEGIN:VEVENT
DTSTART;TZID=America/Phoenix:20260315T090000
DTEND;TZID=America/Phoenix:20260315T130000
DTSTAMP:20260422T222513
CREATED:20250917T181731Z
LAST-MODIFIED:20250917T181731Z
UID:10011977-1773565200-1773579600@arizonaseniorguide.com
SUMMARY:Ahwatukee Farmers Market (Winter hours)
DESCRIPTION:Established in 2002\, the Ahwatukee Farmers Market features fresh\, local\, seasonal produce\, herbs\, flowers\, value added foods\, fresh baked goods\, natural meats and seafood as well as a selection of local arts & crafts. (This market is enrolled in the AZFMNP/WIC program. Visit www.azfmnp.org for additional details.) \nSundays\nSummer Hours: June-Sept: 8am-11am\nWinter Hours: Oct-May: 9am-1pm \nLocation\n4700 E. Warner Rd. Phoenix\, AZ 85044 (In the parking lot of the Ahwatukee Swim & Tennis Center)
URL:https://arizonaseniorguide.com/event/ahwatukee-farmers-market-winter-hours/2026-03-15/
LOCATION:Ahwatukee Swim & Tennis Center\, 4700 E. Warner Rd.\, Phoenix\, AZ\, 85044
CATEGORIES:Free Event,Phoenix
ATTACH;FMTTYPE=image/webp:https://arizonaseniorguide.com/wp-content/uploads/2025/09/Ahwatukee-Farmers-Market.webp
END:VEVENT
BEGIN:VEVENT
DTSTART;TZID=America/Phoenix:20260319T183000
DTEND;TZID=America/Phoenix:20260319T193000
DTSTAMP:20260422T222513
CREATED:20260209T031931Z
LAST-MODIFIED:20260209T031931Z
UID:10013079-1773945000-1773948600@arizonaseniorguide.com
SUMMARY:Free Irish Music Concert on Flute & Guitar
DESCRIPTION:Experience the soul-stirring magic of the Emerald Isle at a free concert right in the heart of Glendale! \nJoin the award-winning SoSco Duo for an intimate evening of “intrinsically Celtic” music. From the foot-stomping energy of spirited jigs to the haunting beauty of ancient airs\, this performance is more than just a concert—it’s a journey through the stories and traditions of Ireland. \nWhether you’re drawn to the passion of the flute or the elegance of the guitar\, you’ll leave with a “wee bit” of Ireland in your own heart.\nEvent Details \nWhen: Thursday\, March 19\, 2026 | 6:30 PM\nWhere: Glendale Library\, 5959 W. Brown St.\, Glendale\, AZ \nExperience: A captivating blend of music\, storytelling\, and Irish heritage. \nSpace is limited for this intimate performance. Reserve your tickets today to ensure you don’t miss this Celtic celebration! \nTickets are limited and FREE—reserve yours today! \nAbout SoSco Duo \nSince we began playing music together in 2014\, our acoustic duo has evolved into an ensemble unlike any other. While we understand that performers are at various levels of musicianship and all levels can move audiences in a meaningful way\, we take the business of music making very seriously. This is not our hobby. This is our profession and our passion. \nWe have invested our lives\, our time and effort\, into studying\, practicing and performing music. We took private lessons for years\, we got music degrees at some of the finest music schools in the nation with some of the finest teachers\, and we’ve gone on to perform hundreds of times\, honing our craft. We continue to learn and grow and refine ourselves as musicians and ensemble players every day. \nFor us\, using music as a vehicle to connect people to powerful memories and emotions is our work. This is why we do what we do\, and this is why music matters so deeply. \nSoSco Duo was voted Best Local Band/Musician 2026 by Arizona Foothills Magazine!
URL:https://arizonaseniorguide.com/event/free-irish-music-concert-on-flute-guitar/
LOCATION:Glendale Public Library Main Library\, 5959 West Brown Street\, Glendale\, 85302
CATEGORIES:Free Event,Live Music,Music,Phoenix
ATTACH;FMTTYPE=image/jpeg:https://arizonaseniorguide.com/wp-content/uploads/2026/02/Sun-City-Library-audience-live-music.jpg
END:VEVENT
BEGIN:VEVENT
DTSTART;TZID=America/Phoenix:20260321T080000
DTEND;TZID=America/Phoenix:20260321T120000
DTSTAMP:20260422T222513
CREATED:20250916T214709Z
LAST-MODIFIED:20250916T214709Z
UID:10011944-1774080000-1774094400@arizonaseniorguide.com
SUMMARY:Gilbert Farmers Market (Winter hours)
DESCRIPTION:Gilbert Farmers Market (GFM) is located in Downtown Gilbert just west of the iconic Water Tower and is open every Saturday. With over 100 vendors year-round\, the market features local\, chemical-free\, organic produce from many local farmers\, farm-fresh eggs\, meat\, cheese\, bread\, sweets\, coffee and tea\, sauces\, seasonings\, and many other locally made artisan products. \nNew Location:\nThe GFM is now located at the Chandler-Gilbert Community College\, which is only five miles south on Gilbert Rd. \nWinter Hours (October through April): Saturdays 8 AM to 12 PM\nSummer Hours (May through September): Saturdays 7 AM to 11 AM
URL:https://arizonaseniorguide.com/event/gilbert-farmers-market-winter-hours/2026-03-21/
LOCATION:Chandler-Gilbert Community College\, 2626 E Pecos Rd\,\, Chandler\, AZ\, 85225
CATEGORIES:Free Event,Phoenix
ATTACH;FMTTYPE=image/webp:https://arizonaseniorguide.com/wp-content/uploads/2025/09/Gilbert-Farmers-Market.webp
END:VEVENT
BEGIN:VEVENT
DTSTART;TZID=America/Phoenix:20260321T080000
DTEND;TZID=America/Phoenix:20260321T120000
DTSTAMP:20260422T222513
CREATED:20250917T183012Z
LAST-MODIFIED:20250917T183012Z
UID:10012014-1774080000-1774094400@arizonaseniorguide.com
SUMMARY:Roadrunner Park Farmers Market
DESCRIPTION:Established in 1990\, the Roadrunner Park Farmers Market features local farm produce\, including fresh vegetables & fruit\, baked goods\, honey\, nursery stock\, natural pork\, beef and fish\, hand crafted items. Roadrunner Park has a children’s playground with play equipment\, a fishing pond\, ducks and geese on premises\, swimming pool\, soccer fields\, and all kinds of special events. Well-behaved dogs always welcome! \n(This market accepts EBT\, DUFB and is enrolled in the AZFMNP/WIC program. Visit www.pinnacleprevention.org and www.azfmnp.org for additional details.) \nSaturdays\nSummer Hours: Jun – Sep 7am-10am\nWinter Hours: Oct-May 8am-12pm \nLocation\n3502 E. Cactus Rd.\, Phoenix\, AZ 85032\n(NE Phoenix near Paradise Valley between the 51 Freeway and 36th St.)\n \nMore info (including a list of vendors)
URL:https://arizonaseniorguide.com/event/roadrunner-park-farmers-market/2026-03-21/
LOCATION:Roadrunner Park\, 3502 E Cactus Rd\, Phoenix\, AZ\, 85032
CATEGORIES:Free Event,Phoenix
ATTACH;FMTTYPE=image/webp:https://arizonaseniorguide.com/wp-content/uploads/2025/09/Roadrunner-Park-Farmers-Market.webp
END:VEVENT
BEGIN:VEVENT
DTSTART;TZID=America/Phoenix:20260322T090000
DTEND;TZID=America/Phoenix:20260322T130000
DTSTAMP:20260422T222513
CREATED:20250917T181731Z
LAST-MODIFIED:20250917T181731Z
UID:10011978-1774170000-1774184400@arizonaseniorguide.com
SUMMARY:Ahwatukee Farmers Market (Winter hours)
DESCRIPTION:Established in 2002\, the Ahwatukee Farmers Market features fresh\, local\, seasonal produce\, herbs\, flowers\, value added foods\, fresh baked goods\, natural meats and seafood as well as a selection of local arts & crafts. (This market is enrolled in the AZFMNP/WIC program. Visit www.azfmnp.org for additional details.) \nSundays\nSummer Hours: June-Sept: 8am-11am\nWinter Hours: Oct-May: 9am-1pm \nLocation\n4700 E. Warner Rd. Phoenix\, AZ 85044 (In the parking lot of the Ahwatukee Swim & Tennis Center)
URL:https://arizonaseniorguide.com/event/ahwatukee-farmers-market-winter-hours/2026-03-22/
LOCATION:Ahwatukee Swim & Tennis Center\, 4700 E. Warner Rd.\, Phoenix\, AZ\, 85044
CATEGORIES:Free Event,Phoenix
ATTACH;FMTTYPE=image/webp:https://arizonaseniorguide.com/wp-content/uploads/2025/09/Ahwatukee-Farmers-Market.webp
END:VEVENT
BEGIN:VEVENT
DTSTART;TZID=America/Phoenix:20260328T080000
DTEND;TZID=America/Phoenix:20260328T120000
DTSTAMP:20260422T222513
CREATED:20250916T214709Z
LAST-MODIFIED:20250916T214709Z
UID:10011945-1774684800-1774699200@arizonaseniorguide.com
SUMMARY:Gilbert Farmers Market (Winter hours)
DESCRIPTION:Gilbert Farmers Market (GFM) is located in Downtown Gilbert just west of the iconic Water Tower and is open every Saturday. With over 100 vendors year-round\, the market features local\, chemical-free\, organic produce from many local farmers\, farm-fresh eggs\, meat\, cheese\, bread\, sweets\, coffee and tea\, sauces\, seasonings\, and many other locally made artisan products. \nNew Location:\nThe GFM is now located at the Chandler-Gilbert Community College\, which is only five miles south on Gilbert Rd. \nWinter Hours (October through April): Saturdays 8 AM to 12 PM\nSummer Hours (May through September): Saturdays 7 AM to 11 AM
URL:https://arizonaseniorguide.com/event/gilbert-farmers-market-winter-hours/2026-03-28/
LOCATION:Chandler-Gilbert Community College\, 2626 E Pecos Rd\,\, Chandler\, AZ\, 85225
CATEGORIES:Free Event,Phoenix
ATTACH;FMTTYPE=image/webp:https://arizonaseniorguide.com/wp-content/uploads/2025/09/Gilbert-Farmers-Market.webp
END:VEVENT
BEGIN:VEVENT
DTSTART;TZID=America/Phoenix:20260328T080000
DTEND;TZID=America/Phoenix:20260328T120000
DTSTAMP:20260422T222513
CREATED:20250917T183012Z
LAST-MODIFIED:20250917T183012Z
UID:10012015-1774684800-1774699200@arizonaseniorguide.com
SUMMARY:Roadrunner Park Farmers Market
DESCRIPTION:Established in 1990\, the Roadrunner Park Farmers Market features local farm produce\, including fresh vegetables & fruit\, baked goods\, honey\, nursery stock\, natural pork\, beef and fish\, hand crafted items. Roadrunner Park has a children’s playground with play equipment\, a fishing pond\, ducks and geese on premises\, swimming pool\, soccer fields\, and all kinds of special events. Well-behaved dogs always welcome! \n(This market accepts EBT\, DUFB and is enrolled in the AZFMNP/WIC program. Visit www.pinnacleprevention.org and www.azfmnp.org for additional details.) \nSaturdays\nSummer Hours: Jun – Sep 7am-10am\nWinter Hours: Oct-May 8am-12pm \nLocation\n3502 E. Cactus Rd.\, Phoenix\, AZ 85032\n(NE Phoenix near Paradise Valley between the 51 Freeway and 36th St.)\n \nMore info (including a list of vendors)
URL:https://arizonaseniorguide.com/event/roadrunner-park-farmers-market/2026-03-28/
LOCATION:Roadrunner Park\, 3502 E Cactus Rd\, Phoenix\, AZ\, 85032
CATEGORIES:Free Event,Phoenix
ATTACH;FMTTYPE=image/webp:https://arizonaseniorguide.com/wp-content/uploads/2025/09/Roadrunner-Park-Farmers-Market.webp
END:VEVENT
BEGIN:VEVENT
DTSTART;TZID=America/Phoenix:20260329T090000
DTEND;TZID=America/Phoenix:20260329T130000
DTSTAMP:20260422T222513
CREATED:20250917T181731Z
LAST-MODIFIED:20250917T181731Z
UID:10011979-1774774800-1774789200@arizonaseniorguide.com
SUMMARY:Ahwatukee Farmers Market (Winter hours)
DESCRIPTION:Established in 2002\, the Ahwatukee Farmers Market features fresh\, local\, seasonal produce\, herbs\, flowers\, value added foods\, fresh baked goods\, natural meats and seafood as well as a selection of local arts & crafts. (This market is enrolled in the AZFMNP/WIC program. Visit www.azfmnp.org for additional details.) \nSundays\nSummer Hours: June-Sept: 8am-11am\nWinter Hours: Oct-May: 9am-1pm \nLocation\n4700 E. Warner Rd. Phoenix\, AZ 85044 (In the parking lot of the Ahwatukee Swim & Tennis Center)
URL:https://arizonaseniorguide.com/event/ahwatukee-farmers-market-winter-hours/2026-03-29/
LOCATION:Ahwatukee Swim & Tennis Center\, 4700 E. Warner Rd.\, Phoenix\, AZ\, 85044
CATEGORIES:Free Event,Phoenix
ATTACH;FMTTYPE=image/webp:https://arizonaseniorguide.com/wp-content/uploads/2025/09/Ahwatukee-Farmers-Market.webp
END:VEVENT
END:VCALENDAR