BEGIN:VCALENDAR
VERSION:2.0
PRODID:-//Arizona Senior Guide - ECPv6.15.20//NONSGML v1.0//EN
CALSCALE:GREGORIAN
METHOD:PUBLISH
X-ORIGINAL-URL:https://arizonaseniorguide.com
X-WR-CALDESC:Events for Arizona Senior Guide
REFRESH-INTERVAL;VALUE=DURATION:PT1H
X-Robots-Tag:noindex
X-PUBLISHED-TTL:PT1H
BEGIN:VTIMEZONE
TZID:America/Phoenix
BEGIN:STANDARD
TZOFFSETFROM:-0700
TZOFFSETTO:-0700
TZNAME:MST
DTSTART:20240101T000000
END:STANDARD
END:VTIMEZONE
BEGIN:VEVENT
DTSTART;TZID=America/Phoenix:20250920T070000
DTEND;TZID=America/Phoenix:20250920T100000
DTSTAMP:20260423T081159
CREATED:20250917T183156Z
LAST-MODIFIED:20250917T183156Z
UID:10012060-1758351600-1758362400@arizonaseniorguide.com
SUMMARY:Roadrunner Park Farmers Market (Summer Hours)
DESCRIPTION:Established in 1990\, the Roadrunner Park Farmers Market features local farm produce\, including fresh vegetables & fruit\, baked goods\, honey\, nursery stock\, natural pork\, beef and fish\, hand crafted items. Roadrunner Park has a children’s playground with play equipment\, a fishing pond\, ducks and geese on premises\, swimming pool\, soccer fields\, and all kinds of special events. Well-behaved dogs always welcome! \n(This market accepts EBT\, DUFB and is enrolled in the AZFMNP/WIC program. Visit www.pinnacleprevention.org and www.azfmnp.org for additional details.) \nSaturdays\nSummer Hours: Jun – Sep 7am-10am\nWinter Hours: Oct-May 8am-12pm \nLocation\n3502 E. Cactus Rd.\, Phoenix\, AZ 85032\n(NE Phoenix near Paradise Valley between the 51 Freeway and 36th St.)\n \nMore info (including a list of vendors)
URL:https://arizonaseniorguide.com/event/roadrunner-park-farmers-market-summer-hours/2025-09-20/
LOCATION:Roadrunner Park\, 3502 E Cactus Rd\, Phoenix\, AZ\, 85032
CATEGORIES:Free Event,Phoenix
ATTACH;FMTTYPE=image/webp:https://arizonaseniorguide.com/wp-content/uploads/2025/09/Roadrunner-Park-Farmers-Market.webp
END:VEVENT
BEGIN:VEVENT
DTSTART;TZID=America/Phoenix:20250920T070000
DTEND;TZID=America/Phoenix:20250920T110000
DTSTAMP:20260423T081159
CREATED:20250916T213944Z
LAST-MODIFIED:20250916T214244Z
UID:10011916-1758351600-1758366000@arizonaseniorguide.com
SUMMARY:Gilbert Farmers Market (Summer hours)
DESCRIPTION:Gilbert Farmers Market (GFM) is located in Downtown Gilbert just west of the iconic Water Tower and is open every Saturday. With over 100 vendors year-round\, the market features local\, chemical-free\, organic produce from many local farmers\, farm-fresh eggs\, meat\, cheese\, bread\, sweets\, coffee and tea\, sauces\, seasonings\, and many other locally made artisan products. \nThe GFM is located in Downtown Gilbert just west of the iconic Water Tower. (222 N. Ash St. Gilbert\, AZ 85234).\nNOTE: After 15 years in Downtown Gilbert\, the GFM is moving on October 4th\, 2025 to Chandler-Gilbert Community College\, which is only five miles south on Gilbert Rd. \nSummer Hours (May through September): Saturdays 7 AM to 11 AM \n 
URL:https://arizonaseniorguide.com/event/gilbert-farmers-market-summer-hours/2025-09-20/
LOCATION:AZ
CATEGORIES:Free Event,Phoenix
ATTACH;FMTTYPE=image/webp:https://arizonaseniorguide.com/wp-content/uploads/2025/09/Gilbert-Farmers-Market.webp
END:VEVENT
BEGIN:VEVENT
DTSTART;TZID=America/Phoenix:20250921T080000
DTEND;TZID=America/Phoenix:20250921T110000
DTSTAMP:20260423T081159
CREATED:20250917T181055Z
LAST-MODIFIED:20250917T181055Z
UID:10011950-1758441600-1758452400@arizonaseniorguide.com
SUMMARY:Ahwatukee Farmers Market (Summer hours)
DESCRIPTION:Established in 2002\, the Ahwatukee Farmers Market features fresh\, local\, seasonal produce\, herbs\, flowers\, value added foods\, fresh baked goods\, natural meats and seafood as well as a selection of local arts & crafts. (This market is enrolled in the AZFMNP/WIC program. Visit www.azfmnp.org for additional details.) \nSundays\nSummer Hours: June-Sept: 8am-11am\nWinter Hours: Oct-May: 9am-1pm \nLocation\n4700 E. Warner Rd. Phoenix\, AZ 85044 (In the parking lot of the Ahwatukee Swim & Tennis Center)
URL:https://arizonaseniorguide.com/event/ahwatukee-farmers-market-summer-hours/2025-09-21/
LOCATION:Ahwatukee Swim & Tennis Center\, 4700 E. Warner Rd.\, Phoenix\, AZ\, 85044
CATEGORIES:Free Event,Phoenix
ATTACH;FMTTYPE=image/webp:https://arizonaseniorguide.com/wp-content/uploads/2025/09/Ahwatukee-Farmers-Market.webp
END:VEVENT
BEGIN:VEVENT
DTSTART;TZID=America/Phoenix:20250927T070000
DTEND;TZID=America/Phoenix:20250927T100000
DTSTAMP:20260423T081159
CREATED:20250917T183156Z
LAST-MODIFIED:20250917T183156Z
UID:10012061-1758956400-1758967200@arizonaseniorguide.com
SUMMARY:Roadrunner Park Farmers Market (Summer Hours)
DESCRIPTION:Established in 1990\, the Roadrunner Park Farmers Market features local farm produce\, including fresh vegetables & fruit\, baked goods\, honey\, nursery stock\, natural pork\, beef and fish\, hand crafted items. Roadrunner Park has a children’s playground with play equipment\, a fishing pond\, ducks and geese on premises\, swimming pool\, soccer fields\, and all kinds of special events. Well-behaved dogs always welcome! \n(This market accepts EBT\, DUFB and is enrolled in the AZFMNP/WIC program. Visit www.pinnacleprevention.org and www.azfmnp.org for additional details.) \nSaturdays\nSummer Hours: Jun – Sep 7am-10am\nWinter Hours: Oct-May 8am-12pm \nLocation\n3502 E. Cactus Rd.\, Phoenix\, AZ 85032\n(NE Phoenix near Paradise Valley between the 51 Freeway and 36th St.)\n \nMore info (including a list of vendors)
URL:https://arizonaseniorguide.com/event/roadrunner-park-farmers-market-summer-hours/2025-09-27/
LOCATION:Roadrunner Park\, 3502 E Cactus Rd\, Phoenix\, AZ\, 85032
CATEGORIES:Free Event,Phoenix
ATTACH;FMTTYPE=image/webp:https://arizonaseniorguide.com/wp-content/uploads/2025/09/Roadrunner-Park-Farmers-Market.webp
END:VEVENT
BEGIN:VEVENT
DTSTART;TZID=America/Phoenix:20250927T070000
DTEND;TZID=America/Phoenix:20250927T110000
DTSTAMP:20260423T081159
CREATED:20250916T213944Z
LAST-MODIFIED:20250916T214244Z
UID:10011917-1758956400-1758970800@arizonaseniorguide.com
SUMMARY:Gilbert Farmers Market (Summer hours)
DESCRIPTION:Gilbert Farmers Market (GFM) is located in Downtown Gilbert just west of the iconic Water Tower and is open every Saturday. With over 100 vendors year-round\, the market features local\, chemical-free\, organic produce from many local farmers\, farm-fresh eggs\, meat\, cheese\, bread\, sweets\, coffee and tea\, sauces\, seasonings\, and many other locally made artisan products. \nThe GFM is located in Downtown Gilbert just west of the iconic Water Tower. (222 N. Ash St. Gilbert\, AZ 85234).\nNOTE: After 15 years in Downtown Gilbert\, the GFM is moving on October 4th\, 2025 to Chandler-Gilbert Community College\, which is only five miles south on Gilbert Rd. \nSummer Hours (May through September): Saturdays 7 AM to 11 AM \n 
URL:https://arizonaseniorguide.com/event/gilbert-farmers-market-summer-hours/2025-09-27/
LOCATION:AZ
CATEGORIES:Free Event,Phoenix
ATTACH;FMTTYPE=image/webp:https://arizonaseniorguide.com/wp-content/uploads/2025/09/Gilbert-Farmers-Market.webp
END:VEVENT
BEGIN:VEVENT
DTSTART;TZID=America/Phoenix:20250928T080000
DTEND;TZID=America/Phoenix:20250928T110000
DTSTAMP:20260423T081159
CREATED:20250917T181055Z
LAST-MODIFIED:20250917T181055Z
UID:10011951-1759046400-1759057200@arizonaseniorguide.com
SUMMARY:Ahwatukee Farmers Market (Summer hours)
DESCRIPTION:Established in 2002\, the Ahwatukee Farmers Market features fresh\, local\, seasonal produce\, herbs\, flowers\, value added foods\, fresh baked goods\, natural meats and seafood as well as a selection of local arts & crafts. (This market is enrolled in the AZFMNP/WIC program. Visit www.azfmnp.org for additional details.) \nSundays\nSummer Hours: June-Sept: 8am-11am\nWinter Hours: Oct-May: 9am-1pm \nLocation\n4700 E. Warner Rd. Phoenix\, AZ 85044 (In the parking lot of the Ahwatukee Swim & Tennis Center)
URL:https://arizonaseniorguide.com/event/ahwatukee-farmers-market-summer-hours/2025-09-28/
LOCATION:Ahwatukee Swim & Tennis Center\, 4700 E. Warner Rd.\, Phoenix\, AZ\, 85044
CATEGORIES:Free Event,Phoenix
ATTACH;FMTTYPE=image/webp:https://arizonaseniorguide.com/wp-content/uploads/2025/09/Ahwatukee-Farmers-Market.webp
END:VEVENT
END:VCALENDAR