BEGIN:VCALENDAR
VERSION:2.0
PRODID:-//Arizona Senior Guide - ECPv6.15.20//NONSGML v1.0//EN
CALSCALE:GREGORIAN
METHOD:PUBLISH
X-ORIGINAL-URL:https://arizonaseniorguide.com
X-WR-CALDESC:Events for Arizona Senior Guide
REFRESH-INTERVAL;VALUE=DURATION:PT1H
X-Robots-Tag:noindex
X-PUBLISHED-TTL:PT1H
BEGIN:VTIMEZONE
TZID:America/Phoenix
BEGIN:STANDARD
TZOFFSETFROM:-0700
TZOFFSETTO:-0700
TZNAME:MST
DTSTART:20250101T000000
END:STANDARD
END:VTIMEZONE
BEGIN:VEVENT
DTSTART;TZID=America/Phoenix:20261003T070000
DTEND;TZID=America/Phoenix:20261003T110000
DTSTAMP:20260425T074303
CREATED:20250730T215159Z
LAST-MODIFIED:20250908T193250Z
UID:10010996-1791010800-1791025200@arizonaseniorguide.com
SUMMARY:Uptown Farmers' Market (Saturdays)
DESCRIPTION:Uptown Farmers Market is a food-based market and gathering place dedicated to inspiring and educating home cooks through arizona produce\, handmade foods and handcrafted goods. \nThis Saturday farmers market is run year-round\, by a very small crew\, in the heart of Phoenix\, which allows us frequent face-to-face connection with our Arizona producers.  This means that we have personally met\, and correspond directly with\, every single local grower\, farmers\, baker\, creator and producer here. \nCurrently Open:\nSaturdays from 7:00 am – 11:00 am (year-round)\nWednesdays from 9:00 am – 1:00 pm (closed for the summer. Reopens in October.) \nUptown Farmers Market is a dedicated gathering space for nearly 200 Local Arizona Producers. \n\nSmoked meats\nHoney\nProduce\nSeafood\nHealth products\nCoffee\nCheese\nSweets\nBreads\nMicrogreens\nPlants\nArtisan Crafts\nand more!\n\nMore info
URL:https://arizonaseniorguide.com/event/uptown-farmers-market-2-2/2026-10-03/
LOCATION:Uptown Farmers Market\, 5757 N Central Ave\, Phoenix\, AZ\, 85012
CATEGORIES:Free Event,Phoenix
ATTACH;FMTTYPE=image/webp:https://arizonaseniorguide.com/wp-content/uploads/2023/09/uptown-farmer-mkt-copy-1-e1695245925865.webp
END:VEVENT
BEGIN:VEVENT
DTSTART;TZID=America/Phoenix:20261007T090000
DTEND;TZID=America/Phoenix:20261007T130000
DTSTAMP:20260425T074303
CREATED:20240423T201215Z
LAST-MODIFIED:20250908T193406Z
UID:10009345-1791363600-1791378000@arizonaseniorguide.com
SUMMARY:Uptown Farmers' Market (Wednesdays)
DESCRIPTION:Uptown Farmers Market is a food-based market and gathering place dedicated to inspiring and educating home cooks through arizona produce\, handmade foods and handcrafted goods. \nThis Wednesday farmers market is run year-round\, by a very small crew\, in the heart of Phoenix\, which allows us frequent face-to-face connection with our Arizona producers.  This means that we have personally met\, and correspond directly with\, every single local grower\, farmers\, baker\, creator and producer here. \nCurrently Open:\nSaturdays from 7:00 am – 11:00 am (year-round)\nWednesdays from 9:00 am – 1:00 pm (closed for the summer. Reopens in October.) \nUptown Farmers Market is a dedicated gathering space for nearly 200 Local Arizona Producers. \n\nSmoked meats\nHoney\nProduce\nSeafood\nHealth products\nCoffee\nCheese\nSweets\nBreads\nMicrogreens\nPlants\nArtisan Crafts\nand more!\n\nMore info
URL:https://arizonaseniorguide.com/event/uptown-farmers-market-wednesdays/2026-10-07/
LOCATION:Uptown Farmers Market\, 5757 N Central Ave\, Phoenix\, AZ\, 85012
CATEGORIES:Phoenix
ATTACH;FMTTYPE=image/webp:https://arizonaseniorguide.com/wp-content/uploads/2023/09/uptown-farmer-mkt-copy-1-e1695245925865.webp
END:VEVENT
BEGIN:VEVENT
DTSTART;TZID=America/Phoenix:20261010T070000
DTEND;TZID=America/Phoenix:20261010T110000
DTSTAMP:20260425T074303
CREATED:20250730T215159Z
LAST-MODIFIED:20250908T193250Z
UID:10010997-1791615600-1791630000@arizonaseniorguide.com
SUMMARY:Uptown Farmers' Market (Saturdays)
DESCRIPTION:Uptown Farmers Market is a food-based market and gathering place dedicated to inspiring and educating home cooks through arizona produce\, handmade foods and handcrafted goods. \nThis Saturday farmers market is run year-round\, by a very small crew\, in the heart of Phoenix\, which allows us frequent face-to-face connection with our Arizona producers.  This means that we have personally met\, and correspond directly with\, every single local grower\, farmers\, baker\, creator and producer here. \nCurrently Open:\nSaturdays from 7:00 am – 11:00 am (year-round)\nWednesdays from 9:00 am – 1:00 pm (closed for the summer. Reopens in October.) \nUptown Farmers Market is a dedicated gathering space for nearly 200 Local Arizona Producers. \n\nSmoked meats\nHoney\nProduce\nSeafood\nHealth products\nCoffee\nCheese\nSweets\nBreads\nMicrogreens\nPlants\nArtisan Crafts\nand more!\n\nMore info
URL:https://arizonaseniorguide.com/event/uptown-farmers-market-2-2/2026-10-10/
LOCATION:Uptown Farmers Market\, 5757 N Central Ave\, Phoenix\, AZ\, 85012
CATEGORIES:Free Event,Phoenix
ATTACH;FMTTYPE=image/webp:https://arizonaseniorguide.com/wp-content/uploads/2023/09/uptown-farmer-mkt-copy-1-e1695245925865.webp
END:VEVENT
BEGIN:VEVENT
DTSTART;TZID=America/Phoenix:20261010T090000
DTEND;TZID=America/Phoenix:20261010T130000
DTSTAMP:20260425T074303
CREATED:20240423T191032Z
LAST-MODIFIED:20250908T193956Z
UID:10011741-1791622800-1791637200@arizonaseniorguide.com
SUMMARY:Second Saturdays (Market) at Steam Pump Ranch
DESCRIPTION:This farmers market at the Steam Pump Ranch in Oro Valley happens every month on the second Saturday\, October through April. \n\nHeirloom Farmer’s Market\nCraft and artisan market\n9:30 a.m. – 11:00 a.m. Kid’s Craft in the Heritage Garden (Supplies are limited so arrive early.)\n10:00 a.m. – 12:00 p.m. Prehistoric demonstrations with Archaeology Southwest in the Heritage Garden.\n10:30 a.m. – 12:00 p.m. Live Music\n\nDATES:\nOctober – March: 9:00 a.m. – 1:00 p.m.\nApril: 8:00 a.m. – 12:00 p.m.\nMay – September: CLOSED \n 
URL:https://arizonaseniorguide.com/event/second-saturdays-market-at-steam-pump-ranch-2/2026-10-10/
LOCATION:Steam Pump Ranch\, 10901 N. Oracle Rd.\, Oro Valley\, AZ\, 85737
CATEGORIES:Free Event,Oro Valley,Tucson
ATTACH;FMTTYPE=image/jpeg:https://arizonaseniorguide.com/wp-content/uploads/2023/08/Steam-Pump-Ranch-second-saturdays.jpg
END:VEVENT
BEGIN:VEVENT
DTSTART;TZID=America/Phoenix:20261014T090000
DTEND;TZID=America/Phoenix:20261014T130000
DTSTAMP:20260425T074303
CREATED:20240423T201215Z
LAST-MODIFIED:20250908T193406Z
UID:10009346-1791968400-1791982800@arizonaseniorguide.com
SUMMARY:Uptown Farmers' Market (Wednesdays)
DESCRIPTION:Uptown Farmers Market is a food-based market and gathering place dedicated to inspiring and educating home cooks through arizona produce\, handmade foods and handcrafted goods. \nThis Wednesday farmers market is run year-round\, by a very small crew\, in the heart of Phoenix\, which allows us frequent face-to-face connection with our Arizona producers.  This means that we have personally met\, and correspond directly with\, every single local grower\, farmers\, baker\, creator and producer here. \nCurrently Open:\nSaturdays from 7:00 am – 11:00 am (year-round)\nWednesdays from 9:00 am – 1:00 pm (closed for the summer. Reopens in October.) \nUptown Farmers Market is a dedicated gathering space for nearly 200 Local Arizona Producers. \n\nSmoked meats\nHoney\nProduce\nSeafood\nHealth products\nCoffee\nCheese\nSweets\nBreads\nMicrogreens\nPlants\nArtisan Crafts\nand more!\n\nMore info
URL:https://arizonaseniorguide.com/event/uptown-farmers-market-wednesdays/2026-10-14/
LOCATION:Uptown Farmers Market\, 5757 N Central Ave\, Phoenix\, AZ\, 85012
CATEGORIES:Phoenix
ATTACH;FMTTYPE=image/webp:https://arizonaseniorguide.com/wp-content/uploads/2023/09/uptown-farmer-mkt-copy-1-e1695245925865.webp
END:VEVENT
BEGIN:VEVENT
DTSTART;TZID=America/Phoenix:20261017T070000
DTEND;TZID=America/Phoenix:20261017T110000
DTSTAMP:20260425T074303
CREATED:20250730T215159Z
LAST-MODIFIED:20250908T193250Z
UID:10010998-1792220400-1792234800@arizonaseniorguide.com
SUMMARY:Uptown Farmers' Market (Saturdays)
DESCRIPTION:Uptown Farmers Market is a food-based market and gathering place dedicated to inspiring and educating home cooks through arizona produce\, handmade foods and handcrafted goods. \nThis Saturday farmers market is run year-round\, by a very small crew\, in the heart of Phoenix\, which allows us frequent face-to-face connection with our Arizona producers.  This means that we have personally met\, and correspond directly with\, every single local grower\, farmers\, baker\, creator and producer here. \nCurrently Open:\nSaturdays from 7:00 am – 11:00 am (year-round)\nWednesdays from 9:00 am – 1:00 pm (closed for the summer. Reopens in October.) \nUptown Farmers Market is a dedicated gathering space for nearly 200 Local Arizona Producers. \n\nSmoked meats\nHoney\nProduce\nSeafood\nHealth products\nCoffee\nCheese\nSweets\nBreads\nMicrogreens\nPlants\nArtisan Crafts\nand more!\n\nMore info
URL:https://arizonaseniorguide.com/event/uptown-farmers-market-2-2/2026-10-17/
LOCATION:Uptown Farmers Market\, 5757 N Central Ave\, Phoenix\, AZ\, 85012
CATEGORIES:Free Event,Phoenix
ATTACH;FMTTYPE=image/webp:https://arizonaseniorguide.com/wp-content/uploads/2023/09/uptown-farmer-mkt-copy-1-e1695245925865.webp
END:VEVENT
BEGIN:VEVENT
DTSTART;TZID=America/Phoenix:20261021T090000
DTEND;TZID=America/Phoenix:20261021T130000
DTSTAMP:20260425T074303
CREATED:20240423T201215Z
LAST-MODIFIED:20250908T193406Z
UID:10009347-1792573200-1792587600@arizonaseniorguide.com
SUMMARY:Uptown Farmers' Market (Wednesdays)
DESCRIPTION:Uptown Farmers Market is a food-based market and gathering place dedicated to inspiring and educating home cooks through arizona produce\, handmade foods and handcrafted goods. \nThis Wednesday farmers market is run year-round\, by a very small crew\, in the heart of Phoenix\, which allows us frequent face-to-face connection with our Arizona producers.  This means that we have personally met\, and correspond directly with\, every single local grower\, farmers\, baker\, creator and producer here. \nCurrently Open:\nSaturdays from 7:00 am – 11:00 am (year-round)\nWednesdays from 9:00 am – 1:00 pm (closed for the summer. Reopens in October.) \nUptown Farmers Market is a dedicated gathering space for nearly 200 Local Arizona Producers. \n\nSmoked meats\nHoney\nProduce\nSeafood\nHealth products\nCoffee\nCheese\nSweets\nBreads\nMicrogreens\nPlants\nArtisan Crafts\nand more!\n\nMore info
URL:https://arizonaseniorguide.com/event/uptown-farmers-market-wednesdays/2026-10-21/
LOCATION:Uptown Farmers Market\, 5757 N Central Ave\, Phoenix\, AZ\, 85012
CATEGORIES:Phoenix
ATTACH;FMTTYPE=image/webp:https://arizonaseniorguide.com/wp-content/uploads/2023/09/uptown-farmer-mkt-copy-1-e1695245925865.webp
END:VEVENT
BEGIN:VEVENT
DTSTART;TZID=America/Phoenix:20261024T070000
DTEND;TZID=America/Phoenix:20261024T110000
DTSTAMP:20260425T074303
CREATED:20250730T215159Z
LAST-MODIFIED:20250908T193250Z
UID:10010999-1792825200-1792839600@arizonaseniorguide.com
SUMMARY:Uptown Farmers' Market (Saturdays)
DESCRIPTION:Uptown Farmers Market is a food-based market and gathering place dedicated to inspiring and educating home cooks through arizona produce\, handmade foods and handcrafted goods. \nThis Saturday farmers market is run year-round\, by a very small crew\, in the heart of Phoenix\, which allows us frequent face-to-face connection with our Arizona producers.  This means that we have personally met\, and correspond directly with\, every single local grower\, farmers\, baker\, creator and producer here. \nCurrently Open:\nSaturdays from 7:00 am – 11:00 am (year-round)\nWednesdays from 9:00 am – 1:00 pm (closed for the summer. Reopens in October.) \nUptown Farmers Market is a dedicated gathering space for nearly 200 Local Arizona Producers. \n\nSmoked meats\nHoney\nProduce\nSeafood\nHealth products\nCoffee\nCheese\nSweets\nBreads\nMicrogreens\nPlants\nArtisan Crafts\nand more!\n\nMore info
URL:https://arizonaseniorguide.com/event/uptown-farmers-market-2-2/2026-10-24/
LOCATION:Uptown Farmers Market\, 5757 N Central Ave\, Phoenix\, AZ\, 85012
CATEGORIES:Free Event,Phoenix
ATTACH;FMTTYPE=image/webp:https://arizonaseniorguide.com/wp-content/uploads/2023/09/uptown-farmer-mkt-copy-1-e1695245925865.webp
END:VEVENT
BEGIN:VEVENT
DTSTART;TZID=America/Phoenix:20261028T090000
DTEND;TZID=America/Phoenix:20261028T130000
DTSTAMP:20260425T074303
CREATED:20240423T201215Z
LAST-MODIFIED:20250908T193406Z
UID:10009348-1793178000-1793192400@arizonaseniorguide.com
SUMMARY:Uptown Farmers' Market (Wednesdays)
DESCRIPTION:Uptown Farmers Market is a food-based market and gathering place dedicated to inspiring and educating home cooks through arizona produce\, handmade foods and handcrafted goods. \nThis Wednesday farmers market is run year-round\, by a very small crew\, in the heart of Phoenix\, which allows us frequent face-to-face connection with our Arizona producers.  This means that we have personally met\, and correspond directly with\, every single local grower\, farmers\, baker\, creator and producer here. \nCurrently Open:\nSaturdays from 7:00 am – 11:00 am (year-round)\nWednesdays from 9:00 am – 1:00 pm (closed for the summer. Reopens in October.) \nUptown Farmers Market is a dedicated gathering space for nearly 200 Local Arizona Producers. \n\nSmoked meats\nHoney\nProduce\nSeafood\nHealth products\nCoffee\nCheese\nSweets\nBreads\nMicrogreens\nPlants\nArtisan Crafts\nand more!\n\nMore info
URL:https://arizonaseniorguide.com/event/uptown-farmers-market-wednesdays/2026-10-28/
LOCATION:Uptown Farmers Market\, 5757 N Central Ave\, Phoenix\, AZ\, 85012
CATEGORIES:Phoenix
ATTACH;FMTTYPE=image/webp:https://arizonaseniorguide.com/wp-content/uploads/2023/09/uptown-farmer-mkt-copy-1-e1695245925865.webp
END:VEVENT
BEGIN:VEVENT
DTSTART;TZID=America/Phoenix:20261031T070000
DTEND;TZID=America/Phoenix:20261031T110000
DTSTAMP:20260425T074303
CREATED:20250730T215159Z
LAST-MODIFIED:20250908T193250Z
UID:10011000-1793430000-1793444400@arizonaseniorguide.com
SUMMARY:Uptown Farmers' Market (Saturdays)
DESCRIPTION:Uptown Farmers Market is a food-based market and gathering place dedicated to inspiring and educating home cooks through arizona produce\, handmade foods and handcrafted goods. \nThis Saturday farmers market is run year-round\, by a very small crew\, in the heart of Phoenix\, which allows us frequent face-to-face connection with our Arizona producers.  This means that we have personally met\, and correspond directly with\, every single local grower\, farmers\, baker\, creator and producer here. \nCurrently Open:\nSaturdays from 7:00 am – 11:00 am (year-round)\nWednesdays from 9:00 am – 1:00 pm (closed for the summer. Reopens in October.) \nUptown Farmers Market is a dedicated gathering space for nearly 200 Local Arizona Producers. \n\nSmoked meats\nHoney\nProduce\nSeafood\nHealth products\nCoffee\nCheese\nSweets\nBreads\nMicrogreens\nPlants\nArtisan Crafts\nand more!\n\nMore info
URL:https://arizonaseniorguide.com/event/uptown-farmers-market-2-2/2026-10-31/
LOCATION:Uptown Farmers Market\, 5757 N Central Ave\, Phoenix\, AZ\, 85012
CATEGORIES:Free Event,Phoenix
ATTACH;FMTTYPE=image/webp:https://arizonaseniorguide.com/wp-content/uploads/2023/09/uptown-farmer-mkt-copy-1-e1695245925865.webp
END:VEVENT
END:VCALENDAR