BEGIN:VCALENDAR
VERSION:2.0
PRODID:-//Arizona Senior Guide - ECPv6.15.20//NONSGML v1.0//EN
CALSCALE:GREGORIAN
METHOD:PUBLISH
X-ORIGINAL-URL:https://arizonaseniorguide.com
X-WR-CALDESC:Events for Arizona Senior Guide
REFRESH-INTERVAL;VALUE=DURATION:PT1H
X-Robots-Tag:noindex
X-PUBLISHED-TTL:PT1H
BEGIN:VTIMEZONE
TZID:America/Phoenix
BEGIN:STANDARD
TZOFFSETFROM:-0700
TZOFFSETTO:-0700
TZNAME:MST
DTSTART:20240101T000000
END:STANDARD
END:VTIMEZONE
BEGIN:VEVENT
DTSTART;TZID=America/Phoenix:20250802T070000
DTEND;TZID=America/Phoenix:20250802T110000
DTSTAMP:20260425T131449
CREATED:20250730T215159Z
LAST-MODIFIED:20250908T193250Z
UID:10008761-1754118000-1754132400@arizonaseniorguide.com
SUMMARY:Uptown Farmers' Market (Saturdays)
DESCRIPTION:Uptown Farmers Market is a food-based market and gathering place dedicated to inspiring and educating home cooks through arizona produce\, handmade foods and handcrafted goods. \nThis Saturday farmers market is run year-round\, by a very small crew\, in the heart of Phoenix\, which allows us frequent face-to-face connection with our Arizona producers.  This means that we have personally met\, and correspond directly with\, every single local grower\, farmers\, baker\, creator and producer here. \nCurrently Open:\nSaturdays from 7:00 am – 11:00 am (year-round)\nWednesdays from 9:00 am – 1:00 pm (closed for the summer. Reopens in October.) \nUptown Farmers Market is a dedicated gathering space for nearly 200 Local Arizona Producers. \n\nSmoked meats\nHoney\nProduce\nSeafood\nHealth products\nCoffee\nCheese\nSweets\nBreads\nMicrogreens\nPlants\nArtisan Crafts\nand more!\n\nMore info
URL:https://arizonaseniorguide.com/event/uptown-farmers-market-2-2/2025-08-02/
LOCATION:Uptown Farmers Market\, 5757 N Central Ave\, Phoenix\, AZ\, 85012
CATEGORIES:Free Event,Phoenix
ATTACH;FMTTYPE=image/webp:https://arizonaseniorguide.com/wp-content/uploads/2023/09/uptown-farmer-mkt-copy-1-e1695245925865.webp
END:VEVENT
BEGIN:VEVENT
DTSTART;TZID=America/Phoenix:20250802T073000
DTEND;TZID=America/Phoenix:20250802T113000
DTSTAMP:20260425T131449
CREATED:20250908T194826Z
LAST-MODIFIED:20250908T194827Z
UID:10011775-1754119800-1754134200@arizonaseniorguide.com
SUMMARY:Downtown Phoenix Farmers Market\, Saturdays (Summer season)
DESCRIPTION:Every Saturday\, rain or shine\, the Downtown Phoenix Farmer’s Market has many local merchants for you to check out! \n\nProduce\, Honey\, Meat\, Fish\, Pasta\, Breads\, Sweets\, Snacks etc.\nArts & Crafts\nArtisan/Jewelry\nPlants\nCoffee/Tea\nSoaps\nMedicinal/Wellness items\nand more\n\nMain Season: Saturdays (3rd Sat in Oct-2nd Sat in May): 8 am to 1 pm\nSummer Season: Saturdays (3rd Sat in May-2nd Sat in Oct): 7:30 am to 11:30 am \nMore info
URL:https://arizonaseniorguide.com/event/downtown-phoenix-farmers-market-saturdays-summer-2/2025-08-02/
LOCATION:Downtown Phoenix Farmers Market\, 720 N 5th St\, Phoenix\, AZ\, 85004
CATEGORIES:Phoenix
ATTACH;FMTTYPE=image/webp:https://arizonaseniorguide.com/wp-content/uploads/2023/09/Downtown-Phoenix-Farmers-Market-summer.webp
END:VEVENT
BEGIN:VEVENT
DTSTART;TZID=America/Phoenix:20250803T080000
DTEND;TZID=America/Phoenix:20250803T120000
DTSTAMP:20260425T131449
CREATED:20250730T220847Z
LAST-MODIFIED:20250908T190855Z
UID:10010434-1754208000-1754222400@arizonaseniorguide.com
SUMMARY:Rillito Park Farmers Market (Heirloom Farmers Market)\, Summer
DESCRIPTION:Tucson’s largest year-round farmers market is located in the Southeast corner of Rillito Park\, along the bike trail known as The Loop. The weekly Sunday Rillito Park Farmers Market hosts farmers\, ranchers and artisan food purveyors featuring local produce and fresh cuisine. Four pavilions provide shade for a 5\,000 square foot shopping area\, and along with the center entertainment circle\, host a variety of small businesses. This market offers quarterly chef demonstrations\, seasonal food festivals\, bicycle-friendly events\, and local live music. \nOPEN EVERY SUNDAY\n8AM – 12PM (APR – SEP)\n9AM – 1PM (OCT– MAR) \nRillito Park Farmers Market Food Pavilion is located off of 1st Ave. and River Rd.\, on the southeast side of the Rillito Park Racetrack’s parking lot. The pavilion is accessible and has restrooms on site. \nPlease note that no dogs or pets of any kind (even those in arms) are allowed at this farmer’s market.
URL:https://arizonaseniorguide.com/event/rillito-park-farmers-market-heirloom-farmers-market-summer/2025-08-03/
LOCATION:Rillito Park Racetrack\, 4502 N 1st Avenue\, Tucson\, 85719
CATEGORIES:Tucson
ATTACH;FMTTYPE=image/webp:https://arizonaseniorguide.com/wp-content/uploads/2023/08/Heirloom-Farmers-Market.webp
END:VEVENT
BEGIN:VEVENT
DTSTART;TZID=America/Phoenix:20250806T090000
DTEND;TZID=America/Phoenix:20250806T130000
DTSTAMP:20260425T131449
CREATED:20240423T201215Z
LAST-MODIFIED:20250908T193406Z
UID:10009284-1754470800-1754485200@arizonaseniorguide.com
SUMMARY:Uptown Farmers' Market (Wednesdays)
DESCRIPTION:Uptown Farmers Market is a food-based market and gathering place dedicated to inspiring and educating home cooks through arizona produce\, handmade foods and handcrafted goods. \nThis Wednesday farmers market is run year-round\, by a very small crew\, in the heart of Phoenix\, which allows us frequent face-to-face connection with our Arizona producers.  This means that we have personally met\, and correspond directly with\, every single local grower\, farmers\, baker\, creator and producer here. \nCurrently Open:\nSaturdays from 7:00 am – 11:00 am (year-round)\nWednesdays from 9:00 am – 1:00 pm (closed for the summer. Reopens in October.) \nUptown Farmers Market is a dedicated gathering space for nearly 200 Local Arizona Producers. \n\nSmoked meats\nHoney\nProduce\nSeafood\nHealth products\nCoffee\nCheese\nSweets\nBreads\nMicrogreens\nPlants\nArtisan Crafts\nand more!\n\nMore info
URL:https://arizonaseniorguide.com/event/uptown-farmers-market-wednesdays/2025-08-06/
LOCATION:Uptown Farmers Market\, 5757 N Central Ave\, Phoenix\, AZ\, 85012
CATEGORIES:Phoenix
ATTACH;FMTTYPE=image/webp:https://arizonaseniorguide.com/wp-content/uploads/2023/09/uptown-farmer-mkt-copy-1-e1695245925865.webp
END:VEVENT
BEGIN:VEVENT
DTSTART;TZID=America/Phoenix:20250809T070000
DTEND;TZID=America/Phoenix:20250809T110000
DTSTAMP:20260425T131449
CREATED:20250730T215159Z
LAST-MODIFIED:20250908T193250Z
UID:10010936-1754722800-1754737200@arizonaseniorguide.com
SUMMARY:Uptown Farmers' Market (Saturdays)
DESCRIPTION:Uptown Farmers Market is a food-based market and gathering place dedicated to inspiring and educating home cooks through arizona produce\, handmade foods and handcrafted goods. \nThis Saturday farmers market is run year-round\, by a very small crew\, in the heart of Phoenix\, which allows us frequent face-to-face connection with our Arizona producers.  This means that we have personally met\, and correspond directly with\, every single local grower\, farmers\, baker\, creator and producer here. \nCurrently Open:\nSaturdays from 7:00 am – 11:00 am (year-round)\nWednesdays from 9:00 am – 1:00 pm (closed for the summer. Reopens in October.) \nUptown Farmers Market is a dedicated gathering space for nearly 200 Local Arizona Producers. \n\nSmoked meats\nHoney\nProduce\nSeafood\nHealth products\nCoffee\nCheese\nSweets\nBreads\nMicrogreens\nPlants\nArtisan Crafts\nand more!\n\nMore info
URL:https://arizonaseniorguide.com/event/uptown-farmers-market-2-2/2025-08-09/
LOCATION:Uptown Farmers Market\, 5757 N Central Ave\, Phoenix\, AZ\, 85012
CATEGORIES:Free Event,Phoenix
ATTACH;FMTTYPE=image/webp:https://arizonaseniorguide.com/wp-content/uploads/2023/09/uptown-farmer-mkt-copy-1-e1695245925865.webp
END:VEVENT
BEGIN:VEVENT
DTSTART;TZID=America/Phoenix:20250809T073000
DTEND;TZID=America/Phoenix:20250809T113000
DTSTAMP:20260425T131449
CREATED:20250908T194826Z
LAST-MODIFIED:20250908T194827Z
UID:10011776-1754724600-1754739000@arizonaseniorguide.com
SUMMARY:Downtown Phoenix Farmers Market\, Saturdays (Summer season)
DESCRIPTION:Every Saturday\, rain or shine\, the Downtown Phoenix Farmer’s Market has many local merchants for you to check out! \n\nProduce\, Honey\, Meat\, Fish\, Pasta\, Breads\, Sweets\, Snacks etc.\nArts & Crafts\nArtisan/Jewelry\nPlants\nCoffee/Tea\nSoaps\nMedicinal/Wellness items\nand more\n\nMain Season: Saturdays (3rd Sat in Oct-2nd Sat in May): 8 am to 1 pm\nSummer Season: Saturdays (3rd Sat in May-2nd Sat in Oct): 7:30 am to 11:30 am \nMore info
URL:https://arizonaseniorguide.com/event/downtown-phoenix-farmers-market-saturdays-summer-2/2025-08-09/
LOCATION:Downtown Phoenix Farmers Market\, 720 N 5th St\, Phoenix\, AZ\, 85004
CATEGORIES:Phoenix
ATTACH;FMTTYPE=image/webp:https://arizonaseniorguide.com/wp-content/uploads/2023/09/Downtown-Phoenix-Farmers-Market-summer.webp
END:VEVENT
BEGIN:VEVENT
DTSTART;TZID=America/Phoenix:20250810T080000
DTEND;TZID=America/Phoenix:20250810T120000
DTSTAMP:20260425T131449
CREATED:20250730T220847Z
LAST-MODIFIED:20250908T190855Z
UID:10011196-1754812800-1754827200@arizonaseniorguide.com
SUMMARY:Rillito Park Farmers Market (Heirloom Farmers Market)\, Summer
DESCRIPTION:Tucson’s largest year-round farmers market is located in the Southeast corner of Rillito Park\, along the bike trail known as The Loop. The weekly Sunday Rillito Park Farmers Market hosts farmers\, ranchers and artisan food purveyors featuring local produce and fresh cuisine. Four pavilions provide shade for a 5\,000 square foot shopping area\, and along with the center entertainment circle\, host a variety of small businesses. This market offers quarterly chef demonstrations\, seasonal food festivals\, bicycle-friendly events\, and local live music. \nOPEN EVERY SUNDAY\n8AM – 12PM (APR – SEP)\n9AM – 1PM (OCT– MAR) \nRillito Park Farmers Market Food Pavilion is located off of 1st Ave. and River Rd.\, on the southeast side of the Rillito Park Racetrack’s parking lot. The pavilion is accessible and has restrooms on site. \nPlease note that no dogs or pets of any kind (even those in arms) are allowed at this farmer’s market.
URL:https://arizonaseniorguide.com/event/rillito-park-farmers-market-heirloom-farmers-market-summer/2025-08-10/
LOCATION:Rillito Park Racetrack\, 4502 N 1st Avenue\, Tucson\, 85719
CATEGORIES:Tucson
ATTACH;FMTTYPE=image/webp:https://arizonaseniorguide.com/wp-content/uploads/2023/08/Heirloom-Farmers-Market.webp
END:VEVENT
BEGIN:VEVENT
DTSTART;TZID=America/Phoenix:20250813T090000
DTEND;TZID=America/Phoenix:20250813T130000
DTSTAMP:20260425T131449
CREATED:20240423T201215Z
LAST-MODIFIED:20250908T193406Z
UID:10009285-1755075600-1755090000@arizonaseniorguide.com
SUMMARY:Uptown Farmers' Market (Wednesdays)
DESCRIPTION:Uptown Farmers Market is a food-based market and gathering place dedicated to inspiring and educating home cooks through arizona produce\, handmade foods and handcrafted goods. \nThis Wednesday farmers market is run year-round\, by a very small crew\, in the heart of Phoenix\, which allows us frequent face-to-face connection with our Arizona producers.  This means that we have personally met\, and correspond directly with\, every single local grower\, farmers\, baker\, creator and producer here. \nCurrently Open:\nSaturdays from 7:00 am – 11:00 am (year-round)\nWednesdays from 9:00 am – 1:00 pm (closed for the summer. Reopens in October.) \nUptown Farmers Market is a dedicated gathering space for nearly 200 Local Arizona Producers. \n\nSmoked meats\nHoney\nProduce\nSeafood\nHealth products\nCoffee\nCheese\nSweets\nBreads\nMicrogreens\nPlants\nArtisan Crafts\nand more!\n\nMore info
URL:https://arizonaseniorguide.com/event/uptown-farmers-market-wednesdays/2025-08-13/
LOCATION:Uptown Farmers Market\, 5757 N Central Ave\, Phoenix\, AZ\, 85012
CATEGORIES:Phoenix
ATTACH;FMTTYPE=image/webp:https://arizonaseniorguide.com/wp-content/uploads/2023/09/uptown-farmer-mkt-copy-1-e1695245925865.webp
END:VEVENT
BEGIN:VEVENT
DTSTART;TZID=America/Phoenix:20250816T070000
DTEND;TZID=America/Phoenix:20250816T110000
DTSTAMP:20260425T131449
CREATED:20250730T215159Z
LAST-MODIFIED:20250908T193250Z
UID:10010937-1755327600-1755342000@arizonaseniorguide.com
SUMMARY:Uptown Farmers' Market (Saturdays)
DESCRIPTION:Uptown Farmers Market is a food-based market and gathering place dedicated to inspiring and educating home cooks through arizona produce\, handmade foods and handcrafted goods. \nThis Saturday farmers market is run year-round\, by a very small crew\, in the heart of Phoenix\, which allows us frequent face-to-face connection with our Arizona producers.  This means that we have personally met\, and correspond directly with\, every single local grower\, farmers\, baker\, creator and producer here. \nCurrently Open:\nSaturdays from 7:00 am – 11:00 am (year-round)\nWednesdays from 9:00 am – 1:00 pm (closed for the summer. Reopens in October.) \nUptown Farmers Market is a dedicated gathering space for nearly 200 Local Arizona Producers. \n\nSmoked meats\nHoney\nProduce\nSeafood\nHealth products\nCoffee\nCheese\nSweets\nBreads\nMicrogreens\nPlants\nArtisan Crafts\nand more!\n\nMore info
URL:https://arizonaseniorguide.com/event/uptown-farmers-market-2-2/2025-08-16/
LOCATION:Uptown Farmers Market\, 5757 N Central Ave\, Phoenix\, AZ\, 85012
CATEGORIES:Free Event,Phoenix
ATTACH;FMTTYPE=image/webp:https://arizonaseniorguide.com/wp-content/uploads/2023/09/uptown-farmer-mkt-copy-1-e1695245925865.webp
END:VEVENT
BEGIN:VEVENT
DTSTART;TZID=America/Phoenix:20250816T073000
DTEND;TZID=America/Phoenix:20250816T113000
DTSTAMP:20260425T131449
CREATED:20250908T194826Z
LAST-MODIFIED:20250908T194827Z
UID:10011777-1755329400-1755343800@arizonaseniorguide.com
SUMMARY:Downtown Phoenix Farmers Market\, Saturdays (Summer season)
DESCRIPTION:Every Saturday\, rain or shine\, the Downtown Phoenix Farmer’s Market has many local merchants for you to check out! \n\nProduce\, Honey\, Meat\, Fish\, Pasta\, Breads\, Sweets\, Snacks etc.\nArts & Crafts\nArtisan/Jewelry\nPlants\nCoffee/Tea\nSoaps\nMedicinal/Wellness items\nand more\n\nMain Season: Saturdays (3rd Sat in Oct-2nd Sat in May): 8 am to 1 pm\nSummer Season: Saturdays (3rd Sat in May-2nd Sat in Oct): 7:30 am to 11:30 am \nMore info
URL:https://arizonaseniorguide.com/event/downtown-phoenix-farmers-market-saturdays-summer-2/2025-08-16/
LOCATION:Downtown Phoenix Farmers Market\, 720 N 5th St\, Phoenix\, AZ\, 85004
CATEGORIES:Phoenix
ATTACH;FMTTYPE=image/webp:https://arizonaseniorguide.com/wp-content/uploads/2023/09/Downtown-Phoenix-Farmers-Market-summer.webp
END:VEVENT
BEGIN:VEVENT
DTSTART;TZID=America/Phoenix:20250817T080000
DTEND;TZID=America/Phoenix:20250817T120000
DTSTAMP:20260425T131449
CREATED:20250730T220847Z
LAST-MODIFIED:20250908T190855Z
UID:10011197-1755417600-1755432000@arizonaseniorguide.com
SUMMARY:Rillito Park Farmers Market (Heirloom Farmers Market)\, Summer
DESCRIPTION:Tucson’s largest year-round farmers market is located in the Southeast corner of Rillito Park\, along the bike trail known as The Loop. The weekly Sunday Rillito Park Farmers Market hosts farmers\, ranchers and artisan food purveyors featuring local produce and fresh cuisine. Four pavilions provide shade for a 5\,000 square foot shopping area\, and along with the center entertainment circle\, host a variety of small businesses. This market offers quarterly chef demonstrations\, seasonal food festivals\, bicycle-friendly events\, and local live music. \nOPEN EVERY SUNDAY\n8AM – 12PM (APR – SEP)\n9AM – 1PM (OCT– MAR) \nRillito Park Farmers Market Food Pavilion is located off of 1st Ave. and River Rd.\, on the southeast side of the Rillito Park Racetrack’s parking lot. The pavilion is accessible and has restrooms on site. \nPlease note that no dogs or pets of any kind (even those in arms) are allowed at this farmer’s market.
URL:https://arizonaseniorguide.com/event/rillito-park-farmers-market-heirloom-farmers-market-summer/2025-08-17/
LOCATION:Rillito Park Racetrack\, 4502 N 1st Avenue\, Tucson\, 85719
CATEGORIES:Tucson
ATTACH;FMTTYPE=image/webp:https://arizonaseniorguide.com/wp-content/uploads/2023/08/Heirloom-Farmers-Market.webp
END:VEVENT
BEGIN:VEVENT
DTSTART;TZID=America/Phoenix:20250820T090000
DTEND;TZID=America/Phoenix:20250820T130000
DTSTAMP:20260425T131449
CREATED:20240423T201215Z
LAST-MODIFIED:20250908T193406Z
UID:10009286-1755680400-1755694800@arizonaseniorguide.com
SUMMARY:Uptown Farmers' Market (Wednesdays)
DESCRIPTION:Uptown Farmers Market is a food-based market and gathering place dedicated to inspiring and educating home cooks through arizona produce\, handmade foods and handcrafted goods. \nThis Wednesday farmers market is run year-round\, by a very small crew\, in the heart of Phoenix\, which allows us frequent face-to-face connection with our Arizona producers.  This means that we have personally met\, and correspond directly with\, every single local grower\, farmers\, baker\, creator and producer here. \nCurrently Open:\nSaturdays from 7:00 am – 11:00 am (year-round)\nWednesdays from 9:00 am – 1:00 pm (closed for the summer. Reopens in October.) \nUptown Farmers Market is a dedicated gathering space for nearly 200 Local Arizona Producers. \n\nSmoked meats\nHoney\nProduce\nSeafood\nHealth products\nCoffee\nCheese\nSweets\nBreads\nMicrogreens\nPlants\nArtisan Crafts\nand more!\n\nMore info
URL:https://arizonaseniorguide.com/event/uptown-farmers-market-wednesdays/2025-08-20/
LOCATION:Uptown Farmers Market\, 5757 N Central Ave\, Phoenix\, AZ\, 85012
CATEGORIES:Phoenix
ATTACH;FMTTYPE=image/webp:https://arizonaseniorguide.com/wp-content/uploads/2023/09/uptown-farmer-mkt-copy-1-e1695245925865.webp
END:VEVENT
BEGIN:VEVENT
DTSTART;TZID=America/Phoenix:20250823T070000
DTEND;TZID=America/Phoenix:20250823T110000
DTSTAMP:20260425T131449
CREATED:20250730T215159Z
LAST-MODIFIED:20250908T193250Z
UID:10010938-1755932400-1755946800@arizonaseniorguide.com
SUMMARY:Uptown Farmers' Market (Saturdays)
DESCRIPTION:Uptown Farmers Market is a food-based market and gathering place dedicated to inspiring and educating home cooks through arizona produce\, handmade foods and handcrafted goods. \nThis Saturday farmers market is run year-round\, by a very small crew\, in the heart of Phoenix\, which allows us frequent face-to-face connection with our Arizona producers.  This means that we have personally met\, and correspond directly with\, every single local grower\, farmers\, baker\, creator and producer here. \nCurrently Open:\nSaturdays from 7:00 am – 11:00 am (year-round)\nWednesdays from 9:00 am – 1:00 pm (closed for the summer. Reopens in October.) \nUptown Farmers Market is a dedicated gathering space for nearly 200 Local Arizona Producers. \n\nSmoked meats\nHoney\nProduce\nSeafood\nHealth products\nCoffee\nCheese\nSweets\nBreads\nMicrogreens\nPlants\nArtisan Crafts\nand more!\n\nMore info
URL:https://arizonaseniorguide.com/event/uptown-farmers-market-2-2/2025-08-23/
LOCATION:Uptown Farmers Market\, 5757 N Central Ave\, Phoenix\, AZ\, 85012
CATEGORIES:Free Event,Phoenix
ATTACH;FMTTYPE=image/webp:https://arizonaseniorguide.com/wp-content/uploads/2023/09/uptown-farmer-mkt-copy-1-e1695245925865.webp
END:VEVENT
BEGIN:VEVENT
DTSTART;TZID=America/Phoenix:20250823T073000
DTEND;TZID=America/Phoenix:20250823T113000
DTSTAMP:20260425T131449
CREATED:20250908T194826Z
LAST-MODIFIED:20250908T194827Z
UID:10011778-1755934200-1755948600@arizonaseniorguide.com
SUMMARY:Downtown Phoenix Farmers Market\, Saturdays (Summer season)
DESCRIPTION:Every Saturday\, rain or shine\, the Downtown Phoenix Farmer’s Market has many local merchants for you to check out! \n\nProduce\, Honey\, Meat\, Fish\, Pasta\, Breads\, Sweets\, Snacks etc.\nArts & Crafts\nArtisan/Jewelry\nPlants\nCoffee/Tea\nSoaps\nMedicinal/Wellness items\nand more\n\nMain Season: Saturdays (3rd Sat in Oct-2nd Sat in May): 8 am to 1 pm\nSummer Season: Saturdays (3rd Sat in May-2nd Sat in Oct): 7:30 am to 11:30 am \nMore info
URL:https://arizonaseniorguide.com/event/downtown-phoenix-farmers-market-saturdays-summer-2/2025-08-23/
LOCATION:Downtown Phoenix Farmers Market\, 720 N 5th St\, Phoenix\, AZ\, 85004
CATEGORIES:Phoenix
ATTACH;FMTTYPE=image/webp:https://arizonaseniorguide.com/wp-content/uploads/2023/09/Downtown-Phoenix-Farmers-Market-summer.webp
END:VEVENT
BEGIN:VEVENT
DTSTART;TZID=America/Phoenix:20250824T080000
DTEND;TZID=America/Phoenix:20250824T120000
DTSTAMP:20260425T131449
CREATED:20250730T220847Z
LAST-MODIFIED:20250908T190855Z
UID:10011198-1756022400-1756036800@arizonaseniorguide.com
SUMMARY:Rillito Park Farmers Market (Heirloom Farmers Market)\, Summer
DESCRIPTION:Tucson’s largest year-round farmers market is located in the Southeast corner of Rillito Park\, along the bike trail known as The Loop. The weekly Sunday Rillito Park Farmers Market hosts farmers\, ranchers and artisan food purveyors featuring local produce and fresh cuisine. Four pavilions provide shade for a 5\,000 square foot shopping area\, and along with the center entertainment circle\, host a variety of small businesses. This market offers quarterly chef demonstrations\, seasonal food festivals\, bicycle-friendly events\, and local live music. \nOPEN EVERY SUNDAY\n8AM – 12PM (APR – SEP)\n9AM – 1PM (OCT– MAR) \nRillito Park Farmers Market Food Pavilion is located off of 1st Ave. and River Rd.\, on the southeast side of the Rillito Park Racetrack’s parking lot. The pavilion is accessible and has restrooms on site. \nPlease note that no dogs or pets of any kind (even those in arms) are allowed at this farmer’s market.
URL:https://arizonaseniorguide.com/event/rillito-park-farmers-market-heirloom-farmers-market-summer/2025-08-24/
LOCATION:Rillito Park Racetrack\, 4502 N 1st Avenue\, Tucson\, 85719
CATEGORIES:Tucson
ATTACH;FMTTYPE=image/webp:https://arizonaseniorguide.com/wp-content/uploads/2023/08/Heirloom-Farmers-Market.webp
END:VEVENT
BEGIN:VEVENT
DTSTART;TZID=America/Phoenix:20250827T090000
DTEND;TZID=America/Phoenix:20250827T130000
DTSTAMP:20260425T131449
CREATED:20240423T201215Z
LAST-MODIFIED:20250908T193406Z
UID:10009287-1756285200-1756299600@arizonaseniorguide.com
SUMMARY:Uptown Farmers' Market (Wednesdays)
DESCRIPTION:Uptown Farmers Market is a food-based market and gathering place dedicated to inspiring and educating home cooks through arizona produce\, handmade foods and handcrafted goods. \nThis Wednesday farmers market is run year-round\, by a very small crew\, in the heart of Phoenix\, which allows us frequent face-to-face connection with our Arizona producers.  This means that we have personally met\, and correspond directly with\, every single local grower\, farmers\, baker\, creator and producer here. \nCurrently Open:\nSaturdays from 7:00 am – 11:00 am (year-round)\nWednesdays from 9:00 am – 1:00 pm (closed for the summer. Reopens in October.) \nUptown Farmers Market is a dedicated gathering space for nearly 200 Local Arizona Producers. \n\nSmoked meats\nHoney\nProduce\nSeafood\nHealth products\nCoffee\nCheese\nSweets\nBreads\nMicrogreens\nPlants\nArtisan Crafts\nand more!\n\nMore info
URL:https://arizonaseniorguide.com/event/uptown-farmers-market-wednesdays/2025-08-27/
LOCATION:Uptown Farmers Market\, 5757 N Central Ave\, Phoenix\, AZ\, 85012
CATEGORIES:Phoenix
ATTACH;FMTTYPE=image/webp:https://arizonaseniorguide.com/wp-content/uploads/2023/09/uptown-farmer-mkt-copy-1-e1695245925865.webp
END:VEVENT
BEGIN:VEVENT
DTSTART;TZID=America/Phoenix:20250830T070000
DTEND;TZID=America/Phoenix:20250830T110000
DTSTAMP:20260425T131449
CREATED:20250730T215159Z
LAST-MODIFIED:20250908T193250Z
UID:10010939-1756537200-1756551600@arizonaseniorguide.com
SUMMARY:Uptown Farmers' Market (Saturdays)
DESCRIPTION:Uptown Farmers Market is a food-based market and gathering place dedicated to inspiring and educating home cooks through arizona produce\, handmade foods and handcrafted goods. \nThis Saturday farmers market is run year-round\, by a very small crew\, in the heart of Phoenix\, which allows us frequent face-to-face connection with our Arizona producers.  This means that we have personally met\, and correspond directly with\, every single local grower\, farmers\, baker\, creator and producer here. \nCurrently Open:\nSaturdays from 7:00 am – 11:00 am (year-round)\nWednesdays from 9:00 am – 1:00 pm (closed for the summer. Reopens in October.) \nUptown Farmers Market is a dedicated gathering space for nearly 200 Local Arizona Producers. \n\nSmoked meats\nHoney\nProduce\nSeafood\nHealth products\nCoffee\nCheese\nSweets\nBreads\nMicrogreens\nPlants\nArtisan Crafts\nand more!\n\nMore info
URL:https://arizonaseniorguide.com/event/uptown-farmers-market-2-2/2025-08-30/
LOCATION:Uptown Farmers Market\, 5757 N Central Ave\, Phoenix\, AZ\, 85012
CATEGORIES:Free Event,Phoenix
ATTACH;FMTTYPE=image/webp:https://arizonaseniorguide.com/wp-content/uploads/2023/09/uptown-farmer-mkt-copy-1-e1695245925865.webp
END:VEVENT
BEGIN:VEVENT
DTSTART;TZID=America/Phoenix:20250830T073000
DTEND;TZID=America/Phoenix:20250830T113000
DTSTAMP:20260425T131449
CREATED:20250908T194826Z
LAST-MODIFIED:20250908T194827Z
UID:10011779-1756539000-1756553400@arizonaseniorguide.com
SUMMARY:Downtown Phoenix Farmers Market\, Saturdays (Summer season)
DESCRIPTION:Every Saturday\, rain or shine\, the Downtown Phoenix Farmer’s Market has many local merchants for you to check out! \n\nProduce\, Honey\, Meat\, Fish\, Pasta\, Breads\, Sweets\, Snacks etc.\nArts & Crafts\nArtisan/Jewelry\nPlants\nCoffee/Tea\nSoaps\nMedicinal/Wellness items\nand more\n\nMain Season: Saturdays (3rd Sat in Oct-2nd Sat in May): 8 am to 1 pm\nSummer Season: Saturdays (3rd Sat in May-2nd Sat in Oct): 7:30 am to 11:30 am \nMore info
URL:https://arizonaseniorguide.com/event/downtown-phoenix-farmers-market-saturdays-summer-2/2025-08-30/
LOCATION:Downtown Phoenix Farmers Market\, 720 N 5th St\, Phoenix\, AZ\, 85004
CATEGORIES:Phoenix
ATTACH;FMTTYPE=image/webp:https://arizonaseniorguide.com/wp-content/uploads/2023/09/Downtown-Phoenix-Farmers-Market-summer.webp
END:VEVENT
BEGIN:VEVENT
DTSTART;TZID=America/Phoenix:20250831T080000
DTEND;TZID=America/Phoenix:20250831T120000
DTSTAMP:20260425T131449
CREATED:20250730T220847Z
LAST-MODIFIED:20250908T190855Z
UID:10011199-1756627200-1756641600@arizonaseniorguide.com
SUMMARY:Rillito Park Farmers Market (Heirloom Farmers Market)\, Summer
DESCRIPTION:Tucson’s largest year-round farmers market is located in the Southeast corner of Rillito Park\, along the bike trail known as The Loop. The weekly Sunday Rillito Park Farmers Market hosts farmers\, ranchers and artisan food purveyors featuring local produce and fresh cuisine. Four pavilions provide shade for a 5\,000 square foot shopping area\, and along with the center entertainment circle\, host a variety of small businesses. This market offers quarterly chef demonstrations\, seasonal food festivals\, bicycle-friendly events\, and local live music. \nOPEN EVERY SUNDAY\n8AM – 12PM (APR – SEP)\n9AM – 1PM (OCT– MAR) \nRillito Park Farmers Market Food Pavilion is located off of 1st Ave. and River Rd.\, on the southeast side of the Rillito Park Racetrack’s parking lot. The pavilion is accessible and has restrooms on site. \nPlease note that no dogs or pets of any kind (even those in arms) are allowed at this farmer’s market.
URL:https://arizonaseniorguide.com/event/rillito-park-farmers-market-heirloom-farmers-market-summer/2025-08-31/
LOCATION:Rillito Park Racetrack\, 4502 N 1st Avenue\, Tucson\, 85719
CATEGORIES:Tucson
ATTACH;FMTTYPE=image/webp:https://arizonaseniorguide.com/wp-content/uploads/2023/08/Heirloom-Farmers-Market.webp
END:VEVENT
BEGIN:VEVENT
DTSTART;TZID=America/Phoenix:20250831T180000
DTEND;TZID=America/Phoenix:20250831T210000
DTSTAMP:20260425T131449
CREATED:20250818T212507Z
LAST-MODIFIED:20250818T212507Z
UID:10011487-1756663200-1756674000@arizonaseniorguide.com
SUMMARY:Labor Day Luau at Hacienda del Sol
DESCRIPTION:The 3rd Annual Labor Day Luau celebration returns to Hacienda del Sol! \n\nHawaiian-themed buffet\nTiki drinks\nLive music and dancers.\nComplimentary souvenir cup\nOne special cocktail or mocktail\n\nThis event sells out every year\, so get your tickets before they run out!\nTickets are $85 per person. \nTickets and more info \nMake it a celebratory weekend with our Labor Day Luau Getaway Rooms Package\, which includes 2 tickets for this event. \n 
URL:https://arizonaseniorguide.com/event/labor-day-luau-at-hacienda-del-sol/
LOCATION:Hacienda Del Sol Guest Ranch Resort\, 5501 N. Hacienda Del Sol Rd\, Tucson\, AZ\, 85718
CATEGORIES:Dance,Live Music,Tucson
ATTACH;FMTTYPE=image/webp:https://arizonaseniorguide.com/wp-content/uploads/2025/08/luau.webp
END:VEVENT
END:VCALENDAR