BEGIN:VCALENDAR
VERSION:2.0
PRODID:-//Arizona Senior Guide - ECPv6.15.20//NONSGML v1.0//EN
CALSCALE:GREGORIAN
METHOD:PUBLISH
X-ORIGINAL-URL:https://arizonaseniorguide.com
X-WR-CALDESC:Events for Arizona Senior Guide
REFRESH-INTERVAL;VALUE=DURATION:PT1H
X-Robots-Tag:noindex
X-PUBLISHED-TTL:PT1H
BEGIN:VTIMEZONE
TZID:America/Phoenix
BEGIN:STANDARD
TZOFFSETFROM:-0700
TZOFFSETTO:-0700
TZNAME:MST
DTSTART:20240101T000000
END:STANDARD
END:VTIMEZONE
BEGIN:VEVENT
DTSTART;TZID=America/Phoenix:20250702T090000
DTEND;TZID=America/Phoenix:20250702T130000
DTSTAMP:20260425T150758
CREATED:20240423T201215Z
LAST-MODIFIED:20250908T193406Z
UID:10009279-1751446800-1751461200@arizonaseniorguide.com
SUMMARY:Uptown Farmers' Market (Wednesdays)
DESCRIPTION:Uptown Farmers Market is a food-based market and gathering place dedicated to inspiring and educating home cooks through arizona produce\, handmade foods and handcrafted goods. \nThis Wednesday farmers market is run year-round\, by a very small crew\, in the heart of Phoenix\, which allows us frequent face-to-face connection with our Arizona producers.  This means that we have personally met\, and correspond directly with\, every single local grower\, farmers\, baker\, creator and producer here. \nCurrently Open:\nSaturdays from 7:00 am – 11:00 am (year-round)\nWednesdays from 9:00 am – 1:00 pm (closed for the summer. Reopens in October.) \nUptown Farmers Market is a dedicated gathering space for nearly 200 Local Arizona Producers. \n\nSmoked meats\nHoney\nProduce\nSeafood\nHealth products\nCoffee\nCheese\nSweets\nBreads\nMicrogreens\nPlants\nArtisan Crafts\nand more!\n\nMore info
URL:https://arizonaseniorguide.com/event/uptown-farmers-market-wednesdays/2025-07-02/
LOCATION:Uptown Farmers Market\, 5757 N Central Ave\, Phoenix\, AZ\, 85012
CATEGORIES:Phoenix
ATTACH;FMTTYPE=image/webp:https://arizonaseniorguide.com/wp-content/uploads/2023/09/uptown-farmer-mkt-copy-1-e1695245925865.webp
END:VEVENT
BEGIN:VEVENT
DTSTART;TZID=America/Phoenix:20250705T073000
DTEND;TZID=America/Phoenix:20250705T113000
DTSTAMP:20260425T150758
CREATED:20250908T194826Z
LAST-MODIFIED:20250908T194827Z
UID:10011771-1751700600-1751715000@arizonaseniorguide.com
SUMMARY:Downtown Phoenix Farmers Market\, Saturdays (Summer season)
DESCRIPTION:Every Saturday\, rain or shine\, the Downtown Phoenix Farmer’s Market has many local merchants for you to check out! \n\nProduce\, Honey\, Meat\, Fish\, Pasta\, Breads\, Sweets\, Snacks etc.\nArts & Crafts\nArtisan/Jewelry\nPlants\nCoffee/Tea\nSoaps\nMedicinal/Wellness items\nand more\n\nMain Season: Saturdays (3rd Sat in Oct-2nd Sat in May): 8 am to 1 pm\nSummer Season: Saturdays (3rd Sat in May-2nd Sat in Oct): 7:30 am to 11:30 am \nMore info
URL:https://arizonaseniorguide.com/event/downtown-phoenix-farmers-market-saturdays-summer-2/2025-07-05/
LOCATION:Downtown Phoenix Farmers Market\, 720 N 5th St\, Phoenix\, AZ\, 85004
CATEGORIES:Phoenix
ATTACH;FMTTYPE=image/webp:https://arizonaseniorguide.com/wp-content/uploads/2023/09/Downtown-Phoenix-Farmers-Market-summer.webp
END:VEVENT
BEGIN:VEVENT
DTSTART;TZID=America/Phoenix:20250705T080000
DTEND;TZID=America/Phoenix:20250705T130000
DTSTAMP:20260425T150758
CREATED:20240423T201033Z
LAST-MODIFIED:20240919T200225Z
UID:10008757-1751702400-1751720400@arizonaseniorguide.com
SUMMARY:Uptown Farmers' Market (Saturdays)
DESCRIPTION:Uptown Farmers Market is a food-based market and gathering place dedicated to inspiring and educating home cooks through arizona produce\, handmade foods and handcrafted goods. \nThis Saturday farmers market is run year-round\, by a very small crew\, in the heart of Phoenix\, which allows us frequent face-to-face connection with our Arizona producers.  This means that we have personally met\, and correspond directly with\, every single local grower\, farmers\, baker\, creator and producer here. \nCurrently Open:\nSaturdays from 8:00 am – 1:00 pm\nWednesdays from 9:00 am – 1:00 pm\n(Online Marketplace is Closed for Summer) \nUptown Farmers Market is a dedicated gathering space for nearly 200 Local Arizona Producers. \n\nSmoked meats\nHoney\nProduce\nSeafood\nHealth products\nCoffee\nCheese\nSweets\nBreads\nMicrogreens\nPlants\nArtisan Crafts\nand more!\n\nMore info
URL:https://arizonaseniorguide.com/event/uptown-farmers-market-2/2025-07-05/
LOCATION:Uptown Farmers Market\, 5757 N Central Ave\, Phoenix\, AZ\, 85012
CATEGORIES:Free Event,Phoenix
ATTACH;FMTTYPE=image/webp:https://arizonaseniorguide.com/wp-content/uploads/2023/09/uptown-farmer-mkt-copy-1-e1695245925865.webp
END:VEVENT
BEGIN:VEVENT
DTSTART;TZID=America/Phoenix:20250706T090000
DTEND;TZID=America/Phoenix:20250706T130000
DTSTAMP:20260425T150758
CREATED:20250227T182415Z
LAST-MODIFIED:20250227T182534Z
UID:10010430-1751792400-1751806800@arizonaseniorguide.com
SUMMARY:Rillito Park Farmers Market (Heirloom Farmers Market)
DESCRIPTION:Tucson’s largest year-round farmers market is located in the Southeast corner of Rillito Park\, along the bike trail known as The Loop. The weekly Sunday Rillito Park Farmers Market hosts farmers\, ranchers and artisan food purveyors featuring local produce and fresh cuisine. Four pavilions provide shade for a 5\,000 square foot shopping area\, and along with the center entertainment circle\, host a variety of small businesses. This market offers quarterly chef demonstrations\, seasonal food festivals\, bicycle-friendly events\, and local live music. \nOPEN EVERY SUNDAY\n8AM – 12PM (APR – SEP)\n9AM – 1PM (OCT– MAR) \nRillito Park Farmers Market Food Pavilion is located off of 1st Ave. and River Rd.\, on the southeast side of the Rillito Park Racetrack’s parking lot. The pavilion is accessible and has restrooms on site. \nPlease note that no dogs or pets of any kind (even those in arms) are allowed at this farmer’s market.
URL:https://arizonaseniorguide.com/event/rillito-park-farmers-market-heirloom-farmers-market-2/2025-07-06/
LOCATION:Rillito Park Racetrack\, 4502 N 1st Avenue\, Tucson\, 85719
CATEGORIES:Tucson
ATTACH;FMTTYPE=image/webp:https://arizonaseniorguide.com/wp-content/uploads/2023/08/Heirloom-Farmers-Market.webp
END:VEVENT
BEGIN:VEVENT
DTSTART;TZID=America/Phoenix:20250709T090000
DTEND;TZID=America/Phoenix:20250709T130000
DTSTAMP:20260425T150758
CREATED:20240423T201215Z
LAST-MODIFIED:20250908T193406Z
UID:10009280-1752051600-1752066000@arizonaseniorguide.com
SUMMARY:Uptown Farmers' Market (Wednesdays)
DESCRIPTION:Uptown Farmers Market is a food-based market and gathering place dedicated to inspiring and educating home cooks through arizona produce\, handmade foods and handcrafted goods. \nThis Wednesday farmers market is run year-round\, by a very small crew\, in the heart of Phoenix\, which allows us frequent face-to-face connection with our Arizona producers.  This means that we have personally met\, and correspond directly with\, every single local grower\, farmers\, baker\, creator and producer here. \nCurrently Open:\nSaturdays from 7:00 am – 11:00 am (year-round)\nWednesdays from 9:00 am – 1:00 pm (closed for the summer. Reopens in October.) \nUptown Farmers Market is a dedicated gathering space for nearly 200 Local Arizona Producers. \n\nSmoked meats\nHoney\nProduce\nSeafood\nHealth products\nCoffee\nCheese\nSweets\nBreads\nMicrogreens\nPlants\nArtisan Crafts\nand more!\n\nMore info
URL:https://arizonaseniorguide.com/event/uptown-farmers-market-wednesdays/2025-07-09/
LOCATION:Uptown Farmers Market\, 5757 N Central Ave\, Phoenix\, AZ\, 85012
CATEGORIES:Phoenix
ATTACH;FMTTYPE=image/webp:https://arizonaseniorguide.com/wp-content/uploads/2023/09/uptown-farmer-mkt-copy-1-e1695245925865.webp
END:VEVENT
BEGIN:VEVENT
DTSTART;TZID=America/Phoenix:20250712T073000
DTEND;TZID=America/Phoenix:20250712T113000
DTSTAMP:20260425T150758
CREATED:20250908T194826Z
LAST-MODIFIED:20250908T194827Z
UID:10011772-1752305400-1752319800@arizonaseniorguide.com
SUMMARY:Downtown Phoenix Farmers Market\, Saturdays (Summer season)
DESCRIPTION:Every Saturday\, rain or shine\, the Downtown Phoenix Farmer’s Market has many local merchants for you to check out! \n\nProduce\, Honey\, Meat\, Fish\, Pasta\, Breads\, Sweets\, Snacks etc.\nArts & Crafts\nArtisan/Jewelry\nPlants\nCoffee/Tea\nSoaps\nMedicinal/Wellness items\nand more\n\nMain Season: Saturdays (3rd Sat in Oct-2nd Sat in May): 8 am to 1 pm\nSummer Season: Saturdays (3rd Sat in May-2nd Sat in Oct): 7:30 am to 11:30 am \nMore info
URL:https://arizonaseniorguide.com/event/downtown-phoenix-farmers-market-saturdays-summer-2/2025-07-12/
LOCATION:Downtown Phoenix Farmers Market\, 720 N 5th St\, Phoenix\, AZ\, 85004
CATEGORIES:Phoenix
ATTACH;FMTTYPE=image/webp:https://arizonaseniorguide.com/wp-content/uploads/2023/09/Downtown-Phoenix-Farmers-Market-summer.webp
END:VEVENT
BEGIN:VEVENT
DTSTART;TZID=America/Phoenix:20250712T080000
DTEND;TZID=America/Phoenix:20250712T130000
DTSTAMP:20260425T150758
CREATED:20240423T201033Z
LAST-MODIFIED:20240919T200225Z
UID:10008758-1752307200-1752325200@arizonaseniorguide.com
SUMMARY:Uptown Farmers' Market (Saturdays)
DESCRIPTION:Uptown Farmers Market is a food-based market and gathering place dedicated to inspiring and educating home cooks through arizona produce\, handmade foods and handcrafted goods. \nThis Saturday farmers market is run year-round\, by a very small crew\, in the heart of Phoenix\, which allows us frequent face-to-face connection with our Arizona producers.  This means that we have personally met\, and correspond directly with\, every single local grower\, farmers\, baker\, creator and producer here. \nCurrently Open:\nSaturdays from 8:00 am – 1:00 pm\nWednesdays from 9:00 am – 1:00 pm\n(Online Marketplace is Closed for Summer) \nUptown Farmers Market is a dedicated gathering space for nearly 200 Local Arizona Producers. \n\nSmoked meats\nHoney\nProduce\nSeafood\nHealth products\nCoffee\nCheese\nSweets\nBreads\nMicrogreens\nPlants\nArtisan Crafts\nand more!\n\nMore info
URL:https://arizonaseniorguide.com/event/uptown-farmers-market-2/2025-07-12/
LOCATION:Uptown Farmers Market\, 5757 N Central Ave\, Phoenix\, AZ\, 85012
CATEGORIES:Free Event,Phoenix
ATTACH;FMTTYPE=image/webp:https://arizonaseniorguide.com/wp-content/uploads/2023/09/uptown-farmer-mkt-copy-1-e1695245925865.webp
END:VEVENT
BEGIN:VEVENT
DTSTART;TZID=America/Phoenix:20250713T090000
DTEND;TZID=America/Phoenix:20250713T130000
DTSTAMP:20260425T150758
CREATED:20250227T182415Z
LAST-MODIFIED:20250227T182534Z
UID:10010431-1752397200-1752411600@arizonaseniorguide.com
SUMMARY:Rillito Park Farmers Market (Heirloom Farmers Market)
DESCRIPTION:Tucson’s largest year-round farmers market is located in the Southeast corner of Rillito Park\, along the bike trail known as The Loop. The weekly Sunday Rillito Park Farmers Market hosts farmers\, ranchers and artisan food purveyors featuring local produce and fresh cuisine. Four pavilions provide shade for a 5\,000 square foot shopping area\, and along with the center entertainment circle\, host a variety of small businesses. This market offers quarterly chef demonstrations\, seasonal food festivals\, bicycle-friendly events\, and local live music. \nOPEN EVERY SUNDAY\n8AM – 12PM (APR – SEP)\n9AM – 1PM (OCT– MAR) \nRillito Park Farmers Market Food Pavilion is located off of 1st Ave. and River Rd.\, on the southeast side of the Rillito Park Racetrack’s parking lot. The pavilion is accessible and has restrooms on site. \nPlease note that no dogs or pets of any kind (even those in arms) are allowed at this farmer’s market.
URL:https://arizonaseniorguide.com/event/rillito-park-farmers-market-heirloom-farmers-market-2/2025-07-13/
LOCATION:Rillito Park Racetrack\, 4502 N 1st Avenue\, Tucson\, 85719
CATEGORIES:Tucson
ATTACH;FMTTYPE=image/webp:https://arizonaseniorguide.com/wp-content/uploads/2023/08/Heirloom-Farmers-Market.webp
END:VEVENT
BEGIN:VEVENT
DTSTART;TZID=America/Phoenix:20250716T090000
DTEND;TZID=America/Phoenix:20250716T130000
DTSTAMP:20260425T150759
CREATED:20240423T201215Z
LAST-MODIFIED:20250908T193406Z
UID:10009281-1752656400-1752670800@arizonaseniorguide.com
SUMMARY:Uptown Farmers' Market (Wednesdays)
DESCRIPTION:Uptown Farmers Market is a food-based market and gathering place dedicated to inspiring and educating home cooks through arizona produce\, handmade foods and handcrafted goods. \nThis Wednesday farmers market is run year-round\, by a very small crew\, in the heart of Phoenix\, which allows us frequent face-to-face connection with our Arizona producers.  This means that we have personally met\, and correspond directly with\, every single local grower\, farmers\, baker\, creator and producer here. \nCurrently Open:\nSaturdays from 7:00 am – 11:00 am (year-round)\nWednesdays from 9:00 am – 1:00 pm (closed for the summer. Reopens in October.) \nUptown Farmers Market is a dedicated gathering space for nearly 200 Local Arizona Producers. \n\nSmoked meats\nHoney\nProduce\nSeafood\nHealth products\nCoffee\nCheese\nSweets\nBreads\nMicrogreens\nPlants\nArtisan Crafts\nand more!\n\nMore info
URL:https://arizonaseniorguide.com/event/uptown-farmers-market-wednesdays/2025-07-16/
LOCATION:Uptown Farmers Market\, 5757 N Central Ave\, Phoenix\, AZ\, 85012
CATEGORIES:Phoenix
ATTACH;FMTTYPE=image/webp:https://arizonaseniorguide.com/wp-content/uploads/2023/09/uptown-farmer-mkt-copy-1-e1695245925865.webp
END:VEVENT
BEGIN:VEVENT
DTSTART;TZID=America/Phoenix:20250719T073000
DTEND;TZID=America/Phoenix:20250719T113000
DTSTAMP:20260425T150759
CREATED:20250908T194826Z
LAST-MODIFIED:20250908T194827Z
UID:10011773-1752910200-1752924600@arizonaseniorguide.com
SUMMARY:Downtown Phoenix Farmers Market\, Saturdays (Summer season)
DESCRIPTION:Every Saturday\, rain or shine\, the Downtown Phoenix Farmer’s Market has many local merchants for you to check out! \n\nProduce\, Honey\, Meat\, Fish\, Pasta\, Breads\, Sweets\, Snacks etc.\nArts & Crafts\nArtisan/Jewelry\nPlants\nCoffee/Tea\nSoaps\nMedicinal/Wellness items\nand more\n\nMain Season: Saturdays (3rd Sat in Oct-2nd Sat in May): 8 am to 1 pm\nSummer Season: Saturdays (3rd Sat in May-2nd Sat in Oct): 7:30 am to 11:30 am \nMore info
URL:https://arizonaseniorguide.com/event/downtown-phoenix-farmers-market-saturdays-summer-2/2025-07-19/
LOCATION:Downtown Phoenix Farmers Market\, 720 N 5th St\, Phoenix\, AZ\, 85004
CATEGORIES:Phoenix
ATTACH;FMTTYPE=image/webp:https://arizonaseniorguide.com/wp-content/uploads/2023/09/Downtown-Phoenix-Farmers-Market-summer.webp
END:VEVENT
BEGIN:VEVENT
DTSTART;TZID=America/Phoenix:20250719T080000
DTEND;TZID=America/Phoenix:20250719T130000
DTSTAMP:20260425T150759
CREATED:20240423T201033Z
LAST-MODIFIED:20240919T200225Z
UID:10008759-1752912000-1752930000@arizonaseniorguide.com
SUMMARY:Uptown Farmers' Market (Saturdays)
DESCRIPTION:Uptown Farmers Market is a food-based market and gathering place dedicated to inspiring and educating home cooks through arizona produce\, handmade foods and handcrafted goods. \nThis Saturday farmers market is run year-round\, by a very small crew\, in the heart of Phoenix\, which allows us frequent face-to-face connection with our Arizona producers.  This means that we have personally met\, and correspond directly with\, every single local grower\, farmers\, baker\, creator and producer here. \nCurrently Open:\nSaturdays from 8:00 am – 1:00 pm\nWednesdays from 9:00 am – 1:00 pm\n(Online Marketplace is Closed for Summer) \nUptown Farmers Market is a dedicated gathering space for nearly 200 Local Arizona Producers. \n\nSmoked meats\nHoney\nProduce\nSeafood\nHealth products\nCoffee\nCheese\nSweets\nBreads\nMicrogreens\nPlants\nArtisan Crafts\nand more!\n\nMore info
URL:https://arizonaseniorguide.com/event/uptown-farmers-market-2/2025-07-19/
LOCATION:Uptown Farmers Market\, 5757 N Central Ave\, Phoenix\, AZ\, 85012
CATEGORIES:Free Event,Phoenix
ATTACH;FMTTYPE=image/webp:https://arizonaseniorguide.com/wp-content/uploads/2023/09/uptown-farmer-mkt-copy-1-e1695245925865.webp
END:VEVENT
BEGIN:VEVENT
DTSTART;TZID=America/Phoenix:20250720T090000
DTEND;TZID=America/Phoenix:20250720T130000
DTSTAMP:20260425T150759
CREATED:20250227T182415Z
LAST-MODIFIED:20250227T182534Z
UID:10010432-1753002000-1753016400@arizonaseniorguide.com
SUMMARY:Rillito Park Farmers Market (Heirloom Farmers Market)
DESCRIPTION:Tucson’s largest year-round farmers market is located in the Southeast corner of Rillito Park\, along the bike trail known as The Loop. The weekly Sunday Rillito Park Farmers Market hosts farmers\, ranchers and artisan food purveyors featuring local produce and fresh cuisine. Four pavilions provide shade for a 5\,000 square foot shopping area\, and along with the center entertainment circle\, host a variety of small businesses. This market offers quarterly chef demonstrations\, seasonal food festivals\, bicycle-friendly events\, and local live music. \nOPEN EVERY SUNDAY\n8AM – 12PM (APR – SEP)\n9AM – 1PM (OCT– MAR) \nRillito Park Farmers Market Food Pavilion is located off of 1st Ave. and River Rd.\, on the southeast side of the Rillito Park Racetrack’s parking lot. The pavilion is accessible and has restrooms on site. \nPlease note that no dogs or pets of any kind (even those in arms) are allowed at this farmer’s market.
URL:https://arizonaseniorguide.com/event/rillito-park-farmers-market-heirloom-farmers-market-2/2025-07-20/
LOCATION:Rillito Park Racetrack\, 4502 N 1st Avenue\, Tucson\, 85719
CATEGORIES:Tucson
ATTACH;FMTTYPE=image/webp:https://arizonaseniorguide.com/wp-content/uploads/2023/08/Heirloom-Farmers-Market.webp
END:VEVENT
BEGIN:VEVENT
DTSTART;TZID=America/Phoenix:20250723T090000
DTEND;TZID=America/Phoenix:20250723T130000
DTSTAMP:20260425T150759
CREATED:20240423T201215Z
LAST-MODIFIED:20250908T193406Z
UID:10009282-1753261200-1753275600@arizonaseniorguide.com
SUMMARY:Uptown Farmers' Market (Wednesdays)
DESCRIPTION:Uptown Farmers Market is a food-based market and gathering place dedicated to inspiring and educating home cooks through arizona produce\, handmade foods and handcrafted goods. \nThis Wednesday farmers market is run year-round\, by a very small crew\, in the heart of Phoenix\, which allows us frequent face-to-face connection with our Arizona producers.  This means that we have personally met\, and correspond directly with\, every single local grower\, farmers\, baker\, creator and producer here. \nCurrently Open:\nSaturdays from 7:00 am – 11:00 am (year-round)\nWednesdays from 9:00 am – 1:00 pm (closed for the summer. Reopens in October.) \nUptown Farmers Market is a dedicated gathering space for nearly 200 Local Arizona Producers. \n\nSmoked meats\nHoney\nProduce\nSeafood\nHealth products\nCoffee\nCheese\nSweets\nBreads\nMicrogreens\nPlants\nArtisan Crafts\nand more!\n\nMore info
URL:https://arizonaseniorguide.com/event/uptown-farmers-market-wednesdays/2025-07-23/
LOCATION:Uptown Farmers Market\, 5757 N Central Ave\, Phoenix\, AZ\, 85012
CATEGORIES:Phoenix
ATTACH;FMTTYPE=image/webp:https://arizonaseniorguide.com/wp-content/uploads/2023/09/uptown-farmer-mkt-copy-1-e1695245925865.webp
END:VEVENT
BEGIN:VEVENT
DTSTART;TZID=America/Phoenix:20250726T073000
DTEND;TZID=America/Phoenix:20250726T113000
DTSTAMP:20260425T150759
CREATED:20250908T194826Z
LAST-MODIFIED:20250908T194827Z
UID:10011774-1753515000-1753529400@arizonaseniorguide.com
SUMMARY:Downtown Phoenix Farmers Market\, Saturdays (Summer season)
DESCRIPTION:Every Saturday\, rain or shine\, the Downtown Phoenix Farmer’s Market has many local merchants for you to check out! \n\nProduce\, Honey\, Meat\, Fish\, Pasta\, Breads\, Sweets\, Snacks etc.\nArts & Crafts\nArtisan/Jewelry\nPlants\nCoffee/Tea\nSoaps\nMedicinal/Wellness items\nand more\n\nMain Season: Saturdays (3rd Sat in Oct-2nd Sat in May): 8 am to 1 pm\nSummer Season: Saturdays (3rd Sat in May-2nd Sat in Oct): 7:30 am to 11:30 am \nMore info
URL:https://arizonaseniorguide.com/event/downtown-phoenix-farmers-market-saturdays-summer-2/2025-07-26/
LOCATION:Downtown Phoenix Farmers Market\, 720 N 5th St\, Phoenix\, AZ\, 85004
CATEGORIES:Phoenix
ATTACH;FMTTYPE=image/webp:https://arizonaseniorguide.com/wp-content/uploads/2023/09/Downtown-Phoenix-Farmers-Market-summer.webp
END:VEVENT
BEGIN:VEVENT
DTSTART;TZID=America/Phoenix:20250730T090000
DTEND;TZID=America/Phoenix:20250730T130000
DTSTAMP:20260425T150759
CREATED:20240423T201215Z
LAST-MODIFIED:20250908T193406Z
UID:10009283-1753866000-1753880400@arizonaseniorguide.com
SUMMARY:Uptown Farmers' Market (Wednesdays)
DESCRIPTION:Uptown Farmers Market is a food-based market and gathering place dedicated to inspiring and educating home cooks through arizona produce\, handmade foods and handcrafted goods. \nThis Wednesday farmers market is run year-round\, by a very small crew\, in the heart of Phoenix\, which allows us frequent face-to-face connection with our Arizona producers.  This means that we have personally met\, and correspond directly with\, every single local grower\, farmers\, baker\, creator and producer here. \nCurrently Open:\nSaturdays from 7:00 am – 11:00 am (year-round)\nWednesdays from 9:00 am – 1:00 pm (closed for the summer. Reopens in October.) \nUptown Farmers Market is a dedicated gathering space for nearly 200 Local Arizona Producers. \n\nSmoked meats\nHoney\nProduce\nSeafood\nHealth products\nCoffee\nCheese\nSweets\nBreads\nMicrogreens\nPlants\nArtisan Crafts\nand more!\n\nMore info
URL:https://arizonaseniorguide.com/event/uptown-farmers-market-wednesdays/2025-07-30/
LOCATION:Uptown Farmers Market\, 5757 N Central Ave\, Phoenix\, AZ\, 85012
CATEGORIES:Phoenix
ATTACH;FMTTYPE=image/webp:https://arizonaseniorguide.com/wp-content/uploads/2023/09/uptown-farmer-mkt-copy-1-e1695245925865.webp
END:VEVENT
END:VCALENDAR