BEGIN:VCALENDAR
VERSION:2.0
PRODID:-//Arizona Senior Guide - ECPv6.15.20//NONSGML v1.0//EN
CALSCALE:GREGORIAN
METHOD:PUBLISH
X-ORIGINAL-URL:https://arizonaseniorguide.com
X-WR-CALDESC:Events for Arizona Senior Guide
REFRESH-INTERVAL;VALUE=DURATION:PT1H
X-Robots-Tag:noindex
X-PUBLISHED-TTL:PT1H
BEGIN:VTIMEZONE
TZID:America/Phoenix
BEGIN:STANDARD
TZOFFSETFROM:-0700
TZOFFSETTO:-0700
TZNAME:MST
DTSTART:20240101T000000
END:STANDARD
END:VTIMEZONE
BEGIN:VEVENT
DTSTART;TZID=America/Phoenix:20250502T180000
DTEND;TZID=America/Phoenix:20250502T203000
DTSTAMP:20260425T184858
CREATED:20250408T214812Z
LAST-MODIFIED:20250423T200823Z
UID:10010840-1746208800-1746217800@arizonaseniorguide.com
SUMMARY:Sabores de Tucson: America's Best Mexican Food Festival
DESCRIPTION:The Sabores de Tucson: Best Mexican Food in America Festival sponsored by Visit Tucson is a premier culinary celebration\, honoring Tucson’s rich Mexican food heritage while benefiting two essential cultural organizations: The Southern Arizona Arts and Cultural Alliance (SAACA) and the Tucson International Mariachi Conference. A portion of the event proceeds will directly support the educational and cultural initiatives of both organizations. \nPresented in collaboration with Tucson Foodie and Shamrock Foods\, this immersive festival offers attendees a chance to explore the diverse flavors of Mexico through a series of regional tasting stations\, led by some of the region’s most talented chefs. Each section of the event will transport guests to a distinct region of Mexico through food\, art\, and music\, bringing the flavors and traditions to life. \n\nCulinary Tasting Stations\nLibations\, Wines and Beer\nFolkorico Dance Performance\nMexican Arts & Crafts\n\nExplore the Flavors of Mexico\nThe festival is organized into regionally themed hubs\, where guests will experience the distinct culinary traditions of each area\, paired with authentic music\, art\, and storytelling. \nNorthern Mexico (Sonora\, Chihuahua\, Baja California\, Coahuila\, Nuevo León\, Tamaulipas) Signature Dishes: Carne asada\, flour tortillas\, burritos\, machaca\, cabrito (roast goat)\, fish tacos. Known For: Grilled meats\, flour tortillas\, seafood\, and ranch-style cooking. \nCentral Mexico (Mexico City\, Puebla\, Guanajuato\, Querétaro\, Morelos\, Hidalgo\, Tlaxcala\, Estado de México) Signature Dishes: Tacos al pastor\, mole poblano\, barbacoa\, tamales\, chiles en nogada. Known For: Complex sauces\, street food culture\, indigenous corn-based dishes \nPacific Coast (Jalisco\, Nayarit\, Colima\, Michoacán\, Sinaloa\, Guerrero) \nSignature Dishes: Birria\, aguachile\, ceviche\, pescado zarandeado\, tiritas de pescado \nKnown For: Coastal seafood\, fresh flavors\, and slow-cooked stews \nSouthern Mexico & Yucatán Peninsula (Oaxaca\, Chiapas\, Yucatán\, Campeche\, Quintana Roo\, Tabasco\, Veracruz) Signature Dishes: Cochinita pibil\, tamales de elote\, tlayudas\, mole negro\, panuchos\, sopa de lima. Known For: Rich indigenous culinary traditions\, tropical flavors\, and complex moles. \nTICKETS\nVIP $150\nVIP ticket holders enjoy exclusive early festival access from 5–6 PM. Savor tastings from 30+ local culinary partners\, live music\, and art\, showcasing six Mexican regions. Enjoy an exclusive VIP lounge with specialty libations and bites. VIP perks include a custom tote bag\, upgraded seating\, and a discounted LYFT ride home \nGENERAL ADMISSION $115\nJoin the festivity with a General Admission Ticket for $115\, providing access from 6 PM to 8:30 PM. Enjoy full entry to the event\, where you can sample culinary creations from over 30 local chefs and artisans\, accompanied by live music and art demonstrations native to each culinary region. \nPURCHASE TICKETS HERE – 10% OFF WITH CODE EARLYBIRD \nLimited time discount: $20 Off General Admission Tickets: Use code FLASH. (Offer expires at midnight on Friday\, April 25) \nStay & Play Discount: \nExtend the experience with a full weekend stay at La Paloma Resort. Guests enjoy a discounted festival rate plus bonus culinary and cultural offerings including a discounted weekend stay at the hotel\, celebrating Cinco de Mayo all weekend long. The discounted nightly rate is $179 along with a complimentary daily resort service fee. Reserve online BOOK YOUR STAY HERE \nMore info
URL:https://arizonaseniorguide.com/event/sabores-de-tucson-americas-best-mexican-food-festival/
LOCATION:Westin La Paloma Resort & Spa\, 3800 E Sunrise Dr\, Tucson\, AZ\, 85718
CATEGORIES:art,Dance,Fair/Festival,Live Music,Tucson
ATTACH;FMTTYPE=image/png:https://arizonaseniorguide.com/wp-content/uploads/2025/04/sabores-de-tucson-america-s-best-mexican-food-festival-logo.png
END:VEVENT
BEGIN:VEVENT
DTSTART;TZID=America/Phoenix:20250503T080000
DTEND;TZID=America/Phoenix:20250503T130000
DTSTAMP:20260425T184858
CREATED:20240423T201033Z
LAST-MODIFIED:20240919T200225Z
UID:10008748-1746259200-1746277200@arizonaseniorguide.com
SUMMARY:Uptown Farmers' Market (Saturdays)
DESCRIPTION:Uptown Farmers Market is a food-based market and gathering place dedicated to inspiring and educating home cooks through arizona produce\, handmade foods and handcrafted goods. \nThis Saturday farmers market is run year-round\, by a very small crew\, in the heart of Phoenix\, which allows us frequent face-to-face connection with our Arizona producers.  This means that we have personally met\, and correspond directly with\, every single local grower\, farmers\, baker\, creator and producer here. \nCurrently Open:\nSaturdays from 8:00 am – 1:00 pm\nWednesdays from 9:00 am – 1:00 pm\n(Online Marketplace is Closed for Summer) \nUptown Farmers Market is a dedicated gathering space for nearly 200 Local Arizona Producers. \n\nSmoked meats\nHoney\nProduce\nSeafood\nHealth products\nCoffee\nCheese\nSweets\nBreads\nMicrogreens\nPlants\nArtisan Crafts\nand more!\n\nMore info
URL:https://arizonaseniorguide.com/event/uptown-farmers-market-2/2025-05-03/
LOCATION:Uptown Farmers Market\, 5757 N Central Ave\, Phoenix\, AZ\, 85012
CATEGORIES:Free Event,Phoenix
ATTACH;FMTTYPE=image/webp:https://arizonaseniorguide.com/wp-content/uploads/2023/09/uptown-farmer-mkt-copy-1-e1695245925865.webp
END:VEVENT
BEGIN:VEVENT
DTSTART;TZID=America/Phoenix:20250504T090000
DTEND;TZID=America/Phoenix:20250504T130000
DTSTAMP:20260425T184858
CREATED:20250227T182415Z
LAST-MODIFIED:20250227T182534Z
UID:10010421-1746349200-1746363600@arizonaseniorguide.com
SUMMARY:Rillito Park Farmers Market (Heirloom Farmers Market)
DESCRIPTION:Tucson’s largest year-round farmers market is located in the Southeast corner of Rillito Park\, along the bike trail known as The Loop. The weekly Sunday Rillito Park Farmers Market hosts farmers\, ranchers and artisan food purveyors featuring local produce and fresh cuisine. Four pavilions provide shade for a 5\,000 square foot shopping area\, and along with the center entertainment circle\, host a variety of small businesses. This market offers quarterly chef demonstrations\, seasonal food festivals\, bicycle-friendly events\, and local live music. \nOPEN EVERY SUNDAY\n8AM – 12PM (APR – SEP)\n9AM – 1PM (OCT– MAR) \nRillito Park Farmers Market Food Pavilion is located off of 1st Ave. and River Rd.\, on the southeast side of the Rillito Park Racetrack’s parking lot. The pavilion is accessible and has restrooms on site. \nPlease note that no dogs or pets of any kind (even those in arms) are allowed at this farmer’s market.
URL:https://arizonaseniorguide.com/event/rillito-park-farmers-market-heirloom-farmers-market-2/2025-05-04/
LOCATION:Rillito Park Racetrack\, 4502 N 1st Avenue\, Tucson\, 85719
CATEGORIES:Tucson
ATTACH;FMTTYPE=image/webp:https://arizonaseniorguide.com/wp-content/uploads/2023/08/Heirloom-Farmers-Market.webp
END:VEVENT
BEGIN:VEVENT
DTSTART;TZID=America/Phoenix:20250507T090000
DTEND;TZID=America/Phoenix:20250507T130000
DTSTAMP:20260425T184858
CREATED:20240423T201215Z
LAST-MODIFIED:20250908T193406Z
UID:10009271-1746608400-1746622800@arizonaseniorguide.com
SUMMARY:Uptown Farmers' Market (Wednesdays)
DESCRIPTION:Uptown Farmers Market is a food-based market and gathering place dedicated to inspiring and educating home cooks through arizona produce\, handmade foods and handcrafted goods. \nThis Wednesday farmers market is run year-round\, by a very small crew\, in the heart of Phoenix\, which allows us frequent face-to-face connection with our Arizona producers.  This means that we have personally met\, and correspond directly with\, every single local grower\, farmers\, baker\, creator and producer here. \nCurrently Open:\nSaturdays from 7:00 am – 11:00 am (year-round)\nWednesdays from 9:00 am – 1:00 pm (closed for the summer. Reopens in October.) \nUptown Farmers Market is a dedicated gathering space for nearly 200 Local Arizona Producers. \n\nSmoked meats\nHoney\nProduce\nSeafood\nHealth products\nCoffee\nCheese\nSweets\nBreads\nMicrogreens\nPlants\nArtisan Crafts\nand more!\n\nMore info
URL:https://arizonaseniorguide.com/event/uptown-farmers-market-wednesdays/2025-05-07/
LOCATION:Uptown Farmers Market\, 5757 N Central Ave\, Phoenix\, AZ\, 85012
CATEGORIES:Phoenix
ATTACH;FMTTYPE=image/webp:https://arizonaseniorguide.com/wp-content/uploads/2023/09/uptown-farmer-mkt-copy-1-e1695245925865.webp
END:VEVENT
BEGIN:VEVENT
DTSTART;TZID=America/Phoenix:20250510T080000
DTEND;TZID=America/Phoenix:20250510T130000
DTSTAMP:20260425T184858
CREATED:20240423T201033Z
LAST-MODIFIED:20240919T200225Z
UID:10008749-1746864000-1746882000@arizonaseniorguide.com
SUMMARY:Uptown Farmers' Market (Saturdays)
DESCRIPTION:Uptown Farmers Market is a food-based market and gathering place dedicated to inspiring and educating home cooks through arizona produce\, handmade foods and handcrafted goods. \nThis Saturday farmers market is run year-round\, by a very small crew\, in the heart of Phoenix\, which allows us frequent face-to-face connection with our Arizona producers.  This means that we have personally met\, and correspond directly with\, every single local grower\, farmers\, baker\, creator and producer here. \nCurrently Open:\nSaturdays from 8:00 am – 1:00 pm\nWednesdays from 9:00 am – 1:00 pm\n(Online Marketplace is Closed for Summer) \nUptown Farmers Market is a dedicated gathering space for nearly 200 Local Arizona Producers. \n\nSmoked meats\nHoney\nProduce\nSeafood\nHealth products\nCoffee\nCheese\nSweets\nBreads\nMicrogreens\nPlants\nArtisan Crafts\nand more!\n\nMore info
URL:https://arizonaseniorguide.com/event/uptown-farmers-market-2/2025-05-10/
LOCATION:Uptown Farmers Market\, 5757 N Central Ave\, Phoenix\, AZ\, 85012
CATEGORIES:Free Event,Phoenix
ATTACH;FMTTYPE=image/webp:https://arizonaseniorguide.com/wp-content/uploads/2023/09/uptown-farmer-mkt-copy-1-e1695245925865.webp
END:VEVENT
BEGIN:VEVENT
DTSTART;TZID=America/Phoenix:20250511T090000
DTEND;TZID=America/Phoenix:20250511T130000
DTSTAMP:20260425T184858
CREATED:20250227T182415Z
LAST-MODIFIED:20250227T182534Z
UID:10010422-1746954000-1746968400@arizonaseniorguide.com
SUMMARY:Rillito Park Farmers Market (Heirloom Farmers Market)
DESCRIPTION:Tucson’s largest year-round farmers market is located in the Southeast corner of Rillito Park\, along the bike trail known as The Loop. The weekly Sunday Rillito Park Farmers Market hosts farmers\, ranchers and artisan food purveyors featuring local produce and fresh cuisine. Four pavilions provide shade for a 5\,000 square foot shopping area\, and along with the center entertainment circle\, host a variety of small businesses. This market offers quarterly chef demonstrations\, seasonal food festivals\, bicycle-friendly events\, and local live music. \nOPEN EVERY SUNDAY\n8AM – 12PM (APR – SEP)\n9AM – 1PM (OCT– MAR) \nRillito Park Farmers Market Food Pavilion is located off of 1st Ave. and River Rd.\, on the southeast side of the Rillito Park Racetrack’s parking lot. The pavilion is accessible and has restrooms on site. \nPlease note that no dogs or pets of any kind (even those in arms) are allowed at this farmer’s market.
URL:https://arizonaseniorguide.com/event/rillito-park-farmers-market-heirloom-farmers-market-2/2025-05-11/
LOCATION:Rillito Park Racetrack\, 4502 N 1st Avenue\, Tucson\, 85719
CATEGORIES:Tucson
ATTACH;FMTTYPE=image/webp:https://arizonaseniorguide.com/wp-content/uploads/2023/08/Heirloom-Farmers-Market.webp
END:VEVENT
BEGIN:VEVENT
DTSTART;TZID=America/Phoenix:20250514T090000
DTEND;TZID=America/Phoenix:20250514T130000
DTSTAMP:20260425T184858
CREATED:20240423T201215Z
LAST-MODIFIED:20250908T193406Z
UID:10009272-1747213200-1747227600@arizonaseniorguide.com
SUMMARY:Uptown Farmers' Market (Wednesdays)
DESCRIPTION:Uptown Farmers Market is a food-based market and gathering place dedicated to inspiring and educating home cooks through arizona produce\, handmade foods and handcrafted goods. \nThis Wednesday farmers market is run year-round\, by a very small crew\, in the heart of Phoenix\, which allows us frequent face-to-face connection with our Arizona producers.  This means that we have personally met\, and correspond directly with\, every single local grower\, farmers\, baker\, creator and producer here. \nCurrently Open:\nSaturdays from 7:00 am – 11:00 am (year-round)\nWednesdays from 9:00 am – 1:00 pm (closed for the summer. Reopens in October.) \nUptown Farmers Market is a dedicated gathering space for nearly 200 Local Arizona Producers. \n\nSmoked meats\nHoney\nProduce\nSeafood\nHealth products\nCoffee\nCheese\nSweets\nBreads\nMicrogreens\nPlants\nArtisan Crafts\nand more!\n\nMore info
URL:https://arizonaseniorguide.com/event/uptown-farmers-market-wednesdays/2025-05-14/
LOCATION:Uptown Farmers Market\, 5757 N Central Ave\, Phoenix\, AZ\, 85012
CATEGORIES:Phoenix
ATTACH;FMTTYPE=image/webp:https://arizonaseniorguide.com/wp-content/uploads/2023/09/uptown-farmer-mkt-copy-1-e1695245925865.webp
END:VEVENT
BEGIN:VEVENT
DTSTART;TZID=America/Phoenix:20250517T073000
DTEND;TZID=America/Phoenix:20250517T113000
DTSTAMP:20260425T184858
CREATED:20250908T194826Z
LAST-MODIFIED:20250908T194827Z
UID:10010931-1747467000-1747481400@arizonaseniorguide.com
SUMMARY:Downtown Phoenix Farmers Market\, Saturdays (Summer season)
DESCRIPTION:Every Saturday\, rain or shine\, the Downtown Phoenix Farmer’s Market has many local merchants for you to check out! \n\nProduce\, Honey\, Meat\, Fish\, Pasta\, Breads\, Sweets\, Snacks etc.\nArts & Crafts\nArtisan/Jewelry\nPlants\nCoffee/Tea\nSoaps\nMedicinal/Wellness items\nand more\n\nMain Season: Saturdays (3rd Sat in Oct-2nd Sat in May): 8 am to 1 pm\nSummer Season: Saturdays (3rd Sat in May-2nd Sat in Oct): 7:30 am to 11:30 am \nMore info
URL:https://arizonaseniorguide.com/event/downtown-phoenix-farmers-market-saturdays-summer-2/2025-05-17/
LOCATION:Downtown Phoenix Farmers Market\, 720 N 5th St\, Phoenix\, AZ\, 85004
CATEGORIES:Phoenix
ATTACH;FMTTYPE=image/webp:https://arizonaseniorguide.com/wp-content/uploads/2023/09/Downtown-Phoenix-Farmers-Market-summer.webp
END:VEVENT
BEGIN:VEVENT
DTSTART;TZID=America/Phoenix:20250517T080000
DTEND;TZID=America/Phoenix:20250517T130000
DTSTAMP:20260425T184858
CREATED:20240423T201033Z
LAST-MODIFIED:20240919T200225Z
UID:10008750-1747468800-1747486800@arizonaseniorguide.com
SUMMARY:Uptown Farmers' Market (Saturdays)
DESCRIPTION:Uptown Farmers Market is a food-based market and gathering place dedicated to inspiring and educating home cooks through arizona produce\, handmade foods and handcrafted goods. \nThis Saturday farmers market is run year-round\, by a very small crew\, in the heart of Phoenix\, which allows us frequent face-to-face connection with our Arizona producers.  This means that we have personally met\, and correspond directly with\, every single local grower\, farmers\, baker\, creator and producer here. \nCurrently Open:\nSaturdays from 8:00 am – 1:00 pm\nWednesdays from 9:00 am – 1:00 pm\n(Online Marketplace is Closed for Summer) \nUptown Farmers Market is a dedicated gathering space for nearly 200 Local Arizona Producers. \n\nSmoked meats\nHoney\nProduce\nSeafood\nHealth products\nCoffee\nCheese\nSweets\nBreads\nMicrogreens\nPlants\nArtisan Crafts\nand more!\n\nMore info
URL:https://arizonaseniorguide.com/event/uptown-farmers-market-2/2025-05-17/
LOCATION:Uptown Farmers Market\, 5757 N Central Ave\, Phoenix\, AZ\, 85012
CATEGORIES:Free Event,Phoenix
ATTACH;FMTTYPE=image/webp:https://arizonaseniorguide.com/wp-content/uploads/2023/09/uptown-farmer-mkt-copy-1-e1695245925865.webp
END:VEVENT
BEGIN:VEVENT
DTSTART;TZID=America/Phoenix:20250518T090000
DTEND;TZID=America/Phoenix:20250518T130000
DTSTAMP:20260425T184858
CREATED:20250227T182415Z
LAST-MODIFIED:20250227T182534Z
UID:10010423-1747558800-1747573200@arizonaseniorguide.com
SUMMARY:Rillito Park Farmers Market (Heirloom Farmers Market)
DESCRIPTION:Tucson’s largest year-round farmers market is located in the Southeast corner of Rillito Park\, along the bike trail known as The Loop. The weekly Sunday Rillito Park Farmers Market hosts farmers\, ranchers and artisan food purveyors featuring local produce and fresh cuisine. Four pavilions provide shade for a 5\,000 square foot shopping area\, and along with the center entertainment circle\, host a variety of small businesses. This market offers quarterly chef demonstrations\, seasonal food festivals\, bicycle-friendly events\, and local live music. \nOPEN EVERY SUNDAY\n8AM – 12PM (APR – SEP)\n9AM – 1PM (OCT– MAR) \nRillito Park Farmers Market Food Pavilion is located off of 1st Ave. and River Rd.\, on the southeast side of the Rillito Park Racetrack’s parking lot. The pavilion is accessible and has restrooms on site. \nPlease note that no dogs or pets of any kind (even those in arms) are allowed at this farmer’s market.
URL:https://arizonaseniorguide.com/event/rillito-park-farmers-market-heirloom-farmers-market-2/2025-05-18/
LOCATION:Rillito Park Racetrack\, 4502 N 1st Avenue\, Tucson\, 85719
CATEGORIES:Tucson
ATTACH;FMTTYPE=image/webp:https://arizonaseniorguide.com/wp-content/uploads/2023/08/Heirloom-Farmers-Market.webp
END:VEVENT
BEGIN:VEVENT
DTSTART;TZID=America/Phoenix:20250521T090000
DTEND;TZID=America/Phoenix:20250521T130000
DTSTAMP:20260425T184858
CREATED:20240423T201215Z
LAST-MODIFIED:20250908T193406Z
UID:10009273-1747818000-1747832400@arizonaseniorguide.com
SUMMARY:Uptown Farmers' Market (Wednesdays)
DESCRIPTION:Uptown Farmers Market is a food-based market and gathering place dedicated to inspiring and educating home cooks through arizona produce\, handmade foods and handcrafted goods. \nThis Wednesday farmers market is run year-round\, by a very small crew\, in the heart of Phoenix\, which allows us frequent face-to-face connection with our Arizona producers.  This means that we have personally met\, and correspond directly with\, every single local grower\, farmers\, baker\, creator and producer here. \nCurrently Open:\nSaturdays from 7:00 am – 11:00 am (year-round)\nWednesdays from 9:00 am – 1:00 pm (closed for the summer. Reopens in October.) \nUptown Farmers Market is a dedicated gathering space for nearly 200 Local Arizona Producers. \n\nSmoked meats\nHoney\nProduce\nSeafood\nHealth products\nCoffee\nCheese\nSweets\nBreads\nMicrogreens\nPlants\nArtisan Crafts\nand more!\n\nMore info
URL:https://arizonaseniorguide.com/event/uptown-farmers-market-wednesdays/2025-05-21/
LOCATION:Uptown Farmers Market\, 5757 N Central Ave\, Phoenix\, AZ\, 85012
CATEGORIES:Phoenix
ATTACH;FMTTYPE=image/webp:https://arizonaseniorguide.com/wp-content/uploads/2023/09/uptown-farmer-mkt-copy-1-e1695245925865.webp
END:VEVENT
BEGIN:VEVENT
DTSTART;TZID=America/Phoenix:20250524T073000
DTEND;TZID=America/Phoenix:20250524T113000
DTSTAMP:20260425T184858
CREATED:20250908T194826Z
LAST-MODIFIED:20250908T194827Z
UID:10011765-1748071800-1748086200@arizonaseniorguide.com
SUMMARY:Downtown Phoenix Farmers Market\, Saturdays (Summer season)
DESCRIPTION:Every Saturday\, rain or shine\, the Downtown Phoenix Farmer’s Market has many local merchants for you to check out! \n\nProduce\, Honey\, Meat\, Fish\, Pasta\, Breads\, Sweets\, Snacks etc.\nArts & Crafts\nArtisan/Jewelry\nPlants\nCoffee/Tea\nSoaps\nMedicinal/Wellness items\nand more\n\nMain Season: Saturdays (3rd Sat in Oct-2nd Sat in May): 8 am to 1 pm\nSummer Season: Saturdays (3rd Sat in May-2nd Sat in Oct): 7:30 am to 11:30 am \nMore info
URL:https://arizonaseniorguide.com/event/downtown-phoenix-farmers-market-saturdays-summer-2/2025-05-24/
LOCATION:Downtown Phoenix Farmers Market\, 720 N 5th St\, Phoenix\, AZ\, 85004
CATEGORIES:Phoenix
ATTACH;FMTTYPE=image/webp:https://arizonaseniorguide.com/wp-content/uploads/2023/09/Downtown-Phoenix-Farmers-Market-summer.webp
END:VEVENT
BEGIN:VEVENT
DTSTART;TZID=America/Phoenix:20250524T080000
DTEND;TZID=America/Phoenix:20250524T130000
DTSTAMP:20260425T184858
CREATED:20240423T201033Z
LAST-MODIFIED:20240919T200225Z
UID:10008751-1748073600-1748091600@arizonaseniorguide.com
SUMMARY:Uptown Farmers' Market (Saturdays)
DESCRIPTION:Uptown Farmers Market is a food-based market and gathering place dedicated to inspiring and educating home cooks through arizona produce\, handmade foods and handcrafted goods. \nThis Saturday farmers market is run year-round\, by a very small crew\, in the heart of Phoenix\, which allows us frequent face-to-face connection with our Arizona producers.  This means that we have personally met\, and correspond directly with\, every single local grower\, farmers\, baker\, creator and producer here. \nCurrently Open:\nSaturdays from 8:00 am – 1:00 pm\nWednesdays from 9:00 am – 1:00 pm\n(Online Marketplace is Closed for Summer) \nUptown Farmers Market is a dedicated gathering space for nearly 200 Local Arizona Producers. \n\nSmoked meats\nHoney\nProduce\nSeafood\nHealth products\nCoffee\nCheese\nSweets\nBreads\nMicrogreens\nPlants\nArtisan Crafts\nand more!\n\nMore info
URL:https://arizonaseniorguide.com/event/uptown-farmers-market-2/2025-05-24/
LOCATION:Uptown Farmers Market\, 5757 N Central Ave\, Phoenix\, AZ\, 85012
CATEGORIES:Free Event,Phoenix
ATTACH;FMTTYPE=image/webp:https://arizonaseniorguide.com/wp-content/uploads/2023/09/uptown-farmer-mkt-copy-1-e1695245925865.webp
END:VEVENT
BEGIN:VEVENT
DTSTART;TZID=America/Phoenix:20250525T090000
DTEND;TZID=America/Phoenix:20250525T130000
DTSTAMP:20260425T184858
CREATED:20250227T182415Z
LAST-MODIFIED:20250227T182534Z
UID:10010424-1748163600-1748178000@arizonaseniorguide.com
SUMMARY:Rillito Park Farmers Market (Heirloom Farmers Market)
DESCRIPTION:Tucson’s largest year-round farmers market is located in the Southeast corner of Rillito Park\, along the bike trail known as The Loop. The weekly Sunday Rillito Park Farmers Market hosts farmers\, ranchers and artisan food purveyors featuring local produce and fresh cuisine. Four pavilions provide shade for a 5\,000 square foot shopping area\, and along with the center entertainment circle\, host a variety of small businesses. This market offers quarterly chef demonstrations\, seasonal food festivals\, bicycle-friendly events\, and local live music. \nOPEN EVERY SUNDAY\n8AM – 12PM (APR – SEP)\n9AM – 1PM (OCT– MAR) \nRillito Park Farmers Market Food Pavilion is located off of 1st Ave. and River Rd.\, on the southeast side of the Rillito Park Racetrack’s parking lot. The pavilion is accessible and has restrooms on site. \nPlease note that no dogs or pets of any kind (even those in arms) are allowed at this farmer’s market.
URL:https://arizonaseniorguide.com/event/rillito-park-farmers-market-heirloom-farmers-market-2/2025-05-25/
LOCATION:Rillito Park Racetrack\, 4502 N 1st Avenue\, Tucson\, 85719
CATEGORIES:Tucson
ATTACH;FMTTYPE=image/webp:https://arizonaseniorguide.com/wp-content/uploads/2023/08/Heirloom-Farmers-Market.webp
END:VEVENT
BEGIN:VEVENT
DTSTART;TZID=America/Phoenix:20250528T090000
DTEND;TZID=America/Phoenix:20250528T130000
DTSTAMP:20260425T184858
CREATED:20240423T201215Z
LAST-MODIFIED:20250908T193406Z
UID:10009274-1748422800-1748437200@arizonaseniorguide.com
SUMMARY:Uptown Farmers' Market (Wednesdays)
DESCRIPTION:Uptown Farmers Market is a food-based market and gathering place dedicated to inspiring and educating home cooks through arizona produce\, handmade foods and handcrafted goods. \nThis Wednesday farmers market is run year-round\, by a very small crew\, in the heart of Phoenix\, which allows us frequent face-to-face connection with our Arizona producers.  This means that we have personally met\, and correspond directly with\, every single local grower\, farmers\, baker\, creator and producer here. \nCurrently Open:\nSaturdays from 7:00 am – 11:00 am (year-round)\nWednesdays from 9:00 am – 1:00 pm (closed for the summer. Reopens in October.) \nUptown Farmers Market is a dedicated gathering space for nearly 200 Local Arizona Producers. \n\nSmoked meats\nHoney\nProduce\nSeafood\nHealth products\nCoffee\nCheese\nSweets\nBreads\nMicrogreens\nPlants\nArtisan Crafts\nand more!\n\nMore info
URL:https://arizonaseniorguide.com/event/uptown-farmers-market-wednesdays/2025-05-28/
LOCATION:Uptown Farmers Market\, 5757 N Central Ave\, Phoenix\, AZ\, 85012
CATEGORIES:Phoenix
ATTACH;FMTTYPE=image/webp:https://arizonaseniorguide.com/wp-content/uploads/2023/09/uptown-farmer-mkt-copy-1-e1695245925865.webp
END:VEVENT
BEGIN:VEVENT
DTSTART;TZID=America/Phoenix:20250531T073000
DTEND;TZID=America/Phoenix:20250531T113000
DTSTAMP:20260425T184858
CREATED:20250908T194826Z
LAST-MODIFIED:20250908T194827Z
UID:10011766-1748676600-1748691000@arizonaseniorguide.com
SUMMARY:Downtown Phoenix Farmers Market\, Saturdays (Summer season)
DESCRIPTION:Every Saturday\, rain or shine\, the Downtown Phoenix Farmer’s Market has many local merchants for you to check out! \n\nProduce\, Honey\, Meat\, Fish\, Pasta\, Breads\, Sweets\, Snacks etc.\nArts & Crafts\nArtisan/Jewelry\nPlants\nCoffee/Tea\nSoaps\nMedicinal/Wellness items\nand more\n\nMain Season: Saturdays (3rd Sat in Oct-2nd Sat in May): 8 am to 1 pm\nSummer Season: Saturdays (3rd Sat in May-2nd Sat in Oct): 7:30 am to 11:30 am \nMore info
URL:https://arizonaseniorguide.com/event/downtown-phoenix-farmers-market-saturdays-summer-2/2025-05-31/
LOCATION:Downtown Phoenix Farmers Market\, 720 N 5th St\, Phoenix\, AZ\, 85004
CATEGORIES:Phoenix
ATTACH;FMTTYPE=image/webp:https://arizonaseniorguide.com/wp-content/uploads/2023/09/Downtown-Phoenix-Farmers-Market-summer.webp
END:VEVENT
BEGIN:VEVENT
DTSTART;TZID=America/Phoenix:20250531T080000
DTEND;TZID=America/Phoenix:20250531T130000
DTSTAMP:20260425T184858
CREATED:20240423T201033Z
LAST-MODIFIED:20240919T200225Z
UID:10008752-1748678400-1748696400@arizonaseniorguide.com
SUMMARY:Uptown Farmers' Market (Saturdays)
DESCRIPTION:Uptown Farmers Market is a food-based market and gathering place dedicated to inspiring and educating home cooks through arizona produce\, handmade foods and handcrafted goods. \nThis Saturday farmers market is run year-round\, by a very small crew\, in the heart of Phoenix\, which allows us frequent face-to-face connection with our Arizona producers.  This means that we have personally met\, and correspond directly with\, every single local grower\, farmers\, baker\, creator and producer here. \nCurrently Open:\nSaturdays from 8:00 am – 1:00 pm\nWednesdays from 9:00 am – 1:00 pm\n(Online Marketplace is Closed for Summer) \nUptown Farmers Market is a dedicated gathering space for nearly 200 Local Arizona Producers. \n\nSmoked meats\nHoney\nProduce\nSeafood\nHealth products\nCoffee\nCheese\nSweets\nBreads\nMicrogreens\nPlants\nArtisan Crafts\nand more!\n\nMore info
URL:https://arizonaseniorguide.com/event/uptown-farmers-market-2/2025-05-31/
LOCATION:Uptown Farmers Market\, 5757 N Central Ave\, Phoenix\, AZ\, 85012
CATEGORIES:Free Event,Phoenix
ATTACH;FMTTYPE=image/webp:https://arizonaseniorguide.com/wp-content/uploads/2023/09/uptown-farmer-mkt-copy-1-e1695245925865.webp
END:VEVENT
END:VCALENDAR