BEGIN:VCALENDAR
VERSION:2.0
PRODID:-//Arizona Senior Guide - ECPv6.15.20//NONSGML v1.0//EN
CALSCALE:GREGORIAN
METHOD:PUBLISH
X-ORIGINAL-URL:https://arizonaseniorguide.com
X-WR-CALDESC:Events for Arizona Senior Guide
REFRESH-INTERVAL;VALUE=DURATION:PT1H
X-Robots-Tag:noindex
X-PUBLISHED-TTL:PT1H
BEGIN:VTIMEZONE
TZID:America/Phoenix
BEGIN:STANDARD
TZOFFSETFROM:-0700
TZOFFSETTO:-0700
TZNAME:MST
DTSTART:20240101T000000
END:STANDARD
END:VTIMEZONE
BEGIN:VEVENT
DTSTART;VALUE=DATE:20250614
DTEND;VALUE=DATE:20250616
DTSTAMP:20260423T011156
CREATED:20250403T233433Z
LAST-MODIFIED:20250403T233433Z
UID:10010839-1749859200-1750031999@arizonaseniorguide.com
SUMMARY:Flagstaff Folk Festival
DESCRIPTION:This year’s Festival will be returning to the Coconino Center for the Arts and the Pioneer Museum on June 14th and 15th\, 2025. The Flagstaff Folk Festival is an exciting mix of all types of folk and acoustic music\, featuring both small and large groups on 5 stages. Every year brings a wide diversity of music and genres. This is not strictly a “bluegrass” or “old-time” event. There will be something for everyone! \nIn addition to live music\, there will be 2 workshop areas with something interesting for both musicians and festival-goers alike. There will also be a Jam Area where you are welcome to play\, sing along\, or just hang out and listen. \nThe Festival is volunteer-run and a long-standing Flagstaff community event. We strive to keep our ticket prices low so that everyone can enjoy the Festival. Mark your calendars now for 2 days of great live music. We look forward to seeing you this year! \nIf you are a performer and are interested in participating in this year’s Festival\, our application process is live on our website. Information on volunteer opportunities can also be found on the website. \nThe festival is produced by The Flagstaff Friends of Traditional Music in partnership with the The Coconino Center for the Arts and the Pioneer Museum. \nAdmission: $15\nChildren 15 and under are free \n 
URL:https://arizonaseniorguide.com/event/flagstaff-folk-festival/
LOCATION:2300 N Fort Valley Road\, Flagstaff\, AZ 86001\, 2300 N Fort Valley Road\, Flagstaff\, 86001
CATEGORIES:Flagstaff,Live Music
ATTACH;FMTTYPE=image/jpeg:https://arizonaseniorguide.com/wp-content/uploads/2025/04/FFFacebookEvent25-scaled.jpg
ORGANIZER;CN="Flagstaff Friends of Traditional Music":MAILTO:flagfolkfest@ffotm.net
END:VEVENT
END:VCALENDAR