BEGIN:VCALENDAR
VERSION:2.0
PRODID:-//Arizona Senior Guide - ECPv6.15.20//NONSGML v1.0//EN
CALSCALE:GREGORIAN
METHOD:PUBLISH
X-WR-CALNAME:Arizona Senior Guide
X-ORIGINAL-URL:https://arizonaseniorguide.com
X-WR-CALDESC:Events for Arizona Senior Guide
REFRESH-INTERVAL;VALUE=DURATION:PT1H
X-Robots-Tag:noindex
X-PUBLISHED-TTL:PT1H
BEGIN:VTIMEZONE
TZID:America/Phoenix
BEGIN:STANDARD
TZOFFSETFROM:-0700
TZOFFSETTO:-0700
TZNAME:MST
DTSTART:20240101T000000
END:STANDARD
END:VTIMEZONE
BEGIN:VEVENT
DTSTART;TZID=America/Phoenix:20251205T100000
DTEND;TZID=America/Phoenix:20251205T173000
DTSTAMP:20260423T061636
CREATED:20251030T213421Z
LAST-MODIFIED:20251030T213426Z
UID:10001905-1764928800-1764955800@arizonaseniorguide.com
SUMMARY:Tempe Festival of the Arts
DESCRIPTION:Tempe Festival of the Arts has a 50+ year history in Tempe and takes place in early December and late March each year.  It is one of the oldest festivals in the Southwest. The festival has grown to become a Tempe point of pride and a favorite of our residents and visitors. Guests enjoy artists from around the country\, local music\, a Kids Block and many great food options. \n\nFree Admission\nArtist Booths\nFood Trucks\nEntertainment\nBeer & Wine Gardens\n\nThe Tempe Festival of the Arts is located on the city streets of downtown Tempe\, on Mill Avenue between 3rd Street and University Parkway\, and on 5th Street between Myrtle and Ash Avenue. \nMore info here:\nhttps://tempefestivalofthearts.com/
URL:https://arizonaseniorguide.com/event/tempe-festival-of-the-arts-2/
LOCATION:Historic Mill Avenue\, 500 S Mill Avenue\, Tempe\, AZ\, 85281
CATEGORIES:Fair/Festival,Free Event,Phoenix
ATTACH;FMTTYPE=image/webp:https://arizonaseniorguide.com/wp-content/uploads/2022/03/Tempe-Festival-of-the-Arts.webp
END:VEVENT
BEGIN:VEVENT
DTSTART;TZID=America/Phoenix:20251213T100000
DTEND;TZID=America/Phoenix:20251213T170000
DTSTAMP:20260423T061636
CREATED:20251030T214544Z
LAST-MODIFIED:20251030T215006Z
UID:10001741-1765620000-1765645200@arizonaseniorguide.com
SUMMARY:Phoenix Festival of the Arts
DESCRIPTION:On December 13–14\, 2025\, the Phoenix Center for the Arts proudly presents the 14th Annual Phoenix Festival of the Arts — a vibrant\, multicultural celebration of artistic expression in the heart of downtown Phoenix. \nSet in scenic Margaret T. Hance Park\, this two-day festival features: \n\nLive performances from local artists and cultural groups\nInteractive art experiences and immersive demonstrations\n150+ local artists and artisans\nFood trucks with delicious local bites\nA hands-on Family Zone with free activities and entertainment\nFundraising events including raffles\, silent auctions\, and more\n\nVisit phoenixfestivalofthearts.org for more information.
URL:https://arizonaseniorguide.com/event/phoenix-festival-of-the-arts-2/2025-12-13/
LOCATION:Margaret T. Hance Park\, 1202 N 3rd Street\, Phoenix\, AZ\, 85004
CATEGORIES:Fair/Festival,Free Event,Phoenix
ATTACH;FMTTYPE=image/webp:https://arizonaseniorguide.com/wp-content/uploads/2025/10/phoenix-festival-of-the-arts.webp
GEO:33.4617501;-112.0697304
X-APPLE-STRUCTURED-LOCATION;VALUE=URI;X-ADDRESS=Margaret T. Hance Park 1202 N 3rd Street Phoenix AZ 85004;X-APPLE-RADIUS=500;X-TITLE=1202 N 3rd Street:geo:-112.0697304,33.4617501
END:VEVENT
BEGIN:VEVENT
DTSTART;TZID=America/Phoenix:20251214T100000
DTEND;TZID=America/Phoenix:20251214T170000
DTSTAMP:20260423T061636
CREATED:20251030T214544Z
LAST-MODIFIED:20251030T215006Z
UID:10012321-1765706400-1765731600@arizonaseniorguide.com
SUMMARY:Phoenix Festival of the Arts
DESCRIPTION:On December 13–14\, 2025\, the Phoenix Center for the Arts proudly presents the 14th Annual Phoenix Festival of the Arts — a vibrant\, multicultural celebration of artistic expression in the heart of downtown Phoenix. \nSet in scenic Margaret T. Hance Park\, this two-day festival features: \n\nLive performances from local artists and cultural groups\nInteractive art experiences and immersive demonstrations\n150+ local artists and artisans\nFood trucks with delicious local bites\nA hands-on Family Zone with free activities and entertainment\nFundraising events including raffles\, silent auctions\, and more\n\nVisit phoenixfestivalofthearts.org for more information.
URL:https://arizonaseniorguide.com/event/phoenix-festival-of-the-arts-2/2025-12-14/
LOCATION:Margaret T. Hance Park\, 1202 N 3rd Street\, Phoenix\, AZ\, 85004
CATEGORIES:Fair/Festival,Free Event,Phoenix
ATTACH;FMTTYPE=image/webp:https://arizonaseniorguide.com/wp-content/uploads/2025/10/phoenix-festival-of-the-arts.webp
GEO:33.4617501;-112.0697304
X-APPLE-STRUCTURED-LOCATION;VALUE=URI;X-ADDRESS=Margaret T. Hance Park 1202 N 3rd Street Phoenix AZ 85004;X-APPLE-RADIUS=500;X-TITLE=1202 N 3rd Street:geo:-112.0697304,33.4617501
END:VEVENT
END:VCALENDAR