BEGIN:VCALENDAR
VERSION:2.0
PRODID:-//Arizona Senior Guide - ECPv6.15.20//NONSGML v1.0//EN
CALSCALE:GREGORIAN
METHOD:PUBLISH
X-ORIGINAL-URL:https://arizonaseniorguide.com
X-WR-CALDESC:Events for Arizona Senior Guide
REFRESH-INTERVAL;VALUE=DURATION:PT1H
X-Robots-Tag:noindex
X-PUBLISHED-TTL:PT1H
BEGIN:VTIMEZONE
TZID:America/Phoenix
BEGIN:STANDARD
TZOFFSETFROM:-0700
TZOFFSETTO:-0700
TZNAME:MST
DTSTART:20230101T000000
END:STANDARD
END:VTIMEZONE
BEGIN:VEVENT
DTSTART;TZID=America/Phoenix:20240928T170000
DTEND;TZID=America/Phoenix:20240928T200000
DTSTAMP:20260423T050207
CREATED:20240820T180229Z
LAST-MODIFIED:20240820T180355Z
UID:10009541-1727542800-1727553600@arizonaseniorguide.com
SUMMARY:Bark in the Park at Steam Pump Ranch
DESCRIPTION:Oro Valley Parks and Recreation will be hosting a FREE community event for those with furry family dogs at home. Join the fun on Saturday\, September 28th from 5pm-8pm at Steam Pump Ranch for Bark in the Park. Bring your family\, friends and doggies! There will be adoptable dogs\, food trucks\, music\, crafts for dogs/kids\, dog costume contest\, prizes\, local business\, organization booths\, and much more. \nThe Dog Costume Contest will have on-site registration the day of the event. Entry is free! \nPlease keep in mind that dogs must be leashed and owners are responsible for cleaning up after their dogs. \nHave questions? Contact Catherine at ckastens@orovalleyaz.gov.
URL:https://arizonaseniorguide.com/event/bark-in-the-park-at-steam-pump-ranch/
LOCATION:Steam Pump Ranch\, 10901 N. Oracle Rd.\, Oro Valley\, AZ\, 85737
CATEGORIES:Fair/Festival,Free Event,Tucson
ATTACH;FMTTYPE=image/jpeg:https://arizonaseniorguide.com/wp-content/uploads/2024/08/bark-in-the-park.jpg
END:VEVENT
END:VCALENDAR