BEGIN:VCALENDAR
VERSION:2.0
PRODID:-//Arizona Senior Guide - ECPv6.15.20//NONSGML v1.0//EN
CALSCALE:GREGORIAN
METHOD:PUBLISH
X-ORIGINAL-URL:https://arizonaseniorguide.com
X-WR-CALDESC:Events for Arizona Senior Guide
REFRESH-INTERVAL;VALUE=DURATION:PT1H
X-Robots-Tag:noindex
X-PUBLISHED-TTL:PT1H
BEGIN:VTIMEZONE
TZID:America/Phoenix
BEGIN:STANDARD
TZOFFSETFROM:-0700
TZOFFSETTO:-0700
TZNAME:MST
DTSTART:20240101T000000
END:STANDARD
END:VTIMEZONE
BEGIN:VEVENT
DTSTART;TZID=America/Phoenix:20250905T080000
DTEND;TZID=America/Phoenix:20250905T170000
DTSTAMP:20260423T101545
CREATED:20250905T223134Z
LAST-MODIFIED:20250906T000847Z
UID:10011531-1757059200-1757091600@arizonaseniorguide.com
SUMMARY:$5 Fridays at the Tucson Botanical Gardens
DESCRIPTION:On Fridays through September 26\, admission to the Gardens is just $5 (free to Members\, as always). (Normally\, admission is $19 for adults\, $15 for age 62+) \nEnjoy a summer stroll under the canopy of 100-year-old shade trees\, the lush green tones of over 20 specialty garden spaces\, and a delicious $5 Friday Root Beer Float at the café. \nBring a book and find a quiet spot in the Barrio Garden\, or bring your dog (also $5 through September 30) and let him walk on cool mulch paths. And if it’s the soothing hues of flowers that lower your temperature\, there is always something in bloom at the Gardens. \n*Please be aware that some areas of the Gardens may be closed or relocated during important and exciting garden updates. This includes garden spaces\, pathways\, facilities\, and amenities. Thank you for your understanding. Click here for more information.
URL:https://arizonaseniorguide.com/event/5-fridays-at-the-tucson-botanical-gardens/2025-09-05/
LOCATION:Tucson Botanical Gardens\, 2150 North Alvernon Way\, Tucson\, AZ\, 85712
CATEGORIES:discount,Tucson
ATTACH;FMTTYPE=image/png:https://arizonaseniorguide.com/wp-content/uploads/2025/09/5-Fridays-3-1.png
END:VEVENT
BEGIN:VEVENT
DTSTART;TZID=America/Phoenix:20250912T080000
DTEND;TZID=America/Phoenix:20250912T170000
DTSTAMP:20260423T101545
CREATED:20250905T223134Z
LAST-MODIFIED:20250906T000847Z
UID:10011532-1757664000-1757696400@arizonaseniorguide.com
SUMMARY:$5 Fridays at the Tucson Botanical Gardens
DESCRIPTION:On Fridays through September 26\, admission to the Gardens is just $5 (free to Members\, as always). (Normally\, admission is $19 for adults\, $15 for age 62+) \nEnjoy a summer stroll under the canopy of 100-year-old shade trees\, the lush green tones of over 20 specialty garden spaces\, and a delicious $5 Friday Root Beer Float at the café. \nBring a book and find a quiet spot in the Barrio Garden\, or bring your dog (also $5 through September 30) and let him walk on cool mulch paths. And if it’s the soothing hues of flowers that lower your temperature\, there is always something in bloom at the Gardens. \n*Please be aware that some areas of the Gardens may be closed or relocated during important and exciting garden updates. This includes garden spaces\, pathways\, facilities\, and amenities. Thank you for your understanding. Click here for more information.
URL:https://arizonaseniorguide.com/event/5-fridays-at-the-tucson-botanical-gardens/2025-09-12/
LOCATION:Tucson Botanical Gardens\, 2150 North Alvernon Way\, Tucson\, AZ\, 85712
CATEGORIES:discount,Tucson
ATTACH;FMTTYPE=image/png:https://arizonaseniorguide.com/wp-content/uploads/2025/09/5-Fridays-3-1.png
END:VEVENT
BEGIN:VEVENT
DTSTART;TZID=America/Phoenix:20250919T080000
DTEND;TZID=America/Phoenix:20250919T170000
DTSTAMP:20260423T101545
CREATED:20250905T223134Z
LAST-MODIFIED:20250906T000847Z
UID:10011533-1758268800-1758301200@arizonaseniorguide.com
SUMMARY:$5 Fridays at the Tucson Botanical Gardens
DESCRIPTION:On Fridays through September 26\, admission to the Gardens is just $5 (free to Members\, as always). (Normally\, admission is $19 for adults\, $15 for age 62+) \nEnjoy a summer stroll under the canopy of 100-year-old shade trees\, the lush green tones of over 20 specialty garden spaces\, and a delicious $5 Friday Root Beer Float at the café. \nBring a book and find a quiet spot in the Barrio Garden\, or bring your dog (also $5 through September 30) and let him walk on cool mulch paths. And if it’s the soothing hues of flowers that lower your temperature\, there is always something in bloom at the Gardens. \n*Please be aware that some areas of the Gardens may be closed or relocated during important and exciting garden updates. This includes garden spaces\, pathways\, facilities\, and amenities. Thank you for your understanding. Click here for more information.
URL:https://arizonaseniorguide.com/event/5-fridays-at-the-tucson-botanical-gardens/2025-09-19/
LOCATION:Tucson Botanical Gardens\, 2150 North Alvernon Way\, Tucson\, AZ\, 85712
CATEGORIES:discount,Tucson
ATTACH;FMTTYPE=image/png:https://arizonaseniorguide.com/wp-content/uploads/2025/09/5-Fridays-3-1.png
END:VEVENT
BEGIN:VEVENT
DTSTART;TZID=America/Phoenix:20250926T080000
DTEND;TZID=America/Phoenix:20250926T170000
DTSTAMP:20260423T101545
CREATED:20250905T223134Z
LAST-MODIFIED:20250906T000847Z
UID:10011534-1758873600-1758906000@arizonaseniorguide.com
SUMMARY:$5 Fridays at the Tucson Botanical Gardens
DESCRIPTION:On Fridays through September 26\, admission to the Gardens is just $5 (free to Members\, as always). (Normally\, admission is $19 for adults\, $15 for age 62+) \nEnjoy a summer stroll under the canopy of 100-year-old shade trees\, the lush green tones of over 20 specialty garden spaces\, and a delicious $5 Friday Root Beer Float at the café. \nBring a book and find a quiet spot in the Barrio Garden\, or bring your dog (also $5 through September 30) and let him walk on cool mulch paths. And if it’s the soothing hues of flowers that lower your temperature\, there is always something in bloom at the Gardens. \n*Please be aware that some areas of the Gardens may be closed or relocated during important and exciting garden updates. This includes garden spaces\, pathways\, facilities\, and amenities. Thank you for your understanding. Click here for more information.
URL:https://arizonaseniorguide.com/event/5-fridays-at-the-tucson-botanical-gardens/2025-09-26/
LOCATION:Tucson Botanical Gardens\, 2150 North Alvernon Way\, Tucson\, AZ\, 85712
CATEGORIES:discount,Tucson
ATTACH;FMTTYPE=image/png:https://arizonaseniorguide.com/wp-content/uploads/2025/09/5-Fridays-3-1.png
END:VEVENT
BEGIN:VEVENT
DTSTART;TZID=America/Phoenix:20250927T080000
DTEND;TZID=America/Phoenix:20250927T140000
DTSTAMP:20260423T101545
CREATED:20250916T202928Z
LAST-MODIFIED:20250916T202928Z
UID:10011910-1758960000-1758981600@arizonaseniorguide.com
SUMMARY:First Responders Day at Reid Park Zoo
DESCRIPTION:Reid Park Zoo and the Erik Hite Foundation are partnering to honor our hometown heroes who protect our community. \nFirst responders — firefighters\, EMT’s\, members of the police\, ATF\, correction officers\, 911 personnel\, park rangers\, and others involved in direct law enforcement — and up to 5 family members will receive $1 admission to the Zoo with valid identification. Discount is available at the gate. 
URL:https://arizonaseniorguide.com/event/first-responders-day-at-reid-park-zoo/
LOCATION:Reid Park Zoo\, 3400 E. Zoo Court\, Tucson\, AZ\, 85716\, United States
ATTACH;FMTTYPE=image/jpeg:https://arizonaseniorguide.com/wp-content/uploads/2025/09/TV.PPT-First-Responders-Day-2025_-1-scaled-1.jpg
GEO:32.2087926;-110.9213774
X-APPLE-STRUCTURED-LOCATION;VALUE=URI;X-ADDRESS=Reid Park Zoo 3400 E. Zoo Court Tucson AZ 85716 United States;X-APPLE-RADIUS=500;X-TITLE=3400 E. Zoo Court:geo:-110.9213774,32.2087926
END:VEVENT
END:VCALENDAR