BEGIN:VCALENDAR
VERSION:2.0
PRODID:-//Arizona Senior Guide - ECPv6.15.20//NONSGML v1.0//EN
CALSCALE:GREGORIAN
METHOD:PUBLISH
X-WR-CALNAME:Arizona Senior Guide
X-ORIGINAL-URL:https://arizonaseniorguide.com
X-WR-CALDESC:Events for Arizona Senior Guide
REFRESH-INTERVAL;VALUE=DURATION:PT1H
X-Robots-Tag:noindex
X-PUBLISHED-TTL:PT1H
BEGIN:VTIMEZONE
TZID:America/Phoenix
BEGIN:STANDARD
TZOFFSETFROM:-0700
TZOFFSETTO:-0700
TZNAME:MST
DTSTART:20240101T000000
END:STANDARD
END:VTIMEZONE
BEGIN:VEVENT
DTSTART;TZID=America/Phoenix:20250301T090000
DTEND;TZID=America/Phoenix:20250301T160000
DTSTAMP:20260424T030442
CREATED:20250227T193756Z
LAST-MODIFIED:20250227T193756Z
UID:10010776-1740819600-1740844800@arizonaseniorguide.com
SUMMARY:60th Anniversary Kick Off Celebration at Reid Park Zoo
DESCRIPTION:Join Us in Celebrating 60 Wild Years!\nReid Park Zoo is marking 60 wild years of connecting people and wildlife with a full year of celebrations and activities to thank the Tucson community for its transformational support. Free for members\, and all other guests can enjoy a reduced $6 admission and a special VIP gift package for the 60th visitor each day. The weekend’s celebrations will also include free cookies for the first 600 people\, special entertainment from local performers\, a historical timeline exhibit\, zoo keeper presentations\, enrichment making for the animals and the chance to participate in creating a giant mural that will remain on display for the year. \nSaturday\, March 1\, 2025 — Sunday\, March 2\, 2025\n9:00 am — 4:00 pm \nWhat’s your earliest Zoo memory?\nReid Park Zoo is inviting the public share their part in the Zoo’s history by sending in photographs and memories of Zoo experiences to marketing@reidparkzoo.org
URL:https://arizonaseniorguide.com/event/60th-anniversary-kick-off-celebration-at-reid-park-zoo/2025-03-01/
LOCATION:Reid Park Zoo\, 3400 E. Zoo Court\, Tucson\, AZ\, 85716\, United States
CATEGORIES:Tucson
ATTACH;FMTTYPE=image/jpeg:https://arizonaseniorguide.com/wp-content/uploads/2025/02/Reid-Park-Zoo-60th-Anniversary-Celebration.jpg
GEO:32.2087926;-110.9213774
X-APPLE-STRUCTURED-LOCATION;VALUE=URI;X-ADDRESS=Reid Park Zoo 3400 E. Zoo Court Tucson AZ 85716 United States;X-APPLE-RADIUS=500;X-TITLE=3400 E. Zoo Court:geo:-110.9213774,32.2087926
END:VEVENT
BEGIN:VEVENT
DTSTART;TZID=America/Phoenix:20250302T090000
DTEND;TZID=America/Phoenix:20250302T160000
DTSTAMP:20260424T030442
CREATED:20250227T193756Z
LAST-MODIFIED:20250227T193756Z
UID:10010777-1740906000-1740931200@arizonaseniorguide.com
SUMMARY:60th Anniversary Kick Off Celebration at Reid Park Zoo
DESCRIPTION:Join Us in Celebrating 60 Wild Years!\nReid Park Zoo is marking 60 wild years of connecting people and wildlife with a full year of celebrations and activities to thank the Tucson community for its transformational support. Free for members\, and all other guests can enjoy a reduced $6 admission and a special VIP gift package for the 60th visitor each day. The weekend’s celebrations will also include free cookies for the first 600 people\, special entertainment from local performers\, a historical timeline exhibit\, zoo keeper presentations\, enrichment making for the animals and the chance to participate in creating a giant mural that will remain on display for the year. \nSaturday\, March 1\, 2025 — Sunday\, March 2\, 2025\n9:00 am — 4:00 pm \nWhat’s your earliest Zoo memory?\nReid Park Zoo is inviting the public share their part in the Zoo’s history by sending in photographs and memories of Zoo experiences to marketing@reidparkzoo.org
URL:https://arizonaseniorguide.com/event/60th-anniversary-kick-off-celebration-at-reid-park-zoo/2025-03-02/
LOCATION:Reid Park Zoo\, 3400 E. Zoo Court\, Tucson\, AZ\, 85716\, United States
CATEGORIES:Tucson
ATTACH;FMTTYPE=image/jpeg:https://arizonaseniorguide.com/wp-content/uploads/2025/02/Reid-Park-Zoo-60th-Anniversary-Celebration.jpg
GEO:32.2087926;-110.9213774
X-APPLE-STRUCTURED-LOCATION;VALUE=URI;X-ADDRESS=Reid Park Zoo 3400 E. Zoo Court Tucson AZ 85716 United States;X-APPLE-RADIUS=500;X-TITLE=3400 E. Zoo Court:geo:-110.9213774,32.2087926
END:VEVENT
END:VCALENDAR