BEGIN:VCALENDAR
VERSION:2.0
PRODID:-//Arizona Senior Guide - ECPv6.15.20//NONSGML v1.0//EN
CALSCALE:GREGORIAN
METHOD:PUBLISH
X-ORIGINAL-URL:https://arizonaseniorguide.com
X-WR-CALDESC:Events for Arizona Senior Guide
REFRESH-INTERVAL;VALUE=DURATION:PT1H
X-Robots-Tag:noindex
X-PUBLISHED-TTL:PT1H
BEGIN:VTIMEZONE
TZID:America/Phoenix
BEGIN:STANDARD
TZOFFSETFROM:-0700
TZOFFSETTO:-0700
TZNAME:MST
DTSTART:20210101T000000
END:STANDARD
END:VTIMEZONE
BEGIN:VEVENT
DTSTART;TZID=America/Phoenix:20220219T100000
DTEND;TZID=America/Phoenix:20220219T150000
DTSTAMP:20260423T064658
CREATED:20220214T211549Z
LAST-MODIFIED:20220214T211549Z
UID:10001841-1645264800-1645282800@arizonaseniorguide.com
SUMMARY:Cruise\, BBQ & Blues Classic Car Show
DESCRIPTION:This one day event will feature live Blues music on the main stage\, classic BBQ on the grill\, and an endless supply of everything we have come to love about fast cars and classic auto! Over 100 classic cars. 30 different classes of auto awards will be given (Best of Show\, Best Interior\, Best Paint\, Best Engine and People’s Choice). \nMore details here: saaca.org/classiccarshow.html \nTickets Sold at the Door\n$5 admission\, 10 and under Free\n$1 discount for all Veterans and Active Duty Military with your Military ID.  Pre-purchase and touchless payment options will be made available. \nAll monies raised at the event will go directly to support SAACA’s community arts and cultural outreach programs throughout the State.
URL:https://arizonaseniorguide.com/event/cruise-bbq-blues-classic-car-show/
LOCATION:Oro Valley Marketplace\, 12155 N Oracle Rd\, Oro Valley\, AZ\, 85737
CATEGORIES:Tucson
ATTACH;FMTTYPE=image/png:https://arizonaseniorguide.com/wp-content/uploads/2022/02/cbb-logo.png
END:VEVENT
END:VCALENDAR