BEGIN:VCALENDAR
VERSION:2.0
PRODID:-//Arizona Senior Guide - ECPv6.15.20//NONSGML v1.0//EN
CALSCALE:GREGORIAN
METHOD:PUBLISH
X-WR-CALNAME:Arizona Senior Guide
X-ORIGINAL-URL:https://arizonaseniorguide.com
X-WR-CALDESC:Events for Arizona Senior Guide
REFRESH-INTERVAL;VALUE=DURATION:PT1H
X-Robots-Tag:noindex
X-PUBLISHED-TTL:PT1H
BEGIN:VTIMEZONE
TZID:America/Phoenix
BEGIN:STANDARD
TZOFFSETFROM:-0700
TZOFFSETTO:-0700
TZNAME:MST
DTSTART:20220101T000000
END:STANDARD
END:VTIMEZONE
BEGIN:VEVENT
DTSTART;TZID=America/Phoenix:20231006T180000
DTEND;TZID=America/Phoenix:20231006T210000
DTSTAMP:20260425T212940
CREATED:20230825T175536Z
LAST-MODIFIED:20230825T175536Z
UID:10002300-1696615200-1696626000@arizonaseniorguide.com
SUMMARY:ZOOcson: 30th Anniversary Celebration – A Wild Night Benefiting Reid Park Zoo
DESCRIPTION:Join Reid Park Zoo for the must-attend social event of the fall\, ZOOcson. This year’s gala is a 30th Anniversary Celebration\, featuring: \n\nTucson’s favorite restaurants\nLive and Online Auctions (chance to win amazing experiences\, 300 one-of-a-kind items)\nAnimal ambassador presentations\nLive music\nIncludes food at all restaurant stations\nIncludes 2 drink tickets (please note this is a 21 and older event)\n\nWant to enhance your ZOOcson experience with a special adventure in the Zoo’s South America area? Register for the Premium Experience ticket which includes early entry at 5 p.m.\, animal encounters\, appetizers\, beverages\, and entertainment. \nRestaurant Stations:\nAgustin Kitchen\, Balay\, Beyond Bread\, BJ’s Restaurants\, Cafe Con Leche\, Cakes for Causes\, Canyon’s Crown\, Craft Culinary Concepts\, Flora’s Market Run\, Gourmet Girls Gluten Free Bakery/Bistro\, Govinda’s Natural Foods\, Guido Q\, Hub Restaurant & Ice Creamery\, La Posada\, Locale\, Mama Louisa’s\, Monsoon’s Tap & Grill\, PF Chang’s\, Portillo’s\, Red Lobster\, Sauce Pizza & Wine\, Teaspoon\, Texas Roadhouse\, Walter’s Pizzeria\, Zio Peppe. \nBeverage sponsors: Swire Coca Cola\, Finley Distributing\, Southern Glazer’s Wine & Spirits\, Tito’s Handmade Vodka \nTickets: No tickets will be emailed or mailed. Please note your name will be on a check-in list at the event. All funds raised will benefit the Zoo’s education programs\, conservation efforts\, care of the animals\, and improvements to the Zoo. \n$10 OFF PER TICKET EARLY BIRD SPECIAL UNTIL AUGUST 31\n$175 per person Adult Ticket\n$150 per Zoo Member Adult Ticket\n$275 per person Premium Ticket\n$250 per Zoo Member Premium Ticket
URL:https://arizonaseniorguide.com/event/zoocson-30th-anniversary-celebration-a-wild-night-benefiting-reid-park-zoo/
LOCATION:Reid Park Zoo\, 3400 E. Zoo Court\, Tucson\, AZ\, 85716\, United States
CATEGORIES:Tucson
ATTACH;FMTTYPE=image/webp:https://arizonaseniorguide.com/wp-content/uploads/2023/08/ZOOcson-2023-Reid-Park-Zoo-Benefit.webp
GEO:32.2087926;-110.9213774
X-APPLE-STRUCTURED-LOCATION;VALUE=URI;X-ADDRESS=Reid Park Zoo 3400 E. Zoo Court Tucson AZ 85716 United States;X-APPLE-RADIUS=500;X-TITLE=3400 E. Zoo Court:geo:-110.9213774,32.2087926
END:VEVENT
END:VCALENDAR