BEGIN:VCALENDAR
VERSION:2.0
PRODID:-//Arizona Senior Guide - ECPv6.15.20//NONSGML v1.0//EN
CALSCALE:GREGORIAN
METHOD:PUBLISH
X-WR-CALNAME:Arizona Senior Guide
X-ORIGINAL-URL:https://arizonaseniorguide.com
X-WR-CALDESC:Events for Arizona Senior Guide
REFRESH-INTERVAL;VALUE=DURATION:PT1H
X-Robots-Tag:noindex
X-PUBLISHED-TTL:PT1H
BEGIN:VTIMEZONE
TZID:America/Phoenix
BEGIN:STANDARD
TZOFFSETFROM:-0700
TZOFFSETTO:-0700
TZNAME:MST
DTSTART:20250101T000000
END:STANDARD
END:VTIMEZONE
BEGIN:VEVENT
DTSTART;TZID=America/Phoenix:20260425T080000
DTEND;TZID=America/Phoenix:20260425T130000
DTSTAMP:20260422T183807
CREATED:20250917T195002Z
LAST-MODIFIED:20250917T195719Z
UID:10012193-1777104000-1777122000@arizonaseniorguide.com
SUMMARY:Old Town Scottsdale Farmers Market
DESCRIPTION: Established in 2009\, the Old Town Scottsdale Farmers Market is in its 16th year and features more than 100 local growers and specialty food producers. Be ready to find a wide variety of organic and pesticide-free produce\, seasonal specialties such as cider and apples\, flowers\, natural pork\, beef\, fish\, free-range eggs from Arizona growers. You’ll also find cheese\, freshly baked artisan breads\, jams\, tamales\, and so much more. \nThe market is family  friendly and well-mannered pets are welcome!  \nDUFB/SNAP accepted.  This market is enrolled in the AZFMNP/WIC program\, please visit www.azfmnp.org for additional details \nSaturdays\nOctober – April: 8am-1pm\nMay: 8-12pm\nJune: 7am-10am \nLocation\n3806 N. Brown Ave. Scottsdale\, AZ 85251 \n*This market is food & farming only \nMore info
URL:https://arizonaseniorguide.com/event/old-town-scottsdale-farmers-market/2026-04-25/
LOCATION:Old Town Scottsdale Farmers Market\, 3806 N. Brown Ave.\, Scottsdale\, AZ\, 85251
CATEGORIES:Free Event,Phoenix
ATTACH;FMTTYPE=image/webp:https://arizonaseniorguide.com/wp-content/uploads/2025/09/Old-Town-Scottsdale-Farmers-Market.webp
END:VEVENT
BEGIN:VEVENT
DTSTART;TZID=America/Phoenix:20260502T080000
DTEND;TZID=America/Phoenix:20260502T120000
DTSTAMP:20260422T183807
CREATED:20250917T195834Z
LAST-MODIFIED:20250917T195834Z
UID:10012224-1777708800-1777723200@arizonaseniorguide.com
SUMMARY:Old Town Scottsdale Farmers Market (May)
DESCRIPTION: Established in 2009\, the Old Town Scottsdale Farmers Market is in its 16th year and features more than 100 local growers and specialty food producers. Be ready to find a wide variety of organic and pesticide-free produce\, seasonal specialties such as cider and apples\, flowers\, natural pork\, beef\, fish\, free-range eggs from Arizona growers. You’ll also find cheese\, freshly baked artisan breads\, jams\, tamales\, and so much more. \nThe market is family  friendly and well-mannered pets are welcome!  \nDUFB/SNAP accepted.  This market is enrolled in the AZFMNP/WIC program\, please visit www.azfmnp.org for additional details \nSaturdays\nOctober – April: 8am-1pm\nMay: 8-12pm\nJune: 7am-10am \nLocation\n3806 N. Brown Ave. Scottsdale\, AZ 85251 \n*This market is food & farming only \nMore info
URL:https://arizonaseniorguide.com/event/old-town-scottsdale-farmers-market-may/2026-05-02/
LOCATION:Old Town Scottsdale Farmers Market\, 3806 N. Brown Ave.\, Scottsdale\, AZ\, 85251
CATEGORIES:Free Event,Phoenix
ATTACH;FMTTYPE=image/webp:https://arizonaseniorguide.com/wp-content/uploads/2025/09/Old-Town-Scottsdale-Farmers-Market.webp
END:VEVENT
BEGIN:VEVENT
DTSTART;TZID=America/Phoenix:20260509T080000
DTEND;TZID=America/Phoenix:20260509T120000
DTSTAMP:20260422T183807
CREATED:20250917T195834Z
LAST-MODIFIED:20250917T195834Z
UID:10012225-1778313600-1778328000@arizonaseniorguide.com
SUMMARY:Old Town Scottsdale Farmers Market (May)
DESCRIPTION: Established in 2009\, the Old Town Scottsdale Farmers Market is in its 16th year and features more than 100 local growers and specialty food producers. Be ready to find a wide variety of organic and pesticide-free produce\, seasonal specialties such as cider and apples\, flowers\, natural pork\, beef\, fish\, free-range eggs from Arizona growers. You’ll also find cheese\, freshly baked artisan breads\, jams\, tamales\, and so much more. \nThe market is family  friendly and well-mannered pets are welcome!  \nDUFB/SNAP accepted.  This market is enrolled in the AZFMNP/WIC program\, please visit www.azfmnp.org for additional details \nSaturdays\nOctober – April: 8am-1pm\nMay: 8-12pm\nJune: 7am-10am \nLocation\n3806 N. Brown Ave. Scottsdale\, AZ 85251 \n*This market is food & farming only \nMore info
URL:https://arizonaseniorguide.com/event/old-town-scottsdale-farmers-market-may/2026-05-09/
LOCATION:Old Town Scottsdale Farmers Market\, 3806 N. Brown Ave.\, Scottsdale\, AZ\, 85251
CATEGORIES:Free Event,Phoenix
ATTACH;FMTTYPE=image/webp:https://arizonaseniorguide.com/wp-content/uploads/2025/09/Old-Town-Scottsdale-Farmers-Market.webp
END:VEVENT
BEGIN:VEVENT
DTSTART;TZID=America/Phoenix:20260516T080000
DTEND;TZID=America/Phoenix:20260516T120000
DTSTAMP:20260422T183807
CREATED:20250917T195834Z
LAST-MODIFIED:20250917T195834Z
UID:10012226-1778918400-1778932800@arizonaseniorguide.com
SUMMARY:Old Town Scottsdale Farmers Market (May)
DESCRIPTION: Established in 2009\, the Old Town Scottsdale Farmers Market is in its 16th year and features more than 100 local growers and specialty food producers. Be ready to find a wide variety of organic and pesticide-free produce\, seasonal specialties such as cider and apples\, flowers\, natural pork\, beef\, fish\, free-range eggs from Arizona growers. You’ll also find cheese\, freshly baked artisan breads\, jams\, tamales\, and so much more. \nThe market is family  friendly and well-mannered pets are welcome!  \nDUFB/SNAP accepted.  This market is enrolled in the AZFMNP/WIC program\, please visit www.azfmnp.org for additional details \nSaturdays\nOctober – April: 8am-1pm\nMay: 8-12pm\nJune: 7am-10am \nLocation\n3806 N. Brown Ave. Scottsdale\, AZ 85251 \n*This market is food & farming only \nMore info
URL:https://arizonaseniorguide.com/event/old-town-scottsdale-farmers-market-may/2026-05-16/
LOCATION:Old Town Scottsdale Farmers Market\, 3806 N. Brown Ave.\, Scottsdale\, AZ\, 85251
CATEGORIES:Free Event,Phoenix
ATTACH;FMTTYPE=image/webp:https://arizonaseniorguide.com/wp-content/uploads/2025/09/Old-Town-Scottsdale-Farmers-Market.webp
END:VEVENT
BEGIN:VEVENT
DTSTART;TZID=America/Phoenix:20260523T080000
DTEND;TZID=America/Phoenix:20260523T120000
DTSTAMP:20260422T183807
CREATED:20250917T195834Z
LAST-MODIFIED:20250917T195834Z
UID:10012227-1779523200-1779537600@arizonaseniorguide.com
SUMMARY:Old Town Scottsdale Farmers Market (May)
DESCRIPTION: Established in 2009\, the Old Town Scottsdale Farmers Market is in its 16th year and features more than 100 local growers and specialty food producers. Be ready to find a wide variety of organic and pesticide-free produce\, seasonal specialties such as cider and apples\, flowers\, natural pork\, beef\, fish\, free-range eggs from Arizona growers. You’ll also find cheese\, freshly baked artisan breads\, jams\, tamales\, and so much more. \nThe market is family  friendly and well-mannered pets are welcome!  \nDUFB/SNAP accepted.  This market is enrolled in the AZFMNP/WIC program\, please visit www.azfmnp.org for additional details \nSaturdays\nOctober – April: 8am-1pm\nMay: 8-12pm\nJune: 7am-10am \nLocation\n3806 N. Brown Ave. Scottsdale\, AZ 85251 \n*This market is food & farming only \nMore info
URL:https://arizonaseniorguide.com/event/old-town-scottsdale-farmers-market-may/2026-05-23/
LOCATION:Old Town Scottsdale Farmers Market\, 3806 N. Brown Ave.\, Scottsdale\, AZ\, 85251
CATEGORIES:Free Event,Phoenix
ATTACH;FMTTYPE=image/webp:https://arizonaseniorguide.com/wp-content/uploads/2025/09/Old-Town-Scottsdale-Farmers-Market.webp
END:VEVENT
BEGIN:VEVENT
DTSTART;TZID=America/Phoenix:20260530T080000
DTEND;TZID=America/Phoenix:20260530T120000
DTSTAMP:20260422T183807
CREATED:20250917T195834Z
LAST-MODIFIED:20250917T195834Z
UID:10012228-1780128000-1780142400@arizonaseniorguide.com
SUMMARY:Old Town Scottsdale Farmers Market (May)
DESCRIPTION: Established in 2009\, the Old Town Scottsdale Farmers Market is in its 16th year and features more than 100 local growers and specialty food producers. Be ready to find a wide variety of organic and pesticide-free produce\, seasonal specialties such as cider and apples\, flowers\, natural pork\, beef\, fish\, free-range eggs from Arizona growers. You’ll also find cheese\, freshly baked artisan breads\, jams\, tamales\, and so much more. \nThe market is family  friendly and well-mannered pets are welcome!  \nDUFB/SNAP accepted.  This market is enrolled in the AZFMNP/WIC program\, please visit www.azfmnp.org for additional details \nSaturdays\nOctober – April: 8am-1pm\nMay: 8-12pm\nJune: 7am-10am \nLocation\n3806 N. Brown Ave. Scottsdale\, AZ 85251 \n*This market is food & farming only \nMore info
URL:https://arizonaseniorguide.com/event/old-town-scottsdale-farmers-market-may/2026-05-30/
LOCATION:Old Town Scottsdale Farmers Market\, 3806 N. Brown Ave.\, Scottsdale\, AZ\, 85251
CATEGORIES:Free Event,Phoenix
ATTACH;FMTTYPE=image/webp:https://arizonaseniorguide.com/wp-content/uploads/2025/09/Old-Town-Scottsdale-Farmers-Market.webp
END:VEVENT
BEGIN:VEVENT
DTSTART;TZID=America/Phoenix:20260606T070000
DTEND;TZID=America/Phoenix:20260606T100000
DTSTAMP:20260422T183807
CREATED:20250917T195939Z
LAST-MODIFIED:20250917T195939Z
UID:10012259-1780729200-1780740000@arizonaseniorguide.com
SUMMARY:Old Town Scottsdale Farmers Market (June)
DESCRIPTION: Established in 2009\, the Old Town Scottsdale Farmers Market is in its 16th year and features more than 100 local growers and specialty food producers. Be ready to find a wide variety of organic and pesticide-free produce\, seasonal specialties such as cider and apples\, flowers\, natural pork\, beef\, fish\, free-range eggs from Arizona growers. You’ll also find cheese\, freshly baked artisan breads\, jams\, tamales\, and so much more. \nThe market is family  friendly and well-mannered pets are welcome!  \nDUFB/SNAP accepted.  This market is enrolled in the AZFMNP/WIC program\, please visit www.azfmnp.org for additional details \nSaturdays\nOctober – April: 8am-1pm\nMay: 8-12pm\nJune: 7am-10am \nLocation\n3806 N. Brown Ave. Scottsdale\, AZ 85251 \n*This market is food & farming only \nMore info
URL:https://arizonaseniorguide.com/event/old-town-scottsdale-farmers-market-june/2026-06-06/
LOCATION:Old Town Scottsdale Farmers Market\, 3806 N. Brown Ave.\, Scottsdale\, AZ\, 85251
CATEGORIES:Free Event,Phoenix
ATTACH;FMTTYPE=image/webp:https://arizonaseniorguide.com/wp-content/uploads/2025/09/Old-Town-Scottsdale-Farmers-Market.webp
END:VEVENT
BEGIN:VEVENT
DTSTART;TZID=America/Phoenix:20260613T070000
DTEND;TZID=America/Phoenix:20260613T100000
DTSTAMP:20260422T183807
CREATED:20250917T195939Z
LAST-MODIFIED:20250917T195939Z
UID:10012260-1781334000-1781344800@arizonaseniorguide.com
SUMMARY:Old Town Scottsdale Farmers Market (June)
DESCRIPTION: Established in 2009\, the Old Town Scottsdale Farmers Market is in its 16th year and features more than 100 local growers and specialty food producers. Be ready to find a wide variety of organic and pesticide-free produce\, seasonal specialties such as cider and apples\, flowers\, natural pork\, beef\, fish\, free-range eggs from Arizona growers. You’ll also find cheese\, freshly baked artisan breads\, jams\, tamales\, and so much more. \nThe market is family  friendly and well-mannered pets are welcome!  \nDUFB/SNAP accepted.  This market is enrolled in the AZFMNP/WIC program\, please visit www.azfmnp.org for additional details \nSaturdays\nOctober – April: 8am-1pm\nMay: 8-12pm\nJune: 7am-10am \nLocation\n3806 N. Brown Ave. Scottsdale\, AZ 85251 \n*This market is food & farming only \nMore info
URL:https://arizonaseniorguide.com/event/old-town-scottsdale-farmers-market-june/2026-06-13/
LOCATION:Old Town Scottsdale Farmers Market\, 3806 N. Brown Ave.\, Scottsdale\, AZ\, 85251
CATEGORIES:Free Event,Phoenix
ATTACH;FMTTYPE=image/webp:https://arizonaseniorguide.com/wp-content/uploads/2025/09/Old-Town-Scottsdale-Farmers-Market.webp
END:VEVENT
BEGIN:VEVENT
DTSTART;TZID=America/Phoenix:20260620T070000
DTEND;TZID=America/Phoenix:20260620T100000
DTSTAMP:20260422T183807
CREATED:20250917T195939Z
LAST-MODIFIED:20250917T195939Z
UID:10012261-1781938800-1781949600@arizonaseniorguide.com
SUMMARY:Old Town Scottsdale Farmers Market (June)
DESCRIPTION: Established in 2009\, the Old Town Scottsdale Farmers Market is in its 16th year and features more than 100 local growers and specialty food producers. Be ready to find a wide variety of organic and pesticide-free produce\, seasonal specialties such as cider and apples\, flowers\, natural pork\, beef\, fish\, free-range eggs from Arizona growers. You’ll also find cheese\, freshly baked artisan breads\, jams\, tamales\, and so much more. \nThe market is family  friendly and well-mannered pets are welcome!  \nDUFB/SNAP accepted.  This market is enrolled in the AZFMNP/WIC program\, please visit www.azfmnp.org for additional details \nSaturdays\nOctober – April: 8am-1pm\nMay: 8-12pm\nJune: 7am-10am \nLocation\n3806 N. Brown Ave. Scottsdale\, AZ 85251 \n*This market is food & farming only \nMore info
URL:https://arizonaseniorguide.com/event/old-town-scottsdale-farmers-market-june/2026-06-20/
LOCATION:Old Town Scottsdale Farmers Market\, 3806 N. Brown Ave.\, Scottsdale\, AZ\, 85251
CATEGORIES:Free Event,Phoenix
ATTACH;FMTTYPE=image/webp:https://arizonaseniorguide.com/wp-content/uploads/2025/09/Old-Town-Scottsdale-Farmers-Market.webp
END:VEVENT
BEGIN:VEVENT
DTSTART;TZID=America/Phoenix:20260627T070000
DTEND;TZID=America/Phoenix:20260627T100000
DTSTAMP:20260422T183807
CREATED:20250917T195939Z
LAST-MODIFIED:20250917T195939Z
UID:10012262-1782543600-1782554400@arizonaseniorguide.com
SUMMARY:Old Town Scottsdale Farmers Market (June)
DESCRIPTION: Established in 2009\, the Old Town Scottsdale Farmers Market is in its 16th year and features more than 100 local growers and specialty food producers. Be ready to find a wide variety of organic and pesticide-free produce\, seasonal specialties such as cider and apples\, flowers\, natural pork\, beef\, fish\, free-range eggs from Arizona growers. You’ll also find cheese\, freshly baked artisan breads\, jams\, tamales\, and so much more. \nThe market is family  friendly and well-mannered pets are welcome!  \nDUFB/SNAP accepted.  This market is enrolled in the AZFMNP/WIC program\, please visit www.azfmnp.org for additional details \nSaturdays\nOctober – April: 8am-1pm\nMay: 8-12pm\nJune: 7am-10am \nLocation\n3806 N. Brown Ave. Scottsdale\, AZ 85251 \n*This market is food & farming only \nMore info
URL:https://arizonaseniorguide.com/event/old-town-scottsdale-farmers-market-june/2026-06-27/
LOCATION:Old Town Scottsdale Farmers Market\, 3806 N. Brown Ave.\, Scottsdale\, AZ\, 85251
CATEGORIES:Free Event,Phoenix
ATTACH;FMTTYPE=image/webp:https://arizonaseniorguide.com/wp-content/uploads/2025/09/Old-Town-Scottsdale-Farmers-Market.webp
END:VEVENT
END:VCALENDAR