BEGIN:VCALENDAR
VERSION:2.0
PRODID:-//Arizona Senior Guide - ECPv6.15.20//NONSGML v1.0//EN
CALSCALE:GREGORIAN
METHOD:PUBLISH
X-WR-CALNAME:Arizona Senior Guide
X-ORIGINAL-URL:https://arizonaseniorguide.com
X-WR-CALDESC:Events for Arizona Senior Guide
REFRESH-INTERVAL;VALUE=DURATION:PT1H
X-Robots-Tag:noindex
X-PUBLISHED-TTL:PT1H
BEGIN:VTIMEZONE
TZID:America/Phoenix
BEGIN:STANDARD
TZOFFSETFROM:-0700
TZOFFSETTO:-0700
TZNAME:MST
DTSTART:20250101T000000
END:STANDARD
END:VTIMEZONE
BEGIN:VEVENT
DTSTART;TZID=America/Phoenix:20260426T090000
DTEND;TZID=America/Phoenix:20260426T130000
DTSTAMP:20260425T054751
CREATED:20250917T193616Z
LAST-MODIFIED:20250917T193616Z
UID:10012163-1777194000-1777208400@arizonaseniorguide.com
SUMMARY:Farmers Market on High Street
DESCRIPTION:Established in 2018\, this award-winning farmers market offers a full block of over 100 vendors offering food and fun for all ages.  is only open from October through April. \nSundays\n9AM–1PM\nOctober through April \nLocation\n5415 East High Street\, Phoenix\, AZ 85054\n(located in the High Street Residential and Entertainment/Dining/Shopping area next to Desert Ridge\, near Loop 101 & 56th Street) \nFind items like: \n\nFarm-fresh produce\nLocally-sourced honey\nFresh-baked bread and sweet treats\nOlive oils\nBarbecue sauces\nFresh seafood\nDelicious tamales\nGerman sausages\nFlowers\nSnacks\nBaby clothes\, jewelry\, artsy home décor and more\n\nWell-behaved dogs welcome. \nMore info
URL:https://arizonaseniorguide.com/event/farmers-market-on-high-street/2026-04-26/
LOCATION:High Street Shopping Area\, 5415 East High Street\, Phoenix\, AZ\, 85054
CATEGORIES:Free Event,Phoenix
ATTACH;FMTTYPE=image/webp:https://arizonaseniorguide.com/wp-content/uploads/2025/09/Farmers-Market-High-Street.webp
END:VEVENT
END:VCALENDAR