BEGIN:VCALENDAR
VERSION:2.0
PRODID:-//Arizona Senior Guide - ECPv6.15.20//NONSGML v1.0//EN
CALSCALE:GREGORIAN
METHOD:PUBLISH
X-WR-CALNAME:Arizona Senior Guide
X-ORIGINAL-URL:https://arizonaseniorguide.com
X-WR-CALDESC:Events for Arizona Senior Guide
REFRESH-INTERVAL;VALUE=DURATION:PT1H
X-Robots-Tag:noindex
X-PUBLISHED-TTL:PT1H
BEGIN:VTIMEZONE
TZID:America/Phoenix
BEGIN:STANDARD
TZOFFSETFROM:-0700
TZOFFSETTO:-0700
TZNAME:MST
DTSTART:20250101T000000
END:STANDARD
END:VTIMEZONE
BEGIN:VEVENT
DTSTART;TZID=America/Phoenix:20260425T080000
DTEND;TZID=America/Phoenix:20260425T120000
DTSTAMP:20260424T104858
CREATED:20250916T214709Z
LAST-MODIFIED:20250916T214709Z
UID:10011949-1777104000-1777118400@arizonaseniorguide.com
SUMMARY:Gilbert Farmers Market (Winter hours)
DESCRIPTION:Gilbert Farmers Market (GFM) is located in Downtown Gilbert just west of the iconic Water Tower and is open every Saturday. With over 100 vendors year-round\, the market features local\, chemical-free\, organic produce from many local farmers\, farm-fresh eggs\, meat\, cheese\, bread\, sweets\, coffee and tea\, sauces\, seasonings\, and many other locally made artisan products. \nNew Location:\nThe GFM is now located at the Chandler-Gilbert Community College\, which is only five miles south on Gilbert Rd. \nWinter Hours (October through April): Saturdays 8 AM to 12 PM\nSummer Hours (May through September): Saturdays 7 AM to 11 AM
URL:https://arizonaseniorguide.com/event/gilbert-farmers-market-winter-hours/2026-04-25/
LOCATION:Chandler-Gilbert Community College\, 2626 E Pecos Rd\,\, Chandler\, AZ\, 85225
CATEGORIES:Free Event,Phoenix
ATTACH;FMTTYPE=image/webp:https://arizonaseniorguide.com/wp-content/uploads/2025/09/Gilbert-Farmers-Market.webp
END:VEVENT
END:VCALENDAR