BEGIN:VCALENDAR
VERSION:2.0
PRODID:-//Arizona Senior Guide - ECPv6.15.20//NONSGML v1.0//EN
CALSCALE:GREGORIAN
METHOD:PUBLISH
X-WR-CALNAME:Arizona Senior Guide
X-ORIGINAL-URL:https://arizonaseniorguide.com
X-WR-CALDESC:Events for Arizona Senior Guide
REFRESH-INTERVAL;VALUE=DURATION:PT1H
X-Robots-Tag:noindex
X-PUBLISHED-TTL:PT1H
BEGIN:VTIMEZONE
TZID:America/Phoenix
BEGIN:STANDARD
TZOFFSETFROM:-0700
TZOFFSETTO:-0700
TZNAME:MST
DTSTART:20250101T000000
END:STANDARD
END:VTIMEZONE
BEGIN:VEVENT
DTSTART;TZID=America/Phoenix:20261010T090000
DTEND;TZID=America/Phoenix:20261010T130000
DTSTAMP:20260423T222335
CREATED:20240423T191032Z
LAST-MODIFIED:20250908T193956Z
UID:10011741-1791622800-1791637200@arizonaseniorguide.com
SUMMARY:Second Saturdays (Market) at Steam Pump Ranch
DESCRIPTION:This farmers market at the Steam Pump Ranch in Oro Valley happens every month on the second Saturday\, October through April. \n\nHeirloom Farmer’s Market\nCraft and artisan market\n9:30 a.m. – 11:00 a.m. Kid’s Craft in the Heritage Garden (Supplies are limited so arrive early.)\n10:00 a.m. – 12:00 p.m. Prehistoric demonstrations with Archaeology Southwest in the Heritage Garden.\n10:30 a.m. – 12:00 p.m. Live Music\n\nDATES:\nOctober – March: 9:00 a.m. – 1:00 p.m.\nApril: 8:00 a.m. – 12:00 p.m.\nMay – September: CLOSED \n 
URL:https://arizonaseniorguide.com/event/second-saturdays-market-at-steam-pump-ranch-2/2026-10-10/
LOCATION:Steam Pump Ranch\, 10901 N. Oracle Rd.\, Oro Valley\, AZ\, 85737
CATEGORIES:Free Event,Oro Valley,Tucson
ATTACH;FMTTYPE=image/jpeg:https://arizonaseniorguide.com/wp-content/uploads/2023/08/Steam-Pump-Ranch-second-saturdays.jpg
END:VEVENT
BEGIN:VEVENT
DTSTART;TZID=America/Phoenix:20261114T090000
DTEND;TZID=America/Phoenix:20261114T130000
DTSTAMP:20260423T222335
CREATED:20240423T191032Z
LAST-MODIFIED:20250908T193956Z
UID:10011742-1794646800-1794661200@arizonaseniorguide.com
SUMMARY:Second Saturdays (Market) at Steam Pump Ranch
DESCRIPTION:This farmers market at the Steam Pump Ranch in Oro Valley happens every month on the second Saturday\, October through April. \n\nHeirloom Farmer’s Market\nCraft and artisan market\n9:30 a.m. – 11:00 a.m. Kid’s Craft in the Heritage Garden (Supplies are limited so arrive early.)\n10:00 a.m. – 12:00 p.m. Prehistoric demonstrations with Archaeology Southwest in the Heritage Garden.\n10:30 a.m. – 12:00 p.m. Live Music\n\nDATES:\nOctober – March: 9:00 a.m. – 1:00 p.m.\nApril: 8:00 a.m. – 12:00 p.m.\nMay – September: CLOSED \n 
URL:https://arizonaseniorguide.com/event/second-saturdays-market-at-steam-pump-ranch-2/2026-11-14/
LOCATION:Steam Pump Ranch\, 10901 N. Oracle Rd.\, Oro Valley\, AZ\, 85737
CATEGORIES:Free Event,Oro Valley,Tucson
ATTACH;FMTTYPE=image/jpeg:https://arizonaseniorguide.com/wp-content/uploads/2023/08/Steam-Pump-Ranch-second-saturdays.jpg
END:VEVENT
BEGIN:VEVENT
DTSTART;TZID=America/Phoenix:20261212T090000
DTEND;TZID=America/Phoenix:20261212T130000
DTSTAMP:20260423T222335
CREATED:20240423T191032Z
LAST-MODIFIED:20250908T193956Z
UID:10011743-1797066000-1797080400@arizonaseniorguide.com
SUMMARY:Second Saturdays (Market) at Steam Pump Ranch
DESCRIPTION:This farmers market at the Steam Pump Ranch in Oro Valley happens every month on the second Saturday\, October through April. \n\nHeirloom Farmer’s Market\nCraft and artisan market\n9:30 a.m. – 11:00 a.m. Kid’s Craft in the Heritage Garden (Supplies are limited so arrive early.)\n10:00 a.m. – 12:00 p.m. Prehistoric demonstrations with Archaeology Southwest in the Heritage Garden.\n10:30 a.m. – 12:00 p.m. Live Music\n\nDATES:\nOctober – March: 9:00 a.m. – 1:00 p.m.\nApril: 8:00 a.m. – 12:00 p.m.\nMay – September: CLOSED \n 
URL:https://arizonaseniorguide.com/event/second-saturdays-market-at-steam-pump-ranch-2/2026-12-12/
LOCATION:Steam Pump Ranch\, 10901 N. Oracle Rd.\, Oro Valley\, AZ\, 85737
CATEGORIES:Free Event,Oro Valley,Tucson
ATTACH;FMTTYPE=image/jpeg:https://arizonaseniorguide.com/wp-content/uploads/2023/08/Steam-Pump-Ranch-second-saturdays.jpg
END:VEVENT
BEGIN:VEVENT
DTSTART;TZID=America/Phoenix:20270109T090000
DTEND;TZID=America/Phoenix:20270109T130000
DTSTAMP:20260423T222335
CREATED:20240423T191032Z
LAST-MODIFIED:20250908T193956Z
UID:10011744-1799485200-1799499600@arizonaseniorguide.com
SUMMARY:Second Saturdays (Market) at Steam Pump Ranch
DESCRIPTION:This farmers market at the Steam Pump Ranch in Oro Valley happens every month on the second Saturday\, October through April. \n\nHeirloom Farmer’s Market\nCraft and artisan market\n9:30 a.m. – 11:00 a.m. Kid’s Craft in the Heritage Garden (Supplies are limited so arrive early.)\n10:00 a.m. – 12:00 p.m. Prehistoric demonstrations with Archaeology Southwest in the Heritage Garden.\n10:30 a.m. – 12:00 p.m. Live Music\n\nDATES:\nOctober – March: 9:00 a.m. – 1:00 p.m.\nApril: 8:00 a.m. – 12:00 p.m.\nMay – September: CLOSED \n 
URL:https://arizonaseniorguide.com/event/second-saturdays-market-at-steam-pump-ranch-2/2027-01-09/
LOCATION:Steam Pump Ranch\, 10901 N. Oracle Rd.\, Oro Valley\, AZ\, 85737
CATEGORIES:Free Event,Oro Valley,Tucson
ATTACH;FMTTYPE=image/jpeg:https://arizonaseniorguide.com/wp-content/uploads/2023/08/Steam-Pump-Ranch-second-saturdays.jpg
END:VEVENT
BEGIN:VEVENT
DTSTART;TZID=America/Phoenix:20270213T090000
DTEND;TZID=America/Phoenix:20270213T130000
DTSTAMP:20260423T222335
CREATED:20240423T191032Z
LAST-MODIFIED:20250908T193956Z
UID:10011745-1802509200-1802523600@arizonaseniorguide.com
SUMMARY:Second Saturdays (Market) at Steam Pump Ranch
DESCRIPTION:This farmers market at the Steam Pump Ranch in Oro Valley happens every month on the second Saturday\, October through April. \n\nHeirloom Farmer’s Market\nCraft and artisan market\n9:30 a.m. – 11:00 a.m. Kid’s Craft in the Heritage Garden (Supplies are limited so arrive early.)\n10:00 a.m. – 12:00 p.m. Prehistoric demonstrations with Archaeology Southwest in the Heritage Garden.\n10:30 a.m. – 12:00 p.m. Live Music\n\nDATES:\nOctober – March: 9:00 a.m. – 1:00 p.m.\nApril: 8:00 a.m. – 12:00 p.m.\nMay – September: CLOSED \n 
URL:https://arizonaseniorguide.com/event/second-saturdays-market-at-steam-pump-ranch-2/2027-02-13/
LOCATION:Steam Pump Ranch\, 10901 N. Oracle Rd.\, Oro Valley\, AZ\, 85737
CATEGORIES:Free Event,Oro Valley,Tucson
ATTACH;FMTTYPE=image/jpeg:https://arizonaseniorguide.com/wp-content/uploads/2023/08/Steam-Pump-Ranch-second-saturdays.jpg
END:VEVENT
BEGIN:VEVENT
DTSTART;TZID=America/Phoenix:20270313T090000
DTEND;TZID=America/Phoenix:20270313T130000
DTSTAMP:20260423T222335
CREATED:20240423T191032Z
LAST-MODIFIED:20250908T193956Z
UID:10011746-1804928400-1804942800@arizonaseniorguide.com
SUMMARY:Second Saturdays (Market) at Steam Pump Ranch
DESCRIPTION:This farmers market at the Steam Pump Ranch in Oro Valley happens every month on the second Saturday\, October through April. \n\nHeirloom Farmer’s Market\nCraft and artisan market\n9:30 a.m. – 11:00 a.m. Kid’s Craft in the Heritage Garden (Supplies are limited so arrive early.)\n10:00 a.m. – 12:00 p.m. Prehistoric demonstrations with Archaeology Southwest in the Heritage Garden.\n10:30 a.m. – 12:00 p.m. Live Music\n\nDATES:\nOctober – March: 9:00 a.m. – 1:00 p.m.\nApril: 8:00 a.m. – 12:00 p.m.\nMay – September: CLOSED \n 
URL:https://arizonaseniorguide.com/event/second-saturdays-market-at-steam-pump-ranch-2/2027-03-13/
LOCATION:Steam Pump Ranch\, 10901 N. Oracle Rd.\, Oro Valley\, AZ\, 85737
CATEGORIES:Free Event,Oro Valley,Tucson
ATTACH;FMTTYPE=image/jpeg:https://arizonaseniorguide.com/wp-content/uploads/2023/08/Steam-Pump-Ranch-second-saturdays.jpg
END:VEVENT
BEGIN:VEVENT
DTSTART;TZID=America/Phoenix:20271009T090000
DTEND;TZID=America/Phoenix:20271009T130000
DTSTAMP:20260423T222335
CREATED:20240423T191032Z
LAST-MODIFIED:20250908T193956Z
UID:10011747-1823072400-1823086800@arizonaseniorguide.com
SUMMARY:Second Saturdays (Market) at Steam Pump Ranch
DESCRIPTION:This farmers market at the Steam Pump Ranch in Oro Valley happens every month on the second Saturday\, October through April. \n\nHeirloom Farmer’s Market\nCraft and artisan market\n9:30 a.m. – 11:00 a.m. Kid’s Craft in the Heritage Garden (Supplies are limited so arrive early.)\n10:00 a.m. – 12:00 p.m. Prehistoric demonstrations with Archaeology Southwest in the Heritage Garden.\n10:30 a.m. – 12:00 p.m. Live Music\n\nDATES:\nOctober – March: 9:00 a.m. – 1:00 p.m.\nApril: 8:00 a.m. – 12:00 p.m.\nMay – September: CLOSED \n 
URL:https://arizonaseniorguide.com/event/second-saturdays-market-at-steam-pump-ranch-2/2027-10-09/
LOCATION:Steam Pump Ranch\, 10901 N. Oracle Rd.\, Oro Valley\, AZ\, 85737
CATEGORIES:Free Event,Oro Valley,Tucson
ATTACH;FMTTYPE=image/jpeg:https://arizonaseniorguide.com/wp-content/uploads/2023/08/Steam-Pump-Ranch-second-saturdays.jpg
END:VEVENT
BEGIN:VEVENT
DTSTART;TZID=America/Phoenix:20271113T090000
DTEND;TZID=America/Phoenix:20271113T130000
DTSTAMP:20260423T222335
CREATED:20240423T191032Z
LAST-MODIFIED:20250908T193956Z
UID:10011748-1826096400-1826110800@arizonaseniorguide.com
SUMMARY:Second Saturdays (Market) at Steam Pump Ranch
DESCRIPTION:This farmers market at the Steam Pump Ranch in Oro Valley happens every month on the second Saturday\, October through April. \n\nHeirloom Farmer’s Market\nCraft and artisan market\n9:30 a.m. – 11:00 a.m. Kid’s Craft in the Heritage Garden (Supplies are limited so arrive early.)\n10:00 a.m. – 12:00 p.m. Prehistoric demonstrations with Archaeology Southwest in the Heritage Garden.\n10:30 a.m. – 12:00 p.m. Live Music\n\nDATES:\nOctober – March: 9:00 a.m. – 1:00 p.m.\nApril: 8:00 a.m. – 12:00 p.m.\nMay – September: CLOSED \n 
URL:https://arizonaseniorguide.com/event/second-saturdays-market-at-steam-pump-ranch-2/2027-11-13/
LOCATION:Steam Pump Ranch\, 10901 N. Oracle Rd.\, Oro Valley\, AZ\, 85737
CATEGORIES:Free Event,Oro Valley,Tucson
ATTACH;FMTTYPE=image/jpeg:https://arizonaseniorguide.com/wp-content/uploads/2023/08/Steam-Pump-Ranch-second-saturdays.jpg
END:VEVENT
BEGIN:VEVENT
DTSTART;TZID=America/Phoenix:20271211T090000
DTEND;TZID=America/Phoenix:20271211T130000
DTSTAMP:20260423T222335
CREATED:20240423T191032Z
LAST-MODIFIED:20250908T193956Z
UID:10011749-1828515600-1828530000@arizonaseniorguide.com
SUMMARY:Second Saturdays (Market) at Steam Pump Ranch
DESCRIPTION:This farmers market at the Steam Pump Ranch in Oro Valley happens every month on the second Saturday\, October through April. \n\nHeirloom Farmer’s Market\nCraft and artisan market\n9:30 a.m. – 11:00 a.m. Kid’s Craft in the Heritage Garden (Supplies are limited so arrive early.)\n10:00 a.m. – 12:00 p.m. Prehistoric demonstrations with Archaeology Southwest in the Heritage Garden.\n10:30 a.m. – 12:00 p.m. Live Music\n\nDATES:\nOctober – March: 9:00 a.m. – 1:00 p.m.\nApril: 8:00 a.m. – 12:00 p.m.\nMay – September: CLOSED \n 
URL:https://arizonaseniorguide.com/event/second-saturdays-market-at-steam-pump-ranch-2/2027-12-11/
LOCATION:Steam Pump Ranch\, 10901 N. Oracle Rd.\, Oro Valley\, AZ\, 85737
CATEGORIES:Free Event,Oro Valley,Tucson
ATTACH;FMTTYPE=image/jpeg:https://arizonaseniorguide.com/wp-content/uploads/2023/08/Steam-Pump-Ranch-second-saturdays.jpg
END:VEVENT
BEGIN:VEVENT
DTSTART;TZID=America/Phoenix:20280108T090000
DTEND;TZID=America/Phoenix:20280108T130000
DTSTAMP:20260423T222335
CREATED:20240423T191032Z
LAST-MODIFIED:20250908T193956Z
UID:10011750-1830934800-1830949200@arizonaseniorguide.com
SUMMARY:Second Saturdays (Market) at Steam Pump Ranch
DESCRIPTION:This farmers market at the Steam Pump Ranch in Oro Valley happens every month on the second Saturday\, October through April. \n\nHeirloom Farmer’s Market\nCraft and artisan market\n9:30 a.m. – 11:00 a.m. Kid’s Craft in the Heritage Garden (Supplies are limited so arrive early.)\n10:00 a.m. – 12:00 p.m. Prehistoric demonstrations with Archaeology Southwest in the Heritage Garden.\n10:30 a.m. – 12:00 p.m. Live Music\n\nDATES:\nOctober – March: 9:00 a.m. – 1:00 p.m.\nApril: 8:00 a.m. – 12:00 p.m.\nMay – September: CLOSED \n 
URL:https://arizonaseniorguide.com/event/second-saturdays-market-at-steam-pump-ranch-2/2028-01-08/
LOCATION:Steam Pump Ranch\, 10901 N. Oracle Rd.\, Oro Valley\, AZ\, 85737
CATEGORIES:Free Event,Oro Valley,Tucson
ATTACH;FMTTYPE=image/jpeg:https://arizonaseniorguide.com/wp-content/uploads/2023/08/Steam-Pump-Ranch-second-saturdays.jpg
END:VEVENT
BEGIN:VEVENT
DTSTART;TZID=America/Phoenix:20280212T090000
DTEND;TZID=America/Phoenix:20280212T130000
DTSTAMP:20260423T222335
CREATED:20240423T191032Z
LAST-MODIFIED:20250908T193956Z
UID:10011751-1833958800-1833973200@arizonaseniorguide.com
SUMMARY:Second Saturdays (Market) at Steam Pump Ranch
DESCRIPTION:This farmers market at the Steam Pump Ranch in Oro Valley happens every month on the second Saturday\, October through April. \n\nHeirloom Farmer’s Market\nCraft and artisan market\n9:30 a.m. – 11:00 a.m. Kid’s Craft in the Heritage Garden (Supplies are limited so arrive early.)\n10:00 a.m. – 12:00 p.m. Prehistoric demonstrations with Archaeology Southwest in the Heritage Garden.\n10:30 a.m. – 12:00 p.m. Live Music\n\nDATES:\nOctober – March: 9:00 a.m. – 1:00 p.m.\nApril: 8:00 a.m. – 12:00 p.m.\nMay – September: CLOSED \n 
URL:https://arizonaseniorguide.com/event/second-saturdays-market-at-steam-pump-ranch-2/2028-02-12/
LOCATION:Steam Pump Ranch\, 10901 N. Oracle Rd.\, Oro Valley\, AZ\, 85737
CATEGORIES:Free Event,Oro Valley,Tucson
ATTACH;FMTTYPE=image/jpeg:https://arizonaseniorguide.com/wp-content/uploads/2023/08/Steam-Pump-Ranch-second-saturdays.jpg
END:VEVENT
BEGIN:VEVENT
DTSTART;TZID=America/Phoenix:20280311T090000
DTEND;TZID=America/Phoenix:20280311T130000
DTSTAMP:20260423T222335
CREATED:20240423T191032Z
LAST-MODIFIED:20250908T193956Z
UID:10011752-1836378000-1836392400@arizonaseniorguide.com
SUMMARY:Second Saturdays (Market) at Steam Pump Ranch
DESCRIPTION:This farmers market at the Steam Pump Ranch in Oro Valley happens every month on the second Saturday\, October through April. \n\nHeirloom Farmer’s Market\nCraft and artisan market\n9:30 a.m. – 11:00 a.m. Kid’s Craft in the Heritage Garden (Supplies are limited so arrive early.)\n10:00 a.m. – 12:00 p.m. Prehistoric demonstrations with Archaeology Southwest in the Heritage Garden.\n10:30 a.m. – 12:00 p.m. Live Music\n\nDATES:\nOctober – March: 9:00 a.m. – 1:00 p.m.\nApril: 8:00 a.m. – 12:00 p.m.\nMay – September: CLOSED \n 
URL:https://arizonaseniorguide.com/event/second-saturdays-market-at-steam-pump-ranch-2/2028-03-11/
LOCATION:Steam Pump Ranch\, 10901 N. Oracle Rd.\, Oro Valley\, AZ\, 85737
CATEGORIES:Free Event,Oro Valley,Tucson
ATTACH;FMTTYPE=image/jpeg:https://arizonaseniorguide.com/wp-content/uploads/2023/08/Steam-Pump-Ranch-second-saturdays.jpg
END:VEVENT
BEGIN:VEVENT
DTSTART;TZID=America/Phoenix:20281014T090000
DTEND;TZID=America/Phoenix:20281014T130000
DTSTAMP:20260423T222335
CREATED:20240423T191032Z
LAST-MODIFIED:20250908T193956Z
UID:10011753-1855126800-1855141200@arizonaseniorguide.com
SUMMARY:Second Saturdays (Market) at Steam Pump Ranch
DESCRIPTION:This farmers market at the Steam Pump Ranch in Oro Valley happens every month on the second Saturday\, October through April. \n\nHeirloom Farmer’s Market\nCraft and artisan market\n9:30 a.m. – 11:00 a.m. Kid’s Craft in the Heritage Garden (Supplies are limited so arrive early.)\n10:00 a.m. – 12:00 p.m. Prehistoric demonstrations with Archaeology Southwest in the Heritage Garden.\n10:30 a.m. – 12:00 p.m. Live Music\n\nDATES:\nOctober – March: 9:00 a.m. – 1:00 p.m.\nApril: 8:00 a.m. – 12:00 p.m.\nMay – September: CLOSED \n 
URL:https://arizonaseniorguide.com/event/second-saturdays-market-at-steam-pump-ranch-2/2028-10-14/
LOCATION:Steam Pump Ranch\, 10901 N. Oracle Rd.\, Oro Valley\, AZ\, 85737
CATEGORIES:Free Event,Oro Valley,Tucson
ATTACH;FMTTYPE=image/jpeg:https://arizonaseniorguide.com/wp-content/uploads/2023/08/Steam-Pump-Ranch-second-saturdays.jpg
END:VEVENT
BEGIN:VEVENT
DTSTART;TZID=America/Phoenix:20281111T090000
DTEND;TZID=America/Phoenix:20281111T130000
DTSTAMP:20260423T222335
CREATED:20240423T191032Z
LAST-MODIFIED:20250908T193956Z
UID:10011754-1857546000-1857560400@arizonaseniorguide.com
SUMMARY:Second Saturdays (Market) at Steam Pump Ranch
DESCRIPTION:This farmers market at the Steam Pump Ranch in Oro Valley happens every month on the second Saturday\, October through April. \n\nHeirloom Farmer’s Market\nCraft and artisan market\n9:30 a.m. – 11:00 a.m. Kid’s Craft in the Heritage Garden (Supplies are limited so arrive early.)\n10:00 a.m. – 12:00 p.m. Prehistoric demonstrations with Archaeology Southwest in the Heritage Garden.\n10:30 a.m. – 12:00 p.m. Live Music\n\nDATES:\nOctober – March: 9:00 a.m. – 1:00 p.m.\nApril: 8:00 a.m. – 12:00 p.m.\nMay – September: CLOSED \n 
URL:https://arizonaseniorguide.com/event/second-saturdays-market-at-steam-pump-ranch-2/2028-11-11/
LOCATION:Steam Pump Ranch\, 10901 N. Oracle Rd.\, Oro Valley\, AZ\, 85737
CATEGORIES:Free Event,Oro Valley,Tucson
ATTACH;FMTTYPE=image/jpeg:https://arizonaseniorguide.com/wp-content/uploads/2023/08/Steam-Pump-Ranch-second-saturdays.jpg
END:VEVENT
BEGIN:VEVENT
DTSTART;TZID=America/Phoenix:20281209T090000
DTEND;TZID=America/Phoenix:20281209T130000
DTSTAMP:20260423T222335
CREATED:20240423T191032Z
LAST-MODIFIED:20250908T193956Z
UID:10011755-1859965200-1859979600@arizonaseniorguide.com
SUMMARY:Second Saturdays (Market) at Steam Pump Ranch
DESCRIPTION:This farmers market at the Steam Pump Ranch in Oro Valley happens every month on the second Saturday\, October through April. \n\nHeirloom Farmer’s Market\nCraft and artisan market\n9:30 a.m. – 11:00 a.m. Kid’s Craft in the Heritage Garden (Supplies are limited so arrive early.)\n10:00 a.m. – 12:00 p.m. Prehistoric demonstrations with Archaeology Southwest in the Heritage Garden.\n10:30 a.m. – 12:00 p.m. Live Music\n\nDATES:\nOctober – March: 9:00 a.m. – 1:00 p.m.\nApril: 8:00 a.m. – 12:00 p.m.\nMay – September: CLOSED \n 
URL:https://arizonaseniorguide.com/event/second-saturdays-market-at-steam-pump-ranch-2/2028-12-09/
LOCATION:Steam Pump Ranch\, 10901 N. Oracle Rd.\, Oro Valley\, AZ\, 85737
CATEGORIES:Free Event,Oro Valley,Tucson
ATTACH;FMTTYPE=image/jpeg:https://arizonaseniorguide.com/wp-content/uploads/2023/08/Steam-Pump-Ranch-second-saturdays.jpg
END:VEVENT
BEGIN:VEVENT
DTSTART;TZID=America/Phoenix:20290113T090000
DTEND;TZID=America/Phoenix:20290113T130000
DTSTAMP:20260423T222335
CREATED:20240423T191032Z
LAST-MODIFIED:20250908T193956Z
UID:10011756-1862989200-1863003600@arizonaseniorguide.com
SUMMARY:Second Saturdays (Market) at Steam Pump Ranch
DESCRIPTION:This farmers market at the Steam Pump Ranch in Oro Valley happens every month on the second Saturday\, October through April. \n\nHeirloom Farmer’s Market\nCraft and artisan market\n9:30 a.m. – 11:00 a.m. Kid’s Craft in the Heritage Garden (Supplies are limited so arrive early.)\n10:00 a.m. – 12:00 p.m. Prehistoric demonstrations with Archaeology Southwest in the Heritage Garden.\n10:30 a.m. – 12:00 p.m. Live Music\n\nDATES:\nOctober – March: 9:00 a.m. – 1:00 p.m.\nApril: 8:00 a.m. – 12:00 p.m.\nMay – September: CLOSED \n 
URL:https://arizonaseniorguide.com/event/second-saturdays-market-at-steam-pump-ranch-2/2029-01-13/
LOCATION:Steam Pump Ranch\, 10901 N. Oracle Rd.\, Oro Valley\, AZ\, 85737
CATEGORIES:Free Event,Oro Valley,Tucson
ATTACH;FMTTYPE=image/jpeg:https://arizonaseniorguide.com/wp-content/uploads/2023/08/Steam-Pump-Ranch-second-saturdays.jpg
END:VEVENT
BEGIN:VEVENT
DTSTART;TZID=America/Phoenix:20290210T090000
DTEND;TZID=America/Phoenix:20290210T130000
DTSTAMP:20260423T222335
CREATED:20240423T191032Z
LAST-MODIFIED:20250908T193956Z
UID:10011757-1865408400-1865422800@arizonaseniorguide.com
SUMMARY:Second Saturdays (Market) at Steam Pump Ranch
DESCRIPTION:This farmers market at the Steam Pump Ranch in Oro Valley happens every month on the second Saturday\, October through April. \n\nHeirloom Farmer’s Market\nCraft and artisan market\n9:30 a.m. – 11:00 a.m. Kid’s Craft in the Heritage Garden (Supplies are limited so arrive early.)\n10:00 a.m. – 12:00 p.m. Prehistoric demonstrations with Archaeology Southwest in the Heritage Garden.\n10:30 a.m. – 12:00 p.m. Live Music\n\nDATES:\nOctober – March: 9:00 a.m. – 1:00 p.m.\nApril: 8:00 a.m. – 12:00 p.m.\nMay – September: CLOSED \n 
URL:https://arizonaseniorguide.com/event/second-saturdays-market-at-steam-pump-ranch-2/2029-02-10/
LOCATION:Steam Pump Ranch\, 10901 N. Oracle Rd.\, Oro Valley\, AZ\, 85737
CATEGORIES:Free Event,Oro Valley,Tucson
ATTACH;FMTTYPE=image/jpeg:https://arizonaseniorguide.com/wp-content/uploads/2023/08/Steam-Pump-Ranch-second-saturdays.jpg
END:VEVENT
BEGIN:VEVENT
DTSTART;TZID=America/Phoenix:20290310T090000
DTEND;TZID=America/Phoenix:20290310T130000
DTSTAMP:20260423T222335
CREATED:20240423T191032Z
LAST-MODIFIED:20250908T193956Z
UID:10011758-1867827600-1867842000@arizonaseniorguide.com
SUMMARY:Second Saturdays (Market) at Steam Pump Ranch
DESCRIPTION:This farmers market at the Steam Pump Ranch in Oro Valley happens every month on the second Saturday\, October through April. \n\nHeirloom Farmer’s Market\nCraft and artisan market\n9:30 a.m. – 11:00 a.m. Kid’s Craft in the Heritage Garden (Supplies are limited so arrive early.)\n10:00 a.m. – 12:00 p.m. Prehistoric demonstrations with Archaeology Southwest in the Heritage Garden.\n10:30 a.m. – 12:00 p.m. Live Music\n\nDATES:\nOctober – March: 9:00 a.m. – 1:00 p.m.\nApril: 8:00 a.m. – 12:00 p.m.\nMay – September: CLOSED \n 
URL:https://arizonaseniorguide.com/event/second-saturdays-market-at-steam-pump-ranch-2/2029-03-10/
LOCATION:Steam Pump Ranch\, 10901 N. Oracle Rd.\, Oro Valley\, AZ\, 85737
CATEGORIES:Free Event,Oro Valley,Tucson
ATTACH;FMTTYPE=image/jpeg:https://arizonaseniorguide.com/wp-content/uploads/2023/08/Steam-Pump-Ranch-second-saturdays.jpg
END:VEVENT
BEGIN:VEVENT
DTSTART;TZID=America/Phoenix:20291013T090000
DTEND;TZID=America/Phoenix:20291013T130000
DTSTAMP:20260423T222335
CREATED:20240423T191032Z
LAST-MODIFIED:20250908T193956Z
UID:10011759-1886576400-1886590800@arizonaseniorguide.com
SUMMARY:Second Saturdays (Market) at Steam Pump Ranch
DESCRIPTION:This farmers market at the Steam Pump Ranch in Oro Valley happens every month on the second Saturday\, October through April. \n\nHeirloom Farmer’s Market\nCraft and artisan market\n9:30 a.m. – 11:00 a.m. Kid’s Craft in the Heritage Garden (Supplies are limited so arrive early.)\n10:00 a.m. – 12:00 p.m. Prehistoric demonstrations with Archaeology Southwest in the Heritage Garden.\n10:30 a.m. – 12:00 p.m. Live Music\n\nDATES:\nOctober – March: 9:00 a.m. – 1:00 p.m.\nApril: 8:00 a.m. – 12:00 p.m.\nMay – September: CLOSED \n 
URL:https://arizonaseniorguide.com/event/second-saturdays-market-at-steam-pump-ranch-2/2029-10-13/
LOCATION:Steam Pump Ranch\, 10901 N. Oracle Rd.\, Oro Valley\, AZ\, 85737
CATEGORIES:Free Event,Oro Valley,Tucson
ATTACH;FMTTYPE=image/jpeg:https://arizonaseniorguide.com/wp-content/uploads/2023/08/Steam-Pump-Ranch-second-saturdays.jpg
END:VEVENT
BEGIN:VEVENT
DTSTART;TZID=America/Phoenix:20291110T090000
DTEND;TZID=America/Phoenix:20291110T130000
DTSTAMP:20260423T222335
CREATED:20240423T191032Z
LAST-MODIFIED:20250908T193956Z
UID:10011760-1888995600-1889010000@arizonaseniorguide.com
SUMMARY:Second Saturdays (Market) at Steam Pump Ranch
DESCRIPTION:This farmers market at the Steam Pump Ranch in Oro Valley happens every month on the second Saturday\, October through April. \n\nHeirloom Farmer’s Market\nCraft and artisan market\n9:30 a.m. – 11:00 a.m. Kid’s Craft in the Heritage Garden (Supplies are limited so arrive early.)\n10:00 a.m. – 12:00 p.m. Prehistoric demonstrations with Archaeology Southwest in the Heritage Garden.\n10:30 a.m. – 12:00 p.m. Live Music\n\nDATES:\nOctober – March: 9:00 a.m. – 1:00 p.m.\nApril: 8:00 a.m. – 12:00 p.m.\nMay – September: CLOSED \n 
URL:https://arizonaseniorguide.com/event/second-saturdays-market-at-steam-pump-ranch-2/2029-11-10/
LOCATION:Steam Pump Ranch\, 10901 N. Oracle Rd.\, Oro Valley\, AZ\, 85737
CATEGORIES:Free Event,Oro Valley,Tucson
ATTACH;FMTTYPE=image/jpeg:https://arizonaseniorguide.com/wp-content/uploads/2023/08/Steam-Pump-Ranch-second-saturdays.jpg
END:VEVENT
BEGIN:VEVENT
DTSTART;TZID=America/Phoenix:20291208T090000
DTEND;TZID=America/Phoenix:20291208T130000
DTSTAMP:20260423T222335
CREATED:20240423T191032Z
LAST-MODIFIED:20250908T193956Z
UID:10011761-1891414800-1891429200@arizonaseniorguide.com
SUMMARY:Second Saturdays (Market) at Steam Pump Ranch
DESCRIPTION:This farmers market at the Steam Pump Ranch in Oro Valley happens every month on the second Saturday\, October through April. \n\nHeirloom Farmer’s Market\nCraft and artisan market\n9:30 a.m. – 11:00 a.m. Kid’s Craft in the Heritage Garden (Supplies are limited so arrive early.)\n10:00 a.m. – 12:00 p.m. Prehistoric demonstrations with Archaeology Southwest in the Heritage Garden.\n10:30 a.m. – 12:00 p.m. Live Music\n\nDATES:\nOctober – March: 9:00 a.m. – 1:00 p.m.\nApril: 8:00 a.m. – 12:00 p.m.\nMay – September: CLOSED \n 
URL:https://arizonaseniorguide.com/event/second-saturdays-market-at-steam-pump-ranch-2/2029-12-08/
LOCATION:Steam Pump Ranch\, 10901 N. Oracle Rd.\, Oro Valley\, AZ\, 85737
CATEGORIES:Free Event,Oro Valley,Tucson
ATTACH;FMTTYPE=image/jpeg:https://arizonaseniorguide.com/wp-content/uploads/2023/08/Steam-Pump-Ranch-second-saturdays.jpg
END:VEVENT
BEGIN:VEVENT
DTSTART;TZID=America/Phoenix:20300112T090000
DTEND;TZID=America/Phoenix:20300112T130000
DTSTAMP:20260423T222335
CREATED:20240423T191032Z
LAST-MODIFIED:20250908T193956Z
UID:10011762-1894438800-1894453200@arizonaseniorguide.com
SUMMARY:Second Saturdays (Market) at Steam Pump Ranch
DESCRIPTION:This farmers market at the Steam Pump Ranch in Oro Valley happens every month on the second Saturday\, October through April. \n\nHeirloom Farmer’s Market\nCraft and artisan market\n9:30 a.m. – 11:00 a.m. Kid’s Craft in the Heritage Garden (Supplies are limited so arrive early.)\n10:00 a.m. – 12:00 p.m. Prehistoric demonstrations with Archaeology Southwest in the Heritage Garden.\n10:30 a.m. – 12:00 p.m. Live Music\n\nDATES:\nOctober – March: 9:00 a.m. – 1:00 p.m.\nApril: 8:00 a.m. – 12:00 p.m.\nMay – September: CLOSED \n 
URL:https://arizonaseniorguide.com/event/second-saturdays-market-at-steam-pump-ranch-2/2030-01-12/
LOCATION:Steam Pump Ranch\, 10901 N. Oracle Rd.\, Oro Valley\, AZ\, 85737
CATEGORIES:Free Event,Oro Valley,Tucson
ATTACH;FMTTYPE=image/jpeg:https://arizonaseniorguide.com/wp-content/uploads/2023/08/Steam-Pump-Ranch-second-saturdays.jpg
END:VEVENT
BEGIN:VEVENT
DTSTART;TZID=America/Phoenix:20300209T090000
DTEND;TZID=America/Phoenix:20300209T130000
DTSTAMP:20260423T222335
CREATED:20240423T191032Z
LAST-MODIFIED:20250908T193956Z
UID:10011763-1896858000-1896872400@arizonaseniorguide.com
SUMMARY:Second Saturdays (Market) at Steam Pump Ranch
DESCRIPTION:This farmers market at the Steam Pump Ranch in Oro Valley happens every month on the second Saturday\, October through April. \n\nHeirloom Farmer’s Market\nCraft and artisan market\n9:30 a.m. – 11:00 a.m. Kid’s Craft in the Heritage Garden (Supplies are limited so arrive early.)\n10:00 a.m. – 12:00 p.m. Prehistoric demonstrations with Archaeology Southwest in the Heritage Garden.\n10:30 a.m. – 12:00 p.m. Live Music\n\nDATES:\nOctober – March: 9:00 a.m. – 1:00 p.m.\nApril: 8:00 a.m. – 12:00 p.m.\nMay – September: CLOSED \n 
URL:https://arizonaseniorguide.com/event/second-saturdays-market-at-steam-pump-ranch-2/2030-02-09/
LOCATION:Steam Pump Ranch\, 10901 N. Oracle Rd.\, Oro Valley\, AZ\, 85737
CATEGORIES:Free Event,Oro Valley,Tucson
ATTACH;FMTTYPE=image/jpeg:https://arizonaseniorguide.com/wp-content/uploads/2023/08/Steam-Pump-Ranch-second-saturdays.jpg
END:VEVENT
BEGIN:VEVENT
DTSTART;TZID=America/Phoenix:20300309T090000
DTEND;TZID=America/Phoenix:20300309T130000
DTSTAMP:20260423T222335
CREATED:20240423T191032Z
LAST-MODIFIED:20250908T193956Z
UID:10011764-1899277200-1899291600@arizonaseniorguide.com
SUMMARY:Second Saturdays (Market) at Steam Pump Ranch
DESCRIPTION:This farmers market at the Steam Pump Ranch in Oro Valley happens every month on the second Saturday\, October through April. \n\nHeirloom Farmer’s Market\nCraft and artisan market\n9:30 a.m. – 11:00 a.m. Kid’s Craft in the Heritage Garden (Supplies are limited so arrive early.)\n10:00 a.m. – 12:00 p.m. Prehistoric demonstrations with Archaeology Southwest in the Heritage Garden.\n10:30 a.m. – 12:00 p.m. Live Music\n\nDATES:\nOctober – March: 9:00 a.m. – 1:00 p.m.\nApril: 8:00 a.m. – 12:00 p.m.\nMay – September: CLOSED \n 
URL:https://arizonaseniorguide.com/event/second-saturdays-market-at-steam-pump-ranch-2/2030-03-09/
LOCATION:Steam Pump Ranch\, 10901 N. Oracle Rd.\, Oro Valley\, AZ\, 85737
CATEGORIES:Free Event,Oro Valley,Tucson
ATTACH;FMTTYPE=image/jpeg:https://arizonaseniorguide.com/wp-content/uploads/2023/08/Steam-Pump-Ranch-second-saturdays.jpg
END:VEVENT
END:VCALENDAR