BEGIN:VCALENDAR
VERSION:2.0
PRODID:-//Arizona Senior Guide - ECPv6.15.20//NONSGML v1.0//EN
CALSCALE:GREGORIAN
METHOD:PUBLISH
X-WR-CALNAME:Arizona Senior Guide
X-ORIGINAL-URL:https://arizonaseniorguide.com
X-WR-CALDESC:Events for Arizona Senior Guide
REFRESH-INTERVAL;VALUE=DURATION:PT1H
X-Robots-Tag:noindex
X-PUBLISHED-TTL:PT1H
BEGIN:VTIMEZONE
TZID:America/Phoenix
BEGIN:STANDARD
TZOFFSETFROM:-0700
TZOFFSETTO:-0700
TZNAME:MST
DTSTART:20250101T000000
END:STANDARD
END:VTIMEZONE
BEGIN:VEVENT
DTSTART;TZID=America/Phoenix:20260507T190000
DTEND;TZID=America/Phoenix:20260507T210000
DTSTAMP:20260422T172130
CREATED:20260401T201918Z
LAST-MODIFIED:20260401T202541Z
UID:10013484-1778180400-1778187600@arizonaseniorguide.com
SUMMARY:El Dorado’s Gold\, co-presented with The Bridge Initiative
DESCRIPTION:El Dorado’s Gold tells the story of Tucker Callahan\, a Black cowboy who returns to his ranch after betraying his family and seeks redemption. His mother presents him with letters from his late great-grandfather\, believing they will change his life because “it’s time.”
URL:https://arizonaseniorguide.com/event/el-dorados-gold-co-presented-with-the-bridge-initiative/2026-05-07/
LOCATION:ASU Kerr\, 6110 N Scottsdale Rd\, Scottsdale\, AZ\, 85253
CATEGORIES:Live Theater,Phoenix
ATTACH;FMTTYPE=image/png:https://arizonaseniorguide.com/wp-content/uploads/2026/04/eldorado-bridge.png
END:VEVENT
BEGIN:VEVENT
DTSTART;TZID=America/Phoenix:20260508T190000
DTEND;TZID=America/Phoenix:20260508T210000
DTSTAMP:20260422T172130
CREATED:20260401T201918Z
LAST-MODIFIED:20260401T202541Z
UID:10013487-1778266800-1778274000@arizonaseniorguide.com
SUMMARY:El Dorado’s Gold\, co-presented with The Bridge Initiative
DESCRIPTION:El Dorado’s Gold tells the story of Tucker Callahan\, a Black cowboy who returns to his ranch after betraying his family and seeks redemption. His mother presents him with letters from his late great-grandfather\, believing they will change his life because “it’s time.”
URL:https://arizonaseniorguide.com/event/el-dorados-gold-co-presented-with-the-bridge-initiative/2026-05-08/
LOCATION:ASU Kerr\, 6110 N Scottsdale Rd\, Scottsdale\, AZ\, 85253
CATEGORIES:Live Theater,Phoenix
ATTACH;FMTTYPE=image/png:https://arizonaseniorguide.com/wp-content/uploads/2026/04/eldorado-bridge.png
END:VEVENT
BEGIN:VEVENT
DTSTART;TZID=America/Phoenix:20260510T140000
DTEND;TZID=America/Phoenix:20260510T160000
DTSTAMP:20260422T172130
CREATED:20260401T201918Z
LAST-MODIFIED:20260401T202541Z
UID:10013488-1778421600-1778428800@arizonaseniorguide.com
SUMMARY:El Dorado’s Gold\, co-presented with The Bridge Initiative
DESCRIPTION:El Dorado’s Gold tells the story of Tucker Callahan\, a Black cowboy who returns to his ranch after betraying his family and seeks redemption. His mother presents him with letters from his late great-grandfather\, believing they will change his life because “it’s time.”
URL:https://arizonaseniorguide.com/event/el-dorados-gold-co-presented-with-the-bridge-initiative/2026-05-10/
LOCATION:ASU Kerr\, 6110 N Scottsdale Rd\, Scottsdale\, AZ\, 85253
CATEGORIES:Live Theater,Phoenix
ATTACH;FMTTYPE=image/png:https://arizonaseniorguide.com/wp-content/uploads/2026/04/eldorado-bridge.png
END:VEVENT
END:VCALENDAR