BEGIN:VCALENDAR
VERSION:2.0
PRODID:-//Arizona Senior Guide - ECPv6.15.20//NONSGML v1.0//EN
CALSCALE:GREGORIAN
METHOD:PUBLISH
X-WR-CALNAME:Arizona Senior Guide
X-ORIGINAL-URL:https://arizonaseniorguide.com
X-WR-CALDESC:Events for Arizona Senior Guide
REFRESH-INTERVAL;VALUE=DURATION:PT1H
X-Robots-Tag:noindex
X-PUBLISHED-TTL:PT1H
BEGIN:VTIMEZONE
TZID:America/Phoenix
BEGIN:STANDARD
TZOFFSETFROM:-0700
TZOFFSETTO:-0700
TZNAME:MST
DTSTART:20200101T000000
END:STANDARD
END:VTIMEZONE
BEGIN:VEVENT
DTSTART;TZID=America/Phoenix:20211106T193000
DTEND;TZID=America/Phoenix:20211109T164731
DTSTAMP:20260425T211010
CREATED:20211108T164121Z
LAST-MODIFIED:20211108T164729Z
UID:10001688-1636227000-1636476451@arizonaseniorguide.com
SUMMARY:Musical: My 80-Year-Old Boyfriend
DESCRIPTION:A delightful award-winning musical about the magic that happens when we let ourselves say “yes.” \nWhat happens when a 20-something Broadway baby meets a Shakespeare- and Schubert-loving octogenarian? Much to their surprise\, a friendship blossoms. A delightful award-winning musical about the magic that happens when we throw aside our fears and cross generational barriers. Based on the true story of Broadway performer Charissa Bertels\, and winner of the Kleban award for best new libretto\, My 80-Year-Old Boyfriend is a loving musical tale about a most unlikely pair discovering themselves as well as each other.  \n*11/6 (2PM): ASL/AD Performance \nBuy tickets
URL:https://arizonaseniorguide.com/event/musical-my-80-year-old-boyfriend/2021-11-06/2/
LOCATION:Herberger Theater Center\, 222 East Monroe Street\, Phoenix\, AZ\, 85004
CATEGORIES:Phoenix
ATTACH;FMTTYPE=image/png:https://arizonaseniorguide.com/wp-content/uploads/2021/11/My-80-year-old-Boyfriend.png
GEO:33.450941;-112.070713
X-APPLE-STRUCTURED-LOCATION;VALUE=URI;X-ADDRESS=Herberger Theater Center 222 East Monroe Street Phoenix AZ 85004;X-APPLE-RADIUS=500;X-TITLE=222 East Monroe Street:geo:-112.070713,33.450941
END:VEVENT
BEGIN:VEVENT
DTSTART;TZID=America/Phoenix:20211016T193000
DTEND;TZID=America/Phoenix:20211016T193000
DTSTAMP:20260425T211010
CREATED:20210926T030055Z
LAST-MODIFIED:20210926T030413Z
UID:10001683-1634412600-1634412600@arizonaseniorguide.com
SUMMARY:The Doobie Brothers
DESCRIPTION:The Doobie Brothers are heading to Phoenix for their 50th Anniversary Tour. See the rock band perform their hits live at Ak-Chin Pavilion on October 16\, 2021. With special guests: Michael McDonald and The Dirty Dozen Brass Band.
URL:https://arizonaseniorguide.com/event/the-doobie-brothers/
LOCATION:Ak-Chin Pavilion\, 121 N 83rd Ave\, Phoenix\, AZ\, 85035\, United States
ATTACH;FMTTYPE=image/jpeg:https://arizonaseniorguide.com/wp-content/uploads/2021/09/doobie-brothers.jpg
GEO:33.4493029;-112.2383177
X-APPLE-STRUCTURED-LOCATION;VALUE=URI;X-ADDRESS=Ak-Chin Pavilion 121 N 83rd Ave Phoenix AZ 85035 United States;X-APPLE-RADIUS=500;X-TITLE=121 N 83rd Ave:geo:-112.2383177,33.4493029
END:VEVENT
BEGIN:VEVENT
DTSTART;TZID=America/Phoenix:20211015T193000
DTEND;TZID=America/Phoenix:20211015T193000
DTSTAMP:20260425T211010
CREATED:20210926T023918Z
LAST-MODIFIED:20210926T023918Z
UID:10001681-1634326200-1634326200@arizonaseniorguide.com
SUMMARY:John Cleese
DESCRIPTION:Come spend a hilarious evening with the one and only John Cleese. John is a legendary comedic actor best known for Monty Python’s Flying Circus\, Fawlty Towers and A Fish Called Wanda. “The world’s funniest man” first made his mark as a member of the legendary Monty Python troupe in the 1960s and has gone on to write\, produce\, direct and star in some of the greatest comedic hits of the last forty years\, even receiving an Oscar nomination for best screenplay for A Fish Called Wanda. \nBut John is far from your garden variety entertainer. From the beginning of his career he has continually parlayed his enormous talents into advancing the political causes he believes in. \nIn 2014\, John released his New York Times best-selling memoir\, “So Anyway…” The book shares his ascent in the entertainment world\, from his humble beginnings in a sleepy English town and his early comedic days at Cambridge University. \nDon’t miss John Cleese as he examines the dysfunctional world we live in and “Why There Is No Hope.”
URL:https://arizonaseniorguide.com/event/john-cleese/
LOCATION:Orpheum Theatre\, 203 W Adams St\, Phoenix\, AZ\, 85003\, United States
ATTACH;FMTTYPE=image/jpeg:https://arizonaseniorguide.com/wp-content/uploads/2021/09/john-cleese-e1632623924347.jpg
GEO:33.449016;-112.0767382
X-APPLE-STRUCTURED-LOCATION;VALUE=URI;X-ADDRESS=Orpheum Theatre 203 W Adams St Phoenix AZ 85003 United States;X-APPLE-RADIUS=500;X-TITLE=203 W Adams St:geo:-112.0767382,33.449016
END:VEVENT
BEGIN:VEVENT
DTSTART;TZID=America/Phoenix:20211015T190000
DTEND;TZID=America/Phoenix:20211015T190000
DTSTAMP:20260425T211010
CREATED:20210926T022543Z
LAST-MODIFIED:20210926T022901Z
UID:10001679-1634324400-1634324400@arizonaseniorguide.com
SUMMARY:An Evening with Chris Botti
DESCRIPTION:Trumpeter Chris Botti is a smooth operator. He has a smooth\, bittersweet tone on his instrument.  —Guardian \nIconic trumpeter and composer Chris Botti has crossed over to audiences usually reserved for pop music. His ongoing association with PBS has led to four number one jazz albums\, as well as multiple Grammy Award nominations\, with a win for Best Pop Instrumental Album for Impressions. \nOver the past three decades\, Botti has recorded and performed with the best in music\, including Sting\, Barbra Streisand\, Tony Bennett\, Lady Gaga\, Josh Groban\, Yo-Yo Ma\, Michael Bublé\, Paul Simon\, Joni Mitchell\, John Mayer\, Andrea Bocelli\, Joshua Bell\, Aerosmith’s Steven Tyler\, and even Frank Sinatra. Hitting the road for as many as 300 days per year\, the trumpeter has also performed with many of the finest symphonies and at some of the world’s most prestigious venues\, from Carnegie Hall and the Hollywood Bowl to the Sydney Opera House and the Real Teatro di San Carlo in Italy. \nChris Botti has thoroughly established himself as one of the most important\, innovative figures of the contemporary music world.
URL:https://arizonaseniorguide.com/event/an-evening-with-chris-botti/2021-10-15/
LOCATION:Musical Instrument Museum\, 4725 E. Mayo Blvd.\, Phoenix\, AZ\, 85050\, United States
ATTACH;FMTTYPE=image/jpeg:https://arizonaseniorguide.com/wp-content/uploads/2021/09/chrisbotti-e1632623298887.jpg
GEO:33.6676061;-111.9780526
X-APPLE-STRUCTURED-LOCATION;VALUE=URI;X-ADDRESS=Musical Instrument Museum 4725 E. Mayo Blvd. Phoenix AZ 85050 United States;X-APPLE-RADIUS=500;X-TITLE=4725 E. Mayo Blvd.:geo:-111.9780526,33.6676061
END:VEVENT
BEGIN:VEVENT
DTSTART;TZID=America/Phoenix:20211010T110000
DTEND;TZID=America/Phoenix:20211010T200000
DTSTAMP:20260425T211010
CREATED:20210926T020235Z
LAST-MODIFIED:20210926T020902Z
UID:10001676-1633863600-1633896000@arizonaseniorguide.com
SUMMARY:Phoenix Greek Festival
DESCRIPTION:Share in the rich history\, culture\, and culinary delights of Greece. Enjoy Greek food\, music\, dancing\, jewelry\, art\, grocery items and activities for children. \nSeniors over 60 are free on Saturday from 11:00am – 3:00pm! \nPARKING:\nFree at Charles Schwab (24th St. & Lincoln (SW Corner ).\nFree Shuttle Bus to Festival. Every 15 minutes (3 buses for little or no wait time starting 1/2 hour before the festival opens).\n$5.00 Charge to park in church parking lot.
URL:https://arizonaseniorguide.com/event/phoenix-greek-festival/2021-10-10/
LOCATION:Holy Trinity Greek Orthodox Cathedral\, 1973 E. Maryland Ave\, Phoenix\, AZ\, 85016\, United States
ATTACH;FMTTYPE=image/jpeg:https://arizonaseniorguide.com/wp-content/uploads/2021/09/phoenix-greek-festival.jpg
GEO:33.5307143;-112.03939
X-APPLE-STRUCTURED-LOCATION;VALUE=URI;X-ADDRESS=Holy Trinity Greek Orthodox Cathedral 1973 E. Maryland Ave Phoenix AZ 85016 United States;X-APPLE-RADIUS=500;X-TITLE=1973 E. Maryland Ave:geo:-112.03939,33.5307143
END:VEVENT
BEGIN:VEVENT
DTSTART;TZID=America/Phoenix:20210914T110000
DTEND;TZID=America/Phoenix:20210914T120000
DTSTAMP:20260425T211010
CREATED:20210825T224023Z
LAST-MODIFIED:20210825T225800Z
UID:10001670-1631617200-1631620800@arizonaseniorguide.com
SUMMARY:Opera Through the Ages with Dr. Miriam Schildkret: The Origins of Opera
DESCRIPTION:Opera Through the Ages – A 3 Part Series\n\n\n\n\n\n“The Origins of Opera” – For Patrons 60 and Older\n\n\n\n\n\nThe first in a 3-part series\, join Dr. Miriam Schildkret\, PN1 as she brings you back to the origins of opera exploring how it has transformed throughout history. Your expedition\, starting in the 1600’s\, is complete with musical examples and exciting stories guiding you through the Classical period – the birthplace of several beloved operas. Whether you’re a new opera lover or longtime enthusiast\, you’ll enjoy every twist and turn of opera’s exciting history! \nOctober 12: 19th Century Opera\nNovember 9: Modern Opera and Musical Theater
URL:https://arizonaseniorguide.com/event/opera-through-the-ages-with-dr-miriam-schildkret-the-origins-of-opera/
LOCATION:Arizona Opera\, 1636 N. Central Ave\, Phoenix\, AZ\, 85004
ATTACH;FMTTYPE=image/jpeg:https://arizonaseniorguide.com/wp-content/uploads/2021/08/opera.jpg
GEO:33.4673898;-112.0741383
X-APPLE-STRUCTURED-LOCATION;VALUE=URI;X-ADDRESS=Arizona Opera 1636 N. Central Ave Phoenix AZ 85004;X-APPLE-RADIUS=500;X-TITLE=1636 N. Central Ave:geo:-112.0741383,33.4673898
END:VEVENT
BEGIN:VEVENT
DTSTART;TZID=America/Phoenix:20210911T193000
DTEND;TZID=America/Phoenix:20210911T213000
DTSTAMP:20260425T211010
CREATED:20210825T195049Z
LAST-MODIFIED:20210825T230209Z
UID:10001668-1631388600-1631395800@arizonaseniorguide.com
SUMMARY:Big Bad Voodoo Daddy
DESCRIPTION:The band that reminds the world that it’s cool to swing\, Big Bad Voodoo Daddy is the perfect choice to set the vibe for Fox’s first Chasing Rainbows Gala of the 2021-2020 Season!
URL:https://arizonaseniorguide.com/event/big-bad-voodoo-daddy/
LOCATION:Fox Tucson Theatre\, 17 West Congress Street\, Tucson\, AZ\, 85701
ATTACH;FMTTYPE=image/jpeg:https://arizonaseniorguide.com/wp-content/uploads/2021/08/big-bad-voodoo-daddy1.jpg
GEO:32.2220224;-110.9716152
X-APPLE-STRUCTURED-LOCATION;VALUE=URI;X-ADDRESS=Fox Tucson Theatre 17 West Congress Street Tucson AZ 85701;X-APPLE-RADIUS=500;X-TITLE=17 West Congress Street:geo:-110.9716152,32.2220224
END:VEVENT
BEGIN:VEVENT
DTSTART;TZID=America/Phoenix:20210910T183000
DTEND;TZID=America/Phoenix:20210910T213000
DTSTAMP:20260425T211010
CREATED:20210825T225303Z
LAST-MODIFIED:20210825T230255Z
UID:10001672-1631298600-1631309400@arizonaseniorguide.com
SUMMARY:Sonoran Sippin'
DESCRIPTION:Wrap up your week with a botanical-inspired welcome drink and night out in the Garden. Stroll the trails as you soak in the desert vibes and iconic sunsets all while enjoying music by local deejays and musicians. \nWelcome Drink:\nGin and Tonic with Bitters | Virgin Sour \n\n\n\nThis is an all-ages event.\nAdvance ticket purchase is required. Last admission is 8 p.m.\nA non-alcoholic welcome drink option will be available.\nFull bar service will be available in two Garden locations.\nWater refill stations and water and soda vending machines are available.\nGertrude’s Restaurant will be open. Click here for closing time\, menu and reservation information.\nThe Garden Shop will be open until 9 p.m.\nFace masks are required for all indoor spaces and outdoors when social distancing is not possible. Thank you for cooperating; we are all in this together.\n\nPRICE: General Public | Adult: $14.95\, Child: $9.95 Members | Adult: $10.95\, Child: $7.95
URL:https://arizonaseniorguide.com/event/sonoran-sippin/
LOCATION:Desert Botanical Garden\, 1201 N. Galvin Parkway\, Phoenix\, AZ\, 85008
ATTACH;FMTTYPE=image/png:https://arizonaseniorguide.com/wp-content/uploads/2021/08/SS-Logo_Spring21-02.png
GEO:33.4620645;-111.9451229
X-APPLE-STRUCTURED-LOCATION;VALUE=URI;X-ADDRESS=Desert Botanical Garden 1201 N. Galvin Parkway Phoenix AZ 85008;X-APPLE-RADIUS=500;X-TITLE=1201 N. Galvin Parkway:geo:-111.9451229,33.4620645
END:VEVENT
END:VCALENDAR