BEGIN:VCALENDAR
VERSION:2.0
PRODID:-//Arizona Senior Guide - ECPv6.15.20//NONSGML v1.0//EN
CALSCALE:GREGORIAN
METHOD:PUBLISH
X-WR-CALNAME:Arizona Senior Guide
X-ORIGINAL-URL:https://arizonaseniorguide.com
X-WR-CALDESC:Events for Arizona Senior Guide
REFRESH-INTERVAL;VALUE=DURATION:PT1H
X-Robots-Tag:noindex
X-PUBLISHED-TTL:PT1H
BEGIN:VTIMEZONE
TZID:America/Phoenix
BEGIN:STANDARD
TZOFFSETFROM:-0700
TZOFFSETTO:-0700
TZNAME:MST
DTSTART:20250101T000000
END:STANDARD
END:VTIMEZONE
BEGIN:VEVENT
DTSTART;TZID=America/Phoenix:20260203T120000
DTEND;TZID=America/Phoenix:20260203T130000
DTSTAMP:20260423T052758
CREATED:20230905T051950Z
LAST-MODIFIED:20240826T203604Z
UID:10002658-1770120000-1770123600@arizonaseniorguide.com
SUMMARY:Free Tour of the Historic Fox Theatre
DESCRIPTION:We love to show off our beautiful\, historic theatre and share the many\, remarkable stories it embodies! Join us on one of our monthly\, free public tours. Join us at 12:00 noon on the first Tuesday of each month (except no tour in July) in the theatre’s entryway. \nDonations are welcome to help our non-profit keep the history alive. \nPlease note: this tour involves climbing many stairs. \nInterested in setting up a private tour? If you are part of a group of ten to twenty-five people that would want a tour\, contact Jordan Wiley-Hill at jordan@foxtucson.com. \n 
URL:https://arizonaseniorguide.com/event/free-tour-of-the-historic-fox-theatre/2026-02-03/
LOCATION:Fox Tucson Theatre\, 17 West Congress Street\, Tucson\, AZ\, 85701
CATEGORIES:Free Event,Tucson
ATTACH;FMTTYPE=image/png:https://arizonaseniorguide.com/wp-content/uploads/2021/08/fox-theatre-tucson.png
GEO:32.2220224;-110.9716152
X-APPLE-STRUCTURED-LOCATION;VALUE=URI;X-ADDRESS=Fox Tucson Theatre 17 West Congress Street Tucson AZ 85701;X-APPLE-RADIUS=500;X-TITLE=17 West Congress Street:geo:-110.9716152,32.2220224
END:VEVENT
BEGIN:VEVENT
DTSTART;TZID=America/Phoenix:20260205T170000
DTEND;TZID=America/Phoenix:20260205T200000
DTSTAMP:20260423T052758
CREATED:20250227T190524Z
LAST-MODIFIED:20250227T190525Z
UID:10005468-1770310800-1770321600@arizonaseniorguide.com
SUMMARY:Free First Thursday at Tucson Museum of Art
DESCRIPTION:First Thursday of every month 5–8 p.m.\nPay-What-You-Wish Admission \n\n\nActivities | Experiences | Performances | Community Partners | Food Vendors\nOn the first Thursday of every month the Tucson Museum of Art and Historic Block offers extended hours and pay-what-you-wish admission from 5 p.m. until 8 p.m. First Thursday is designed to complement and enhance TMA’s exhibitions and permanent collection while reflecting the diversity of the community\, making art accessible to all. With the goal of expanding audiences\, programs encourage community members to “come for the activities and experiences but stay for the art.” Programs include guest artists\, live music\, performances\, art-making\, unique opportunities to explore the galleries\, and a cash bar serving beer and wine. Each evening also features partnerships with local organizations including support for emerging and established food vendors throughout Arizona to offer pop-ups and encourage guests to support local business and foodie creatives. \nFirst Thursday is presented by an anonymous donor. This program was funded in part by Arts Foundation for Tucson and Southern Arizona with funding from The American Rescue Plan Act of 2021 through the City of Tucson.
URL:https://arizonaseniorguide.com/event/free-first-thursday-at-tucson-museum-of-art-2-2/2026-02-05/
LOCATION:Tucson Museum of Art\, 140 North Main Avenue\, Tucson\, AZ\, 857041
CATEGORIES:art,Free Event,Tucson
ATTACH;FMTTYPE=image/jpeg:https://arizonaseniorguide.com/wp-content/uploads/2022/03/FFT-sq-graphic-fy22-1-e1646162134211.jpg
GEO:32.2232719;-110.974945
X-APPLE-STRUCTURED-LOCATION;VALUE=URI;X-ADDRESS=Tucson Museum of Art 140 North Main Avenue Tucson AZ 857041;X-APPLE-RADIUS=500;X-TITLE=140 North Main Avenue:geo:-110.974945,32.2232719
END:VEVENT
BEGIN:VEVENT
DTSTART;TZID=America/Phoenix:20260206T170000
DTEND;TZID=America/Phoenix:20260206T200000
DTSTAMP:20260423T052758
CREATED:20250227T184426Z
LAST-MODIFIED:20250227T185845Z
UID:10010708-1770397200-1770408000@arizonaseniorguide.com
SUMMARY:First Friday at PhxArt (free admission to Phoenix Art Museum)
DESCRIPTION:PhxArt First Fridays are officially back! Join us for FREE general admission to the Phoenix Art Museum on the first Friday of each month. \nEnjoy access to in-gallery sketching\, live music with resident DJs J-ME LEE + Alex Castles\, unique books and resources at the library pop-up\, delicious food and drinks from local vendors\, and docent-led art tours.
URL:https://arizonaseniorguide.com/event/first-friday-at-phxart-free-admission-to-phoenix-art-museum/2026-02-06/
LOCATION:Phoenix Art Museum\, 1625 North Central Ave.\, Phoenix\, AZ\, 85004
CATEGORIES:art,Free Event,Phoenix
ATTACH;FMTTYPE=image/jpeg:https://arizonaseniorguide.com/wp-content/uploads/2025/02/Phoenix-Art-Museum-First-Friday.jpg
END:VEVENT
BEGIN:VEVENT
DTSTART;TZID=America/Phoenix:20260227T100000
DTEND;TZID=America/Phoenix:20260227T170000
DTSTAMP:20260423T052758
CREATED:20251030T211438Z
LAST-MODIFIED:20251030T211438Z
UID:10012317-1772186400-1772211600@arizonaseniorguide.com
SUMMARY:Fall Artisans Market at Tucson Museum of Art
DESCRIPTION:TMA’s Artisans Market features more than 100 unique and local artists and artisans with crafts\, original artwork\, pottery\, glass\, jewelry\, textiles\, and gift items in an outdoor street fair setting. Organized by TMA’s Museum Store\, the event is an annual fundraiser for Southern Arizona’s oldest visual arts institution located in downtown Tucson\, Arizona\, and takes place once every fall and every spring. \nPay-What-You-Wish Admission\nFrom Friday\, November 21 through Sunday\, November 23 from 10 a.m.–5 p.m.\, museum admission is pay-what-you-wish. The amount you pay for admission is up to you! All visitors and members are encouraged to make a voluntary donation for general admission. \nParking\nPlenty of street parking\, garages\, and parking lots are available near the museum. Get in early and use the Paseo Redondo lot\, which will be free to visitors during the event. The museum parking lot will not be available as it will be full of vendors for you to shop.
URL:https://arizonaseniorguide.com/event/fall-artisans-market-at-tucson-museum-of-art/2026-02-27/
LOCATION:Tucson Museum of Art\, 140 North Main Avenue\, Tucson\, AZ\, 857041
CATEGORIES:art,Fair/Festival,Free Event,Tucson
ATTACH;FMTTYPE=image/webp:https://arizonaseniorguide.com/wp-content/uploads/2025/10/ARtisans-Market.webp
GEO:32.2232719;-110.974945
X-APPLE-STRUCTURED-LOCATION;VALUE=URI;X-ADDRESS=Tucson Museum of Art 140 North Main Avenue Tucson AZ 857041;X-APPLE-RADIUS=500;X-TITLE=140 North Main Avenue:geo:-110.974945,32.2232719
END:VEVENT
BEGIN:VEVENT
DTSTART;TZID=America/Phoenix:20260319T183000
DTEND;TZID=America/Phoenix:20260319T193000
DTSTAMP:20260423T052758
CREATED:20260209T031931Z
LAST-MODIFIED:20260209T031931Z
UID:10013079-1773945000-1773948600@arizonaseniorguide.com
SUMMARY:Free Irish Music Concert on Flute & Guitar
DESCRIPTION:Experience the soul-stirring magic of the Emerald Isle at a free concert right in the heart of Glendale! \nJoin the award-winning SoSco Duo for an intimate evening of “intrinsically Celtic” music. From the foot-stomping energy of spirited jigs to the haunting beauty of ancient airs\, this performance is more than just a concert—it’s a journey through the stories and traditions of Ireland. \nWhether you’re drawn to the passion of the flute or the elegance of the guitar\, you’ll leave with a “wee bit” of Ireland in your own heart.\nEvent Details \nWhen: Thursday\, March 19\, 2026 | 6:30 PM\nWhere: Glendale Library\, 5959 W. Brown St.\, Glendale\, AZ \nExperience: A captivating blend of music\, storytelling\, and Irish heritage. \nSpace is limited for this intimate performance. Reserve your tickets today to ensure you don’t miss this Celtic celebration! \nTickets are limited and FREE—reserve yours today! \nAbout SoSco Duo \nSince we began playing music together in 2014\, our acoustic duo has evolved into an ensemble unlike any other. While we understand that performers are at various levels of musicianship and all levels can move audiences in a meaningful way\, we take the business of music making very seriously. This is not our hobby. This is our profession and our passion. \nWe have invested our lives\, our time and effort\, into studying\, practicing and performing music. We took private lessons for years\, we got music degrees at some of the finest music schools in the nation with some of the finest teachers\, and we’ve gone on to perform hundreds of times\, honing our craft. We continue to learn and grow and refine ourselves as musicians and ensemble players every day. \nFor us\, using music as a vehicle to connect people to powerful memories and emotions is our work. This is why we do what we do\, and this is why music matters so deeply. \nSoSco Duo was voted Best Local Band/Musician 2026 by Arizona Foothills Magazine!
URL:https://arizonaseniorguide.com/event/free-irish-music-concert-on-flute-guitar/
LOCATION:Glendale Public Library Main Library\, 5959 West Brown Street\, Glendale\, 85302
CATEGORIES:Free Event,Live Music,Music,Phoenix
ATTACH;FMTTYPE=image/jpeg:https://arizonaseniorguide.com/wp-content/uploads/2026/02/Sun-City-Library-audience-live-music.jpg
END:VEVENT
BEGIN:VEVENT
DTSTART;TZID=America/Phoenix:20260408T103000
DTEND;TZID=America/Phoenix:20260408T123000
DTSTAMP:20260423T052758
CREATED:20260401T192717Z
LAST-MODIFIED:20260401T192732Z
UID:10013479-1775644200-1775651400@arizonaseniorguide.com
SUMMARY:Coffee at Kerr with Arizona Opera – Cinderella (La Cenerentola)
DESCRIPTION:Cinderella (La Cenerentola) \nStep into the enchanting world of Cinderella with a lively preview lecture and musical performance that brings Rossini’s sparkling take on the Cinderella story to life. Discover the opera’s rich characters\, dazzling score\, and the magic behind its upcoming production. \nCo-presented with Arizona Opera \nRefreshments provided by Renegade Coffee Company\, renegadecoffeeaz.com \nCoffee events are part of a series of free\, informal presentations featuring Arizona Opera performers and guest musicians. We encourage patrons to contribute a suggested donation of $5 and bring a can of food or sealed personal item to be donated to Vista del Camino Food Bank. \nCoffee and refreshments are served in the Crescendo Garden at 9:30 a.m.\nEvent begins at 10:30 a.m. \nRSVPs open two weeks prior to this event: March 25 at 10:30 a.m. \nThis series is generously sponsored by Roma Wittcoff.
URL:https://arizonaseniorguide.com/event/coffee-at-kerr-with-arizona-opera-cinderella-la-cenerentola/
LOCATION:ASU Kerr\, 6110 N Scottsdale Rd\, Scottsdale\, AZ\, 85253
CATEGORIES:Free Event,Live Music,Phoenix
ATTACH;FMTTYPE=image/png:https://arizonaseniorguide.com/wp-content/uploads/2026/04/Cinderella-POSTER.png
END:VEVENT
BEGIN:VEVENT
DTSTART;TZID=America/Phoenix:20260410T193000
DTEND;TZID=America/Phoenix:20260410T213000
DTSTAMP:20260423T052758
CREATED:20260401T192633Z
LAST-MODIFIED:20260401T192633Z
UID:10013480-1775849400-1775856600@arizonaseniorguide.com
SUMMARY:King Liz by Fernanda Coppel
DESCRIPTION:A powerful staged reading of King Liz at ASU Kerr. Follow a top sports agent navigating ambition\, power\, and pressure as she mentors a rising basketball star with a complicated past.
URL:https://arizonaseniorguide.com/event/king-liz-by-fernanda-coppel/
LOCATION:ASU Kerr\, 6110 N Scottsdale Rd\, Scottsdale\, AZ\, 85253
CATEGORIES:Live Theater,Phoenix
ATTACH;FMTTYPE=image/png:https://arizonaseniorguide.com/wp-content/uploads/2026/04/King-Liz-image.png
END:VEVENT
BEGIN:VEVENT
DTSTART;TZID=America/Phoenix:20260414T103000
DTEND;TZID=America/Phoenix:20260414T123000
DTSTAMP:20260423T052758
CREATED:20260401T192455Z
LAST-MODIFIED:20260401T192455Z
UID:10013481-1776162600-1776169800@arizonaseniorguide.com
SUMMARY:ASU Kerr Tuesday Morning Music & Tea – Piano studio of Baruch Meir
DESCRIPTION:Piano studio of Baruch Meir \nCo-presented with ASU School of Music \nTea events are part of a series of free\, informal presentations featuring musicians from the ASU School of Music. We encourage patrons to contribute a suggested donation of $5 and bring a can of food or sealed personal item to be donated to Vista del Camino Food Bank. \nTea and refreshments are served in the Crescendo Garden at 9:30 a.m.\nEvent begins at 10:30 a.m. \nRSVPs open two weeks prior to this event: March 31 at 10:30 a.m. \nThis series is generously sponsored by Roma Wittcoff.
URL:https://arizonaseniorguide.com/event/asu-kerr-tuesday-morning-music-tea-piano-studio-of-baruch-meir/
LOCATION:ASU Kerr\, 6110 N Scottsdale Rd\, Scottsdale\, AZ\, 85253
CATEGORIES:Free Event,Music,Phoenix
ATTACH;FMTTYPE=image/png:https://arizonaseniorguide.com/wp-content/uploads/2026/04/tm-image-tea-2048x1152-1.png
END:VEVENT
BEGIN:VEVENT
DTSTART;TZID=America/Phoenix:20260417T193000
DTEND;TZID=America/Phoenix:20260417T213000
DTSTAMP:20260423T052758
CREATED:20260401T192844Z
LAST-MODIFIED:20260401T192844Z
UID:10013482-1776454200-1776461400@arizonaseniorguide.com
SUMMARY:Dina Preston Band
DESCRIPTION:Join the Dina Preston Band as they launch their 2026 “We’ve Been Everywhere” Tour on April 17 at ASU Kerr! \nHailing from Arizona and having performed in 44 countries\, the Dina Preston Band brings a fresh\, powerful fusion of Americana\, blending country\, rock\, blues\, and soul to the Kerr stage. More than just a band\, they are storytellers who transform life’s journeys into unforgettable songs\, merging global influences with boots-on-the-ground authenticity. \nLed by the powerhouse vocals of Dina Preston and the skilled guitar and leadership of her husband Don Ortiz\, the band shines with Michael Ghormley’s deep bass grooves\, Kenny Skaggs’ multi-instrumental talents and rich vocals\, and Henry Lara’s dynamic drumming. Their chemistry and passion create live shows packed with energy\, emotion\, and connection. \nDon’t miss the exclusive VIP experience\, only 24 tickets available! VIPs will enjoy: \nPremier front-section seating (rows 1 and 2) \nA meet & greet with the band and Andre House staff \nA signed copy of the We’ve Been Everywhere album or CD
URL:https://arizonaseniorguide.com/event/dina-preston-band/
LOCATION:ASU Kerr\, 6110 N Scottsdale Rd\, Scottsdale\, AZ\, 85253
CATEGORIES:Live Music,Phoenix
ATTACH;FMTTYPE=image/png:https://arizonaseniorguide.com/wp-content/uploads/2026/04/dinaprestonlogo_bw-02-scaled-1.png
END:VEVENT
BEGIN:VEVENT
DTSTART;TZID=America/Phoenix:20260418T150000
DTEND;TZID=America/Phoenix:20260418T170000
DTSTAMP:20260423T052758
CREATED:20260401T193002Z
LAST-MODIFIED:20260401T193002Z
UID:10013483-1776524400-1776531600@arizonaseniorguide.com
SUMMARY:Executive Piano Series presents: Fanya Lin in concert
DESCRIPTION:Steinway Artist Fanya Lin\, praised by Musical America and The New York Times as a “striking interpreter\,” brings her electrifying artistry to Metamorphosis—a program exploring transformation through works by Brahms\, Lu\, Szymanowski\, Bach-Busoni\, and Liszt.
URL:https://arizonaseniorguide.com/event/executive-piano-series-presents-fanya-lin-in-concert/
LOCATION:ASU Kerr\, 6110 N Scottsdale Rd\, Scottsdale\, AZ\, 85253
CATEGORIES:Live Music,Phoenix
ATTACH;FMTTYPE=image/jpeg:https://arizonaseniorguide.com/wp-content/uploads/2026/04/Fanya-Pic-scaled-1.jpg
END:VEVENT
BEGIN:VEVENT
DTSTART;TZID=America/Phoenix:20260507T190000
DTEND;TZID=America/Phoenix:20260507T210000
DTSTAMP:20260423T052758
CREATED:20260401T201918Z
LAST-MODIFIED:20260401T202541Z
UID:10013484-1778180400-1778187600@arizonaseniorguide.com
SUMMARY:El Dorado’s Gold\, co-presented with The Bridge Initiative
DESCRIPTION:El Dorado’s Gold tells the story of Tucker Callahan\, a Black cowboy who returns to his ranch after betraying his family and seeks redemption. His mother presents him with letters from his late great-grandfather\, believing they will change his life because “it’s time.”
URL:https://arizonaseniorguide.com/event/el-dorados-gold-co-presented-with-the-bridge-initiative/2026-05-07/
LOCATION:ASU Kerr\, 6110 N Scottsdale Rd\, Scottsdale\, AZ\, 85253
CATEGORIES:Live Theater,Phoenix
ATTACH;FMTTYPE=image/png:https://arizonaseniorguide.com/wp-content/uploads/2026/04/eldorado-bridge.png
END:VEVENT
END:VCALENDAR