BEGIN:VCALENDAR
VERSION:2.0
PRODID:-//Arizona Senior Guide - ECPv6.15.20//NONSGML v1.0//EN
CALSCALE:GREGORIAN
METHOD:PUBLISH
X-ORIGINAL-URL:https://arizonaseniorguide.com
X-WR-CALDESC:Events for Arizona Senior Guide
REFRESH-INTERVAL;VALUE=DURATION:PT1H
X-Robots-Tag:noindex
X-PUBLISHED-TTL:PT1H
BEGIN:VTIMEZONE
TZID:America/Phoenix
BEGIN:STANDARD
TZOFFSETFROM:-0700
TZOFFSETTO:-0700
TZNAME:MST
DTSTART:20250101T000000
END:STANDARD
END:VTIMEZONE
BEGIN:VEVENT
DTSTART;TZID=America/Phoenix:20260411T100000
DTEND;TZID=America/Phoenix:20260411T150000
DTSTAMP:20260423T001752
CREATED:20250908T203104Z
LAST-MODIFIED:20250908T203104Z
UID:10011836-1775901600-1775919600@arizonaseniorguide.com
SUMMARY:St Philip's Plaza Weekend Market
DESCRIPTION:Tucson’s most iconic weekly open air market. We focus on uniquely Tucson local artists\, makers\, creators\, and food businesses. Come wander under the towering Sycamores along winding cobblestone and enjoy scenic landscaping and beautiful fountains. \nThis is a fun market especially for finding unique gifts (jewelry\, clothing\, pottery and more). At least two coffee shops (with pastries/breakfast) and other foods and produce available for purchasing. The plaza is especially pretty with a fountain and shady trees around. \nSaturdays & Sundays\nOctober – April: 10 am – 3 pm  \nSummer hours:\nSaturdays & Sundays\nMay – September: 8 am – 12 pm
URL:https://arizonaseniorguide.com/event/st-philips-plaza-weekend-market/2026-04-11/
LOCATION:St Philips Plaza\, 4280 N Campbell Blvd\, Tucson\, AZ\, 85718
CATEGORIES:Tucson
ATTACH;FMTTYPE=image/png:https://arizonaseniorguide.com/wp-content/uploads/2025/09/St-Philips-Plaza-market.png
END:VEVENT
BEGIN:VEVENT
DTSTART;TZID=America/Phoenix:20260412T090000
DTEND;TZID=America/Phoenix:20260412T130000
DTSTAMP:20260423T001752
CREATED:20250917T181731Z
LAST-MODIFIED:20250917T181731Z
UID:10011981-1775984400-1775998800@arizonaseniorguide.com
SUMMARY:Ahwatukee Farmers Market (Winter hours)
DESCRIPTION:Established in 2002\, the Ahwatukee Farmers Market features fresh\, local\, seasonal produce\, herbs\, flowers\, value added foods\, fresh baked goods\, natural meats and seafood as well as a selection of local arts & crafts. (This market is enrolled in the AZFMNP/WIC program. Visit www.azfmnp.org for additional details.) \nSundays\nSummer Hours: June-Sept: 8am-11am\nWinter Hours: Oct-May: 9am-1pm \nLocation\n4700 E. Warner Rd. Phoenix\, AZ 85044 (In the parking lot of the Ahwatukee Swim & Tennis Center)
URL:https://arizonaseniorguide.com/event/ahwatukee-farmers-market-winter-hours/2026-04-12/
LOCATION:Ahwatukee Swim & Tennis Center\, 4700 E. Warner Rd.\, Phoenix\, AZ\, 85044
CATEGORIES:Free Event,Phoenix
ATTACH;FMTTYPE=image/webp:https://arizonaseniorguide.com/wp-content/uploads/2025/09/Ahwatukee-Farmers-Market.webp
END:VEVENT
BEGIN:VEVENT
DTSTART;TZID=America/Phoenix:20260412T090000
DTEND;TZID=America/Phoenix:20260412T130000
DTSTAMP:20260423T001752
CREATED:20250917T193616Z
LAST-MODIFIED:20250917T193616Z
UID:10012161-1775984400-1775998800@arizonaseniorguide.com
SUMMARY:Farmers Market on High Street
DESCRIPTION:Established in 2018\, this award-winning farmers market offers a full block of over 100 vendors offering food and fun for all ages.  is only open from October through April. \nSundays\n9AM–1PM\nOctober through April \nLocation\n5415 East High Street\, Phoenix\, AZ 85054\n(located in the High Street Residential and Entertainment/Dining/Shopping area next to Desert Ridge\, near Loop 101 & 56th Street) \nFind items like: \n\nFarm-fresh produce\nLocally-sourced honey\nFresh-baked bread and sweet treats\nOlive oils\nBarbecue sauces\nFresh seafood\nDelicious tamales\nGerman sausages\nFlowers\nSnacks\nBaby clothes\, jewelry\, artsy home décor and more\n\nWell-behaved dogs welcome. \nMore info
URL:https://arizonaseniorguide.com/event/farmers-market-on-high-street/2026-04-12/
LOCATION:High Street Shopping Area\, 5415 East High Street\, Phoenix\, AZ\, 85054
CATEGORIES:Free Event,Phoenix
ATTACH;FMTTYPE=image/webp:https://arizonaseniorguide.com/wp-content/uploads/2025/09/Farmers-Market-High-Street.webp
END:VEVENT
BEGIN:VEVENT
DTSTART;TZID=America/Phoenix:20260414T070000
DTEND;TZID=America/Phoenix:20260414T200000
DTSTAMP:20260423T001752
CREATED:20250906T011309Z
LAST-MODIFIED:20250906T011309Z
UID:10011596-1776150000-1776196800@arizonaseniorguide.com
SUMMARY:Community Day at Desert Botanical Garden (free 2nd Tuesdays)
DESCRIPTION:Enjoy free admission to the Phoenix Desert Botanical Garden on the second Tuesday of each month\, known as “Community Day.” \n*General Admission does not include special ticketed events or exhibitions.
URL:https://arizonaseniorguide.com/event/community-day-at-desert-botanical-garden-free-2nd-tuesdays/2026-04-14/
LOCATION:Desert Botanical Garden\, 1201 N. Galvin Parkway\, Phoenix\, AZ\, 85008
CATEGORIES:Free Event,Phoenix
ATTACH;FMTTYPE=image/png:https://arizonaseniorguide.com/wp-content/uploads/2025/09/Desert-Botanical-Gardens-Community-Day.png
GEO:33.4620645;-111.9451229
X-APPLE-STRUCTURED-LOCATION;VALUE=URI;X-ADDRESS=Desert Botanical Garden 1201 N. Galvin Parkway Phoenix AZ 85008;X-APPLE-RADIUS=500;X-TITLE=1201 N. Galvin Parkway:geo:-111.9451229,33.4620645
END:VEVENT
BEGIN:VEVENT
DTSTART;TZID=America/Phoenix:20260414T103000
DTEND;TZID=America/Phoenix:20260414T123000
DTSTAMP:20260423T001752
CREATED:20260401T192455Z
LAST-MODIFIED:20260401T192455Z
UID:10013481-1776162600-1776169800@arizonaseniorguide.com
SUMMARY:ASU Kerr Tuesday Morning Music & Tea – Piano studio of Baruch Meir
DESCRIPTION:Piano studio of Baruch Meir \nCo-presented with ASU School of Music \nTea events are part of a series of free\, informal presentations featuring musicians from the ASU School of Music. We encourage patrons to contribute a suggested donation of $5 and bring a can of food or sealed personal item to be donated to Vista del Camino Food Bank. \nTea and refreshments are served in the Crescendo Garden at 9:30 a.m.\nEvent begins at 10:30 a.m. \nRSVPs open two weeks prior to this event: March 31 at 10:30 a.m. \nThis series is generously sponsored by Roma Wittcoff.
URL:https://arizonaseniorguide.com/event/asu-kerr-tuesday-morning-music-tea-piano-studio-of-baruch-meir/
LOCATION:ASU Kerr\, 6110 N Scottsdale Rd\, Scottsdale\, AZ\, 85253
CATEGORIES:Free Event,Music,Phoenix
ATTACH;FMTTYPE=image/png:https://arizonaseniorguide.com/wp-content/uploads/2026/04/tm-image-tea-2048x1152-1.png
END:VEVENT
BEGIN:VEVENT
DTSTART;TZID=America/Phoenix:20260417T193000
DTEND;TZID=America/Phoenix:20260417T213000
DTSTAMP:20260423T001752
CREATED:20260401T192844Z
LAST-MODIFIED:20260401T192844Z
UID:10013482-1776454200-1776461400@arizonaseniorguide.com
SUMMARY:Dina Preston Band
DESCRIPTION:Join the Dina Preston Band as they launch their 2026 “We’ve Been Everywhere” Tour on April 17 at ASU Kerr! \nHailing from Arizona and having performed in 44 countries\, the Dina Preston Band brings a fresh\, powerful fusion of Americana\, blending country\, rock\, blues\, and soul to the Kerr stage. More than just a band\, they are storytellers who transform life’s journeys into unforgettable songs\, merging global influences with boots-on-the-ground authenticity. \nLed by the powerhouse vocals of Dina Preston and the skilled guitar and leadership of her husband Don Ortiz\, the band shines with Michael Ghormley’s deep bass grooves\, Kenny Skaggs’ multi-instrumental talents and rich vocals\, and Henry Lara’s dynamic drumming. Their chemistry and passion create live shows packed with energy\, emotion\, and connection. \nDon’t miss the exclusive VIP experience\, only 24 tickets available! VIPs will enjoy: \nPremier front-section seating (rows 1 and 2) \nA meet & greet with the band and Andre House staff \nA signed copy of the We’ve Been Everywhere album or CD
URL:https://arizonaseniorguide.com/event/dina-preston-band/
LOCATION:ASU Kerr\, 6110 N Scottsdale Rd\, Scottsdale\, AZ\, 85253
CATEGORIES:Live Music,Phoenix
ATTACH;FMTTYPE=image/png:https://arizonaseniorguide.com/wp-content/uploads/2026/04/dinaprestonlogo_bw-02-scaled-1.png
END:VEVENT
BEGIN:VEVENT
DTSTART;TZID=America/Phoenix:20260418T150000
DTEND;TZID=America/Phoenix:20260418T170000
DTSTAMP:20260423T001752
CREATED:20260401T193002Z
LAST-MODIFIED:20260401T193002Z
UID:10013483-1776524400-1776531600@arizonaseniorguide.com
SUMMARY:Executive Piano Series presents: Fanya Lin in concert
DESCRIPTION:Steinway Artist Fanya Lin\, praised by Musical America and The New York Times as a “striking interpreter\,” brings her electrifying artistry to Metamorphosis—a program exploring transformation through works by Brahms\, Lu\, Szymanowski\, Bach-Busoni\, and Liszt.
URL:https://arizonaseniorguide.com/event/executive-piano-series-presents-fanya-lin-in-concert/
LOCATION:ASU Kerr\, 6110 N Scottsdale Rd\, Scottsdale\, AZ\, 85253
CATEGORIES:Live Music,Phoenix
ATTACH;FMTTYPE=image/jpeg:https://arizonaseniorguide.com/wp-content/uploads/2026/04/Fanya-Pic-scaled-1.jpg
END:VEVENT
BEGIN:VEVENT
DTSTART;TZID=America/Phoenix:20260501T170000
DTEND;TZID=America/Phoenix:20260501T200000
DTSTAMP:20260423T001752
CREATED:20250227T184426Z
LAST-MODIFIED:20250227T185845Z
UID:10010711-1777654800-1777665600@arizonaseniorguide.com
SUMMARY:First Friday at PhxArt (free admission to Phoenix Art Museum)
DESCRIPTION:PhxArt First Fridays are officially back! Join us for FREE general admission to the Phoenix Art Museum on the first Friday of each month. \nEnjoy access to in-gallery sketching\, live music with resident DJs J-ME LEE + Alex Castles\, unique books and resources at the library pop-up\, delicious food and drinks from local vendors\, and docent-led art tours.
URL:https://arizonaseniorguide.com/event/first-friday-at-phxart-free-admission-to-phoenix-art-museum/2026-05-01/
LOCATION:Phoenix Art Museum\, 1625 North Central Ave.\, Phoenix\, AZ\, 85004
CATEGORIES:art,Free Event,Phoenix
ATTACH;FMTTYPE=image/jpeg:https://arizonaseniorguide.com/wp-content/uploads/2025/02/Phoenix-Art-Museum-First-Friday.jpg
END:VEVENT
BEGIN:VEVENT
DTSTART;TZID=America/Phoenix:20260507T170000
DTEND;TZID=America/Phoenix:20260507T200000
DTSTAMP:20260423T001752
CREATED:20250227T190524Z
LAST-MODIFIED:20250227T190525Z
UID:10005471-1778173200-1778184000@arizonaseniorguide.com
SUMMARY:Free First Thursday at Tucson Museum of Art
DESCRIPTION:First Thursday of every month 5–8 p.m.\nPay-What-You-Wish Admission \n\n\nActivities | Experiences | Performances | Community Partners | Food Vendors\nOn the first Thursday of every month the Tucson Museum of Art and Historic Block offers extended hours and pay-what-you-wish admission from 5 p.m. until 8 p.m. First Thursday is designed to complement and enhance TMA’s exhibitions and permanent collection while reflecting the diversity of the community\, making art accessible to all. With the goal of expanding audiences\, programs encourage community members to “come for the activities and experiences but stay for the art.” Programs include guest artists\, live music\, performances\, art-making\, unique opportunities to explore the galleries\, and a cash bar serving beer and wine. Each evening also features partnerships with local organizations including support for emerging and established food vendors throughout Arizona to offer pop-ups and encourage guests to support local business and foodie creatives. \nFirst Thursday is presented by an anonymous donor. This program was funded in part by Arts Foundation for Tucson and Southern Arizona with funding from The American Rescue Plan Act of 2021 through the City of Tucson.
URL:https://arizonaseniorguide.com/event/free-first-thursday-at-tucson-museum-of-art-2-2/2026-05-07/
LOCATION:Tucson Museum of Art\, 140 North Main Avenue\, Tucson\, AZ\, 857041
CATEGORIES:art,Free Event,Tucson
ATTACH;FMTTYPE=image/jpeg:https://arizonaseniorguide.com/wp-content/uploads/2022/03/FFT-sq-graphic-fy22-1-e1646162134211.jpg
GEO:32.2232719;-110.974945
X-APPLE-STRUCTURED-LOCATION;VALUE=URI;X-ADDRESS=Tucson Museum of Art 140 North Main Avenue Tucson AZ 857041;X-APPLE-RADIUS=500;X-TITLE=140 North Main Avenue:geo:-110.974945,32.2232719
END:VEVENT
BEGIN:VEVENT
DTSTART;TZID=America/Phoenix:20260507T190000
DTEND;TZID=America/Phoenix:20260507T210000
DTSTAMP:20260423T001752
CREATED:20260401T201918Z
LAST-MODIFIED:20260401T202541Z
UID:10013484-1778180400-1778187600@arizonaseniorguide.com
SUMMARY:El Dorado’s Gold\, co-presented with The Bridge Initiative
DESCRIPTION:El Dorado’s Gold tells the story of Tucker Callahan\, a Black cowboy who returns to his ranch after betraying his family and seeks redemption. His mother presents him with letters from his late great-grandfather\, believing they will change his life because “it’s time.”
URL:https://arizonaseniorguide.com/event/el-dorados-gold-co-presented-with-the-bridge-initiative/2026-05-07/
LOCATION:ASU Kerr\, 6110 N Scottsdale Rd\, Scottsdale\, AZ\, 85253
CATEGORIES:Live Theater,Phoenix
ATTACH;FMTTYPE=image/png:https://arizonaseniorguide.com/wp-content/uploads/2026/04/eldorado-bridge.png
END:VEVENT
BEGIN:VEVENT
DTSTART;TZID=America/Phoenix:20261010T090000
DTEND;TZID=America/Phoenix:20261010T130000
DTSTAMP:20260423T001752
CREATED:20240423T191032Z
LAST-MODIFIED:20250908T193956Z
UID:10011741-1791622800-1791637200@arizonaseniorguide.com
SUMMARY:Second Saturdays (Market) at Steam Pump Ranch
DESCRIPTION:This farmers market at the Steam Pump Ranch in Oro Valley happens every month on the second Saturday\, October through April. \n\nHeirloom Farmer’s Market\nCraft and artisan market\n9:30 a.m. – 11:00 a.m. Kid’s Craft in the Heritage Garden (Supplies are limited so arrive early.)\n10:00 a.m. – 12:00 p.m. Prehistoric demonstrations with Archaeology Southwest in the Heritage Garden.\n10:30 a.m. – 12:00 p.m. Live Music\n\nDATES:\nOctober – March: 9:00 a.m. – 1:00 p.m.\nApril: 8:00 a.m. – 12:00 p.m.\nMay – September: CLOSED \n 
URL:https://arizonaseniorguide.com/event/second-saturdays-market-at-steam-pump-ranch-2/2026-10-10/
LOCATION:Steam Pump Ranch\, 10901 N. Oracle Rd.\, Oro Valley\, AZ\, 85737
CATEGORIES:Free Event,Oro Valley,Tucson
ATTACH;FMTTYPE=image/jpeg:https://arizonaseniorguide.com/wp-content/uploads/2023/08/Steam-Pump-Ranch-second-saturdays.jpg
END:VEVENT
END:VCALENDAR